BEGIN:VCALENDAR
VERSION:2.0
PRODID:-//Arkansas Outside - ECPv6.15.20//NONSGML v1.0//EN
CALSCALE:GREGORIAN
METHOD:PUBLISH
X-WR-CALNAME:Arkansas Outside
X-ORIGINAL-URL:https://arkansasoutside.com
X-WR-CALDESC:Events for Arkansas Outside
REFRESH-INTERVAL;VALUE=DURATION:PT1H
X-Robots-Tag:noindex
X-PUBLISHED-TTL:PT1H
BEGIN:VTIMEZONE
TZID:America/Chicago
BEGIN:DAYLIGHT
TZOFFSETFROM:-0600
TZOFFSETTO:-0500
TZNAME:CDT
DTSTART:20220313T080000
END:DAYLIGHT
BEGIN:STANDARD
TZOFFSETFROM:-0500
TZOFFSETTO:-0600
TZNAME:CST
DTSTART:20221106T070000
END:STANDARD
BEGIN:DAYLIGHT
TZOFFSETFROM:-0600
TZOFFSETTO:-0500
TZNAME:CDT
DTSTART:20230312T080000
END:DAYLIGHT
BEGIN:STANDARD
TZOFFSETFROM:-0500
TZOFFSETTO:-0600
TZNAME:CST
DTSTART:20231105T070000
END:STANDARD
BEGIN:DAYLIGHT
TZOFFSETFROM:-0600
TZOFFSETTO:-0500
TZNAME:CDT
DTSTART:20240310T080000
END:DAYLIGHT
BEGIN:STANDARD
TZOFFSETFROM:-0500
TZOFFSETTO:-0600
TZNAME:CST
DTSTART:20241103T070000
END:STANDARD
END:VTIMEZONE
BEGIN:VEVENT
DTSTART;VALUE=DATE:20230927
DTEND;VALUE=DATE:20231002
DTSTAMP:20260424T064337
CREATED:20230309T130616Z
LAST-MODIFIED:20230309T130616Z
UID:10000060-1695772800-1696204799@arkansasoutside.com
SUMMARY:24 Hours of Horseshoe Hell
DESCRIPTION:24 Hours of Horseshoe Hell is an endurance rock climbing competition and festival\, held annually on the last full weekend of September\, within the steep sandstone cliff walls of Horseshoe Canyon Ranch\, Jasper\, AR.  Teams of two have the opportunity to choose between a 12-hour and 24-hour event\, and the festival lasts five days with food\, camping\, music\, swag\, games\, competition\, parties\, and most of all fellowship.  Join our beautiful community\, and pack your costume!
URL:https://arkansasoutside.com/event/24-hours-of-horseshoe-hell/
LOCATION:Horseshoe Canyon Ranch\, HC 70\, 261\, Jasper\, AR\, 72641\, United States
CATEGORIES:Climbing
ATTACH;FMTTYPE=image/jpeg:https://arkansasoutside.com/wp-content/uploads/2023/03/24-HHH.jpg
END:VEVENT
BEGIN:VEVENT
DTSTART;VALUE=DATE:20230927
DTEND;VALUE=DATE:20231002
DTSTAMP:20260424T064337
CREATED:20230309T130616Z
LAST-MODIFIED:20230309T130616Z
UID:10001490-1695772800-1696204799@arkansasoutside.com
SUMMARY:24 Hours of Horseshoe Hell
DESCRIPTION:24 Hours of Horseshoe Hell is an endurance rock climbing competition and festival\, held annually on the last full weekend of September\, within the steep sandstone cliff walls of Horseshoe Canyon Ranch\, Jasper\, AR.  Teams of two have the opportunity to choose between a 12-hour and 24-hour event\, and the festival lasts five days with food\, camping\, music\, swag\, games\, competition\, parties\, and most of all fellowship.  Join our beautiful community\, and pack your costume!
URL:https://arkansasoutside.com/event/24-hours-of-horseshoe-hell-3/
LOCATION:Horseshoe Canyon Ranch\, HC 70\, 261\, Jasper\, AR\, 72641\, United States
CATEGORIES:Climbing
ATTACH;FMTTYPE=image/jpeg:https://arkansasoutside.com/wp-content/uploads/2023/03/24-HHH.jpg
END:VEVENT
BEGIN:VEVENT
DTSTART;VALUE=DATE:20231014
DTEND;VALUE=DATE:20231015
DTSTAMP:20260424T064337
CREATED:20230810T172649Z
LAST-MODIFIED:20230823T193956Z
UID:10000251-1697241600-1697327999@arkansasoutside.com
SUMMARY:King of the Crag
DESCRIPTION:The Nomads are proud to present King of the Crag 2023 Saturday\, October 14th. This will mark the 10th annual climbing competition held at the beautiful Jamestown Crag. We are back this year with a great list of sponsors\, awesome prizes\, cool swag\, food\, drinks\, and entertainment. This is the only fundraising event for the Jamestown Crag\, so please join us for an exciting weekend of climbing\, camping & community\, all while helping to support the growth of climbing and outdoor recreation in Arkansas. \nSport Climbing Competition \nPoint-Based:(each route is given a score based on rating\, height\, and overall difficulty) \n3 Divisions: \nRecreational – (5.6-5.9) \nAdvanced – (5.10-5.11A) \nRock God – (5.11B-5.13+) \nTop 5 red-point climbs (no falls or hanging) count for the day. In case of a tie\, the 6th\, 7th\, 8th\, and so on… routes climbed will count. \nCome enjoy an exciting weekend of climbing\, camping\, and community all while helping to insure continued access and the future development of the \nEvent details and schedule\nFriday- Oct.13th \nClimbers are encouraged to arrive and camp the day before to prepare for the competition. \nSaturday- Oct. 14th \nClimbing will begin at 10:00 am and last till 5:00 pm \nFood & Drinks provided when climbers check-in \nAfter party and awards ceremony will follow.
URL:https://arkansasoutside.com/event/king-of-the-crag/
LOCATION:Jamestown Crag\, 1650 Jamestown Loop\, Batesville\, AR\, 72501\, United States
CATEGORIES:Climbing
ATTACH;FMTTYPE=image/jpeg:https://arkansasoutside.com/wp-content/uploads/2021/09/14601060_1147505748661875_6925374826101530510_n.jpg
END:VEVENT
BEGIN:VEVENT
DTSTART;VALUE=DATE:20231014
DTEND;VALUE=DATE:20231015
DTSTAMP:20260424T064337
CREATED:20230810T172649Z
LAST-MODIFIED:20230810T172649Z
UID:10001671-1697241600-1697327999@arkansasoutside.com
SUMMARY:King of the Crag
DESCRIPTION:The Nomads are proud to present King of the Crag 2023 Saturday\, October 14th. This will mark the 10th annual climbing competition held at the beautiful Jamestown Crag. We are back this year with a great list of sponsors\, awesome prizes\, cool swag\, food\, drinks\, and entertainment. This is the only fundraising event for the Jamestown Crag\, so please join us for an exciting weekend of climbing\, camping & community\, all while helping to support the growth of climbing and outdoor recreation in Arkansas. \nSport Climbing Competition \nPoint-Based:(each route is given a score based on rating\, height\, and overall difficulty) \n3 Divisions: \nRecreational – (5.6-5.9) \nAdvanced – (5.10-5.11A) \nRock God – (5.11B-5.13+) \nTop 5 red-point climbs (no falls or hanging) count for the day. In case of a tie\, the 6th\, 7th\, 8th\, and so on… routes climbed will count. \nCome enjoy an exciting weekend of climbing\, camping\, and community all while helping to insure continued access and the future development of the \nEvent details and schedule\nFriday- Oct.13th \nClimbers are encouraged to arrive and camp the day before to prepare for the competition. \nSaturday- Oct. 14th \nClimbing will begin at 10:00 am and last till 5:00 pm \nFood & Drinks provided when climbers check-in \nAfter party and awards ceremony will follow.
URL:https://arkansasoutside.com/event/king-of-the-crag-2/
LOCATION:Jamestown Crag\, 1650 Jamestown Loop\, Batesville\, AR\, 72501\, United States
CATEGORIES:Climbing
ATTACH;FMTTYPE=image/jpeg:https://arkansasoutside.com/wp-content/uploads/2021/09/14601060_1147505748661875_6925374826101530510_n.jpg
END:VEVENT
BEGIN:VEVENT
DTSTART;TZID=America/Chicago:20231020T170000
DTEND;TZID=America/Chicago:20231022T180000
DTSTAMP:20260424T064337
CREATED:20230511T150131Z
LAST-MODIFIED:20231006T155458Z
UID:10000163-1697821200-1697997600@arkansasoutside.com
SUMMARY:Bad Jack’s Trail Fest
DESCRIPTION:Bringing together trail running\, Mountain Biking\, & Rock Climbing over a 3-day festival-style event. Free camping\, great food\, live music\, and a load of fun & games! \nFriday – 5k\nKickstart the weekend on the famed North Sylamore Creek Hiking Trail. \nThe 5k trail run traverses out of the hollow to a stunning view of the creek below. It is perfect for all ages and fitness levels with a generous time limit and fun festivities after the run. \nSaturday – 13.1 or 26.2\nTime to experience Bad Branch and Jack’s Branch Trails! \nThe Saturday Trail run is perfect for veteran trail runners or new trail runners looking to test their skills at Syllamo. \nBoth distances cover Jack’s Branch – a mix of big climbs\, flow\, and gnarly tech. Around 10 miles\, runners are treated to a stunning view of the Sylamore Creek Valley below. \nNew to 2023\, the 26.2-mile trail run will continue onto Bad Branch Trail. This loop is natural flow at its purest. It begs to be run fast and hard with short punchy climbs\, rolling hills\, but unrelenting terrain to keep you on your toes! \nSaturday – Climb\nBlanchard Springs is home to impressive rock formations. In the afternoon\, a bouldering competition is hosted by professional climbers. It’s an amazing opportunity to learn\, hone\, and test your skills. \nSunday – 16 or 26.2 Mile Mountain Bike Race\nNo trip to Syllamo would be complete without riding the legendary IMBA Epic trails. These old-school trails still hold true to their wild and rugged roots. \nThe 16 Mile race completes the Bad Branch Loop. This is perfect for entry-level mountain bikers or anyone looking for a fast course. \nThe 26.2 Mile race starts with Bad Branch and then continues to Jack’s Branch. This challenging but rewarding course is sure to test any rider and become a race they want to ride again and again.
URL:https://arkansasoutside.com/event/bad-jacks-trail-fest-2/
LOCATION:Blanchard Springs Recreation Area\, 1110 Blanchard\, Fifty Six\, AR\, United States
CATEGORIES:Climbing,Cycling (Road & Mountain),Multisport (Triathlon/Adventure Racing/Etc),Running (Trail & Road)
ATTACH;FMTTYPE=image/jpeg:https://arkansasoutside.com/wp-content/uploads/2023/05/BadJackLogoOriginal-1.jpg
ORGANIZER;CN="Syllamo Events":MAILTO:syllamoevents@gmail.com
END:VEVENT
BEGIN:VEVENT
DTSTART;TZID=America/Chicago:20231020T170000
DTEND;TZID=America/Chicago:20231022T180000
DTSTAMP:20260424T064337
CREATED:20230511T150131Z
LAST-MODIFIED:20230511T150131Z
UID:10001589-1697821200-1697997600@arkansasoutside.com
SUMMARY:Bad Jack’s Trail Fest
DESCRIPTION:Bringing together trail running\, Mountain Biking\, & Rock Climbing over a 3-day festival-style event. Free camping\, great food\, live music\, and a load of fun & games! \nFriday – 5k\nKickstart the weekend on the famed North Sylamore Creek Hiking Trail. \nThe 5k trail run traverses out of the hollow to a stunning view of the creek below. It is perfect for all ages and fitness levels with a generous time limit and fun festivities after the run. \nSaturday – 13.1 or 26.2\nTime to experience Bad Branch and Jack’s Branch Trails! \nThe Saturday Trail run is perfect for veteran trail runners or new trail runners looking to test their skills at Syllamo. \nBoth distances cover Jack’s Branch – a mix of big climbs\, flow\, and gnarly tech. Around 10 miles\, runners are treated to a stunning view of the Sylamore Creek Valley below. \nNew to 2023\, the 26.2-mile trail run will continue onto Bad Branch Trail. This loop is natural flow at its purest. It begs to be run fast and hard with short punchy climbs\, rolling hills\, but unrelenting terrain to keep you on your toes! \nSaturday – Climb\nBlanchard Springs is home to impressive rock formations. In the afternoon\, a bouldering competition is hosted by professional climbers. It’s an amazing opportunity to learn\, hone\, and test your skills. \nSunday – 16 or 26.2 Mile Mountain Bike Race\nNo trip to Syllamo would be complete without riding the legendary IMBA Epic trails. These old-school trails still hold true to their wild and rugged roots. \nThe 16 Mile race completes the Bad Branch Loop. This is perfect for entry-level mountain bikers or anyone looking for a fast course. \nThe 26.2 Mile race starts with Bad Branch and then continues to Jack’s Branch. This challenging but rewarding course is sure to test any rider and become a race they want to ride again and again.
URL:https://arkansasoutside.com/event/bad-jacks-trail-fest-2-2/
LOCATION:Blanchard Springs Recreation Area\, 1110 Blanchard\, Fifty Six\, AR\, United States
CATEGORIES:Climbing,Cycling (Road & Mountain),Multisport (Triathlon/Adventure Racing/Etc),Running (Trail & Road)
ATTACH;FMTTYPE=image/jpeg:https://arkansasoutside.com/wp-content/uploads/2023/05/BadJackLogoOriginal-1.jpg
ORGANIZER;CN="Syllamo Events":MAILTO:syllamoevents@gmail.com
END:VEVENT
END:VCALENDAR