BEGIN:VCALENDAR
VERSION:2.0
PRODID:-//Arkansas Outside - ECPv6.15.20//NONSGML v1.0//EN
CALSCALE:GREGORIAN
METHOD:PUBLISH
X-ORIGINAL-URL:https://arkansasoutside.com
X-WR-CALDESC:Events for Arkansas Outside
REFRESH-INTERVAL;VALUE=DURATION:PT1H
X-Robots-Tag:noindex
X-PUBLISHED-TTL:PT1H
BEGIN:VTIMEZONE
TZID:America/Chicago
BEGIN:DAYLIGHT
TZOFFSETFROM:-0600
TZOFFSETTO:-0500
TZNAME:CDT
DTSTART:20230312T080000
END:DAYLIGHT
BEGIN:STANDARD
TZOFFSETFROM:-0500
TZOFFSETTO:-0600
TZNAME:CST
DTSTART:20231105T070000
END:STANDARD
BEGIN:DAYLIGHT
TZOFFSETFROM:-0600
TZOFFSETTO:-0500
TZNAME:CDT
DTSTART:20240310T080000
END:DAYLIGHT
BEGIN:STANDARD
TZOFFSETFROM:-0500
TZOFFSETTO:-0600
TZNAME:CST
DTSTART:20241103T070000
END:STANDARD
BEGIN:DAYLIGHT
TZOFFSETFROM:-0600
TZOFFSETTO:-0500
TZNAME:CDT
DTSTART:20250309T080000
END:DAYLIGHT
BEGIN:STANDARD
TZOFFSETFROM:-0500
TZOFFSETTO:-0600
TZNAME:CST
DTSTART:20251102T070000
END:STANDARD
END:VTIMEZONE
BEGIN:VEVENT
DTSTART;TZID=America/Chicago:20240312T180000
DTEND;TZID=America/Chicago:20240312T190000
DTSTAMP:20260422T081040
CREATED:20240120T151343Z
LAST-MODIFIED:20240120T151528Z
UID:10000415-1710266400-1710270000@arkansasoutside.com
SUMMARY:Gym-to-Crag
DESCRIPTION:These will be one-hour discussions at local gyms to help the transition to the outdoors easier for those new to outdoor climbing. Topics will include seasons\, areas in AR\, camping\, tips per climbing discipline\, crag etiquette\, ethics\, and more! Come join us for a fun discussion with an ARCC board member\, whether you have been climbing outside a few times or never climbed outside at all!\n\n\nLook out for details about classes at your local gym coming out closer to their scheduled date. The classes are FREE to attend\, but gym rates and rules still apply. Looking forward to seeing you there!\n\nphoto by @richdard on Dusk til Dawn\, by @jdborg.rocks
URL:https://arkansasoutside.com/event/gym-to-crag-2/
LOCATION:Vertical Horizons\, 3625 S 91st St\, Fort Smith\, 72903\, United States
CATEGORIES:Climbing
ATTACH;FMTTYPE=image/jpeg:https://arkansasoutside.com/wp-content/uploads/2024/01/421135517_760185026148800_1109944731072909250_n.jpg
ORGANIZER;CN="Arkansas Climbers Coalition":MAILTO:info@arkansasclimbers.org
END:VEVENT
BEGIN:VEVENT
DTSTART;TZID=America/Chicago:20240312T180000
DTEND;TZID=America/Chicago:20240312T190000
DTSTAMP:20260422T081040
CREATED:20240120T151343Z
LAST-MODIFIED:20240120T151343Z
UID:10001828-1710266400-1710270000@arkansasoutside.com
SUMMARY:Gym-to-Crag
DESCRIPTION:These will be one-hour discussions at local gyms to help the transition to the outdoors easier for those new to outdoor climbing. Topics will include seasons\, areas in AR\, camping\, tips per climbing discipline\, crag etiquette\, ethics\, and more! Come join us for a fun discussion with an ARCC board member\, whether you have been climbing outside a few times or never climbed outside at all!\n\n\nLook out for details about classes at your local gym coming out closer to their scheduled date. The classes are FREE to attend\, but gym rates and rules still apply. Looking forward to seeing you there!\n\nphoto by @richdard on Dusk til Dawn\, by @jdborg.rocks
URL:https://arkansasoutside.com/event/gym-to-crag-2-2/
LOCATION:Vertical Horizons\, 3625 S 91st St\, Fort Smith\, 72903\, United States
CATEGORIES:Climbing
ATTACH;FMTTYPE=image/jpeg:https://arkansasoutside.com/wp-content/uploads/2024/01/421135517_760185026148800_1109944731072909250_n.jpg
ORGANIZER;CN="Arkansas Climbers Coalition":MAILTO:info@arkansasclimbers.org
END:VEVENT
BEGIN:VEVENT
DTSTART;VALUE=DATE:20240329
DTEND;VALUE=DATE:20240401
DTSTAMP:20260422T081040
CREATED:20240121T130942Z
LAST-MODIFIED:20240121T130942Z
UID:10000419-1711670400-1711929599@arkansasoutside.com
SUMMARY:Arkansas Climbers Festival
DESCRIPTION:The goal of this event is to bring together our community to learn new skills in many different areas of Rock Climbing! We will be bringing in experts in their fields to provide high-quality training. \nThe General Admission ticket will include camping and climbing passes to Horseshoe Canyon Ranch\, dinner on Saturday night\, and access to all workshops. Special clinics will need to be purchased as an add-on. \nClinics will be broken into morning and afternoon sessions. Space is limited to first come first serve.\nWorkshops are open to all\, and are designed to be informative and fun! These will be shorter\, giving those who want to climb during the day the ability to do so as well as take a short class and have fun. \nWe hope that you leave the weekend with new skills and new friends!
URL:https://arkansasoutside.com/event/arkansas-climbers-festival-2/
LOCATION:Horseshoe Canyon Ranch\, HC 70\, 261\, Jasper\, AR\, 72641\, United States
CATEGORIES:Climbing
ATTACH;FMTTYPE=image/jpeg:https://arkansasoutside.com/wp-content/uploads/2022/12/ARClimbingCoalition.jpg
ORGANIZER;CN="Arkansas Climbers Coalition":MAILTO:info@arkansasclimbers.org
END:VEVENT
BEGIN:VEVENT
DTSTART;VALUE=DATE:20240329
DTEND;VALUE=DATE:20240401
DTSTAMP:20260422T081040
CREATED:20240121T130942Z
LAST-MODIFIED:20240121T130942Z
UID:10001832-1711670400-1711929599@arkansasoutside.com
SUMMARY:Arkansas Climbers Festival
DESCRIPTION:The goal of this event is to bring together our community to learn new skills in many different areas of Rock Climbing! We will be bringing in experts in their fields to provide high-quality training. \nThe General Admission ticket will include camping and climbing passes to Horseshoe Canyon Ranch\, dinner on Saturday night\, and access to all workshops. Special clinics will need to be purchased as an add-on. \nClinics will be broken into morning and afternoon sessions. Space is limited to first come first serve.\nWorkshops are open to all\, and are designed to be informative and fun! These will be shorter\, giving those who want to climb during the day the ability to do so as well as take a short class and have fun. \nWe hope that you leave the weekend with new skills and new friends!
URL:https://arkansasoutside.com/event/arkansas-climbers-festival-2-2/
LOCATION:Horseshoe Canyon Ranch\, HC 70\, 261\, Jasper\, AR\, 72641\, United States
CATEGORIES:Climbing
ATTACH;FMTTYPE=image/jpeg:https://arkansasoutside.com/wp-content/uploads/2022/12/ARClimbingCoalition.jpg
ORGANIZER;CN="Arkansas Climbers Coalition":MAILTO:info@arkansasclimbers.org
END:VEVENT
END:VCALENDAR