BEGIN:VCALENDAR
VERSION:2.0
PRODID:-//Arkansas Outside - ECPv6.15.20//NONSGML v1.0//EN
CALSCALE:GREGORIAN
METHOD:PUBLISH
X-WR-CALNAME:Arkansas Outside
X-ORIGINAL-URL:https://arkansasoutside.com
X-WR-CALDESC:Events for Arkansas Outside
REFRESH-INTERVAL;VALUE=DURATION:PT1H
X-Robots-Tag:noindex
X-PUBLISHED-TTL:PT1H
BEGIN:VTIMEZONE
TZID:America/Chicago
BEGIN:DAYLIGHT
TZOFFSETFROM:-0600
TZOFFSETTO:-0500
TZNAME:CDT
DTSTART:20220313T080000
END:DAYLIGHT
BEGIN:STANDARD
TZOFFSETFROM:-0500
TZOFFSETTO:-0600
TZNAME:CST
DTSTART:20221106T070000
END:STANDARD
BEGIN:DAYLIGHT
TZOFFSETFROM:-0600
TZOFFSETTO:-0500
TZNAME:CDT
DTSTART:20230312T080000
END:DAYLIGHT
BEGIN:STANDARD
TZOFFSETFROM:-0500
TZOFFSETTO:-0600
TZNAME:CST
DTSTART:20231105T070000
END:STANDARD
BEGIN:DAYLIGHT
TZOFFSETFROM:-0600
TZOFFSETTO:-0500
TZNAME:CDT
DTSTART:20240310T080000
END:DAYLIGHT
BEGIN:STANDARD
TZOFFSETFROM:-0500
TZOFFSETTO:-0600
TZNAME:CST
DTSTART:20241103T070000
END:STANDARD
BEGIN:DAYLIGHT
TZOFFSETFROM:-0600
TZOFFSETTO:-0500
TZNAME:CDT
DTSTART:20250309T080000
END:DAYLIGHT
BEGIN:STANDARD
TZOFFSETFROM:-0500
TZOFFSETTO:-0600
TZNAME:CST
DTSTART:20251102T070000
END:STANDARD
END:VTIMEZONE
BEGIN:VEVENT
DTSTART;TZID=America/Chicago:20231202T120000
DTEND;TZID=America/Chicago:20231203T130000
DTSTAMP:20260423T064509
CREATED:20231031T122242Z
LAST-MODIFIED:20231031T122242Z
UID:10001742-1701518400-1701608400@arkansasoutside.com
SUMMARY:Intro to Multi-Day Hiking
DESCRIPTION:Embark on an unforgettable adventure in the stunning Hobbs Park as we delve into the world of overnight hiking. Led by experienced guides\, this course is designed for beginners\, offering a safe and enjoyable experience in the great outdoors. Learn essential hiking skills\, campsite setup\, and navigation techniques specific to winter conditions. As you trek through picturesque landscapes\, you’ll gain confidence and knowledge to embark on future overnight hiking trips. Prepare to connect with nature\, bond with fellow adventurers\, and create lasting memories in the beautiful wilderness of Northwest Arkansas. Join us for an enriching and invigorating weekend in December that will leave you inspired to explore even more of the great outdoors!
URL:https://arkansasoutside.com/event/intro-to-multi-day-hiking-2/
LOCATION:Hobbs State Park Visitor Center\, 20201 East Hwy. 12\, Rogers\, AR\, 72756\, United States
CATEGORIES:Hiking/Backpacking/Camping
ATTACH;FMTTYPE=image/jpeg:https://arkansasoutside.com/wp-content/uploads/2023/10/tent.jpeg
END:VEVENT
BEGIN:VEVENT
DTSTART;TZID=America/Chicago:20231202T120000
DTEND;TZID=America/Chicago:20231203T130000
DTSTAMP:20260423T064509
CREATED:20231031T122242Z
LAST-MODIFIED:20231031T122242Z
UID:10000322-1701518400-1701608400@arkansasoutside.com
SUMMARY:Intro to Multi-Day Hiking
DESCRIPTION:Embark on an unforgettable adventure in the stunning Hobbs Park as we delve into the world of overnight hiking. Led by experienced guides\, this course is designed for beginners\, offering a safe and enjoyable experience in the great outdoors. Learn essential hiking skills\, campsite setup\, and navigation techniques specific to winter conditions. As you trek through picturesque landscapes\, you’ll gain confidence and knowledge to embark on future overnight hiking trips. Prepare to connect with nature\, bond with fellow adventurers\, and create lasting memories in the beautiful wilderness of Northwest Arkansas. Join us for an enriching and invigorating weekend in December that will leave you inspired to explore even more of the great outdoors!
URL:https://arkansasoutside.com/event/intro-to-multi-day-hiking/
LOCATION:Hobbs State Park Visitor Center\, 20201 East Hwy. 12\, Rogers\, AR\, 72756\, United States
CATEGORIES:Hiking/Backpacking/Camping
ATTACH;FMTTYPE=image/jpeg:https://arkansasoutside.com/wp-content/uploads/2023/10/tent.jpeg
END:VEVENT
BEGIN:VEVENT
DTSTART;VALUE=DATE:20231230
DTEND;VALUE=DATE:20240102
DTSTAMP:20260423T064509
CREATED:20231219T164351Z
LAST-MODIFIED:20231221T153905Z
UID:10000367-1703894400-1704153599@arkansasoutside.com
SUMMARY:First Day Hikes - 2024
DESCRIPTION:First Day Hikes are focused on healthy habits and lifelong memories. \nThis year for First Day Hikes Arkansas State Parks will offer guided hikes at many Arkansas State Parks\, as well as encourage self-guided walks and hikes on the “New Year Weekend\,” (Dec. 30-Jan. 1) for those who would like to explore on their own.
URL:https://arkansasoutside.com/event/first-day-hikes-2024/
CATEGORIES:Hiking/Backpacking/Camping
ATTACH;FMTTYPE=image/png:https://arkansasoutside.com/wp-content/uploads/2023/12/First-Day-Hikes-2024.png
END:VEVENT
BEGIN:VEVENT
DTSTART;VALUE=DATE:20231230
DTEND;VALUE=DATE:20240102
DTSTAMP:20260423T064509
CREATED:20231219T164351Z
LAST-MODIFIED:20231219T164351Z
UID:10001784-1703894400-1704153599@arkansasoutside.com
SUMMARY:First Day Hikes - 2024
DESCRIPTION:First Day Hikes are focused on healthy habits and lifelong memories. \nThis year for First Day Hikes Arkansas State Parks will offer guided hikes at many Arkansas State Parks\, as well as encourage self-guided walks and hikes on the “New Year Weekend\,” (Dec. 30-Jan. 1) for those who would like to explore on their own.
URL:https://arkansasoutside.com/event/first-day-hikes-2024-2/
CATEGORIES:Hiking/Backpacking/Camping
ATTACH;FMTTYPE=image/png:https://arkansasoutside.com/wp-content/uploads/2023/12/First-Day-Hikes-2024.png
END:VEVENT
END:VCALENDAR