BEGIN:VCALENDAR
VERSION:2.0
PRODID:-//Arkansas Outside - ECPv6.15.20//NONSGML v1.0//EN
CALSCALE:GREGORIAN
METHOD:PUBLISH
X-ORIGINAL-URL:https://arkansasoutside.com
X-WR-CALDESC:Events for Arkansas Outside
REFRESH-INTERVAL;VALUE=DURATION:PT1H
X-Robots-Tag:noindex
X-PUBLISHED-TTL:PT1H
BEGIN:VTIMEZONE
TZID:America/Chicago
BEGIN:DAYLIGHT
TZOFFSETFROM:-0600
TZOFFSETTO:-0500
TZNAME:CDT
DTSTART:20220313T080000
END:DAYLIGHT
BEGIN:STANDARD
TZOFFSETFROM:-0500
TZOFFSETTO:-0600
TZNAME:CST
DTSTART:20221106T070000
END:STANDARD
BEGIN:DAYLIGHT
TZOFFSETFROM:-0600
TZOFFSETTO:-0500
TZNAME:CDT
DTSTART:20230312T080000
END:DAYLIGHT
BEGIN:STANDARD
TZOFFSETFROM:-0500
TZOFFSETTO:-0600
TZNAME:CST
DTSTART:20231105T070000
END:STANDARD
BEGIN:DAYLIGHT
TZOFFSETFROM:-0600
TZOFFSETTO:-0500
TZNAME:CDT
DTSTART:20240310T080000
END:DAYLIGHT
BEGIN:STANDARD
TZOFFSETFROM:-0500
TZOFFSETTO:-0600
TZNAME:CST
DTSTART:20241103T070000
END:STANDARD
END:VTIMEZONE
BEGIN:VEVENT
DTSTART;TZID=America/Chicago:20231104T120000
DTEND;TZID=America/Chicago:20231105T130000
DTSTAMP:20260421T131233
CREATED:20231016T112342Z
LAST-MODIFIED:20231016T112342Z
UID:10000306-1699099200-1699189200@arkansasoutside.com
SUMMARY:Navigation Training at Hobbs State Park
DESCRIPTION:Join Outdoor Education Services this November for an immersive outdoor education experience in Hobbs State Park! You’ll learn essential navigation skills using a map and compass\, such as reading topographic maps\, plotting bearings and routes\, understanding the terrain\, and orienting yourself in the wilderness\, all while exploring the breathtaking natural beauty of the park. Whether you’re a beginner or a seasoned adventurer\, our expert instructors will guide you through the wilderness\, ensuring you gain the confidence to navigate with ease.\nBook at outdooreducationservices.com and check us out on Instagram and Facebook!
URL:https://arkansasoutside.com/event/navigation-training-at-hobbs-state-park/
LOCATION:Hobbs State Park Visitor Center\, 20201 East Hwy. 12\, Rogers\, AR\, 72756\, United States
CATEGORIES:Multisport (Triathlon/Adventure Racing/Etc),Other Fun
ATTACH;FMTTYPE=image/jpeg:https://arkansasoutside.com/wp-content/uploads/2023/10/navigation-with-hands.jpeg
END:VEVENT
BEGIN:VEVENT
DTSTART;TZID=America/Chicago:20231104T120000
DTEND;TZID=America/Chicago:20231105T130000
DTSTAMP:20260421T131233
CREATED:20231016T112342Z
LAST-MODIFIED:20231016T112342Z
UID:10001726-1699099200-1699189200@arkansasoutside.com
SUMMARY:Navigation Training at Hobbs State Park
DESCRIPTION:Join Outdoor Education Services this November for an immersive outdoor education experience in Hobbs State Park! You’ll learn essential navigation skills using a map and compass\, such as reading topographic maps\, plotting bearings and routes\, understanding the terrain\, and orienting yourself in the wilderness\, all while exploring the breathtaking natural beauty of the park. Whether you’re a beginner or a seasoned adventurer\, our expert instructors will guide you through the wilderness\, ensuring you gain the confidence to navigate with ease.\nBook at outdooreducationservices.com and check us out on Instagram and Facebook!
URL:https://arkansasoutside.com/event/navigation-training-at-hobbs-state-park-2/
LOCATION:Hobbs State Park Visitor Center\, 20201 East Hwy. 12\, Rogers\, AR\, 72756\, United States
CATEGORIES:Multisport (Triathlon/Adventure Racing/Etc),Other Fun
ATTACH;FMTTYPE=image/jpeg:https://arkansasoutside.com/wp-content/uploads/2023/10/navigation-with-hands.jpeg
END:VEVENT
BEGIN:VEVENT
DTSTART;TZID=America/Chicago:20231130T183000
DTEND;TZID=America/Chicago:20231130T210000
DTSTAMP:20260421T131233
CREATED:20231127T180902Z
LAST-MODIFIED:20231127T180902Z
UID:10001775-1701369000-1701378000@arkansasoutside.com
SUMMARY:Expedition Ozark Info Session - The Ultimate Ozarks Endurance Challenge.
DESCRIPTION:Join us at Airship at the Pumphouse. Wondering what in the world the sport of Adventure Racing is all about? Join us for a fun evening to learn about this growing sport and hear more about Expedition Ozark.\n\nThe evening will be very informal with highlight videos and a panel discussion with the Race Directors and Last Year Racers. After some words from the RD’s and a panel discussion we will have a great deal of time for Q/A!\n\nWhether you are interested in racing\, volunteering\, sponsoring\, or just curious about the sport – this is the event for you! Come out for a fun evening with other adventurers and tasty food and drinks!\n\nThe 2nd year of Expedition Ozark is Expedition style Adventure Race\, challenging teams to run\, bike and paddle 350+ miles through the magnificent scenery of the Ozark Mountains over 5 days. The race is part of the Adventure Racing World Series and is USARA sanctioned.
URL:https://arkansasoutside.com/event/expedition-ozark-info-session-the-ultimate-ozarks-endurance-challenge-2/
LOCATION:Airship at the Pumphouse\, 802 NW A St\,\, Bentonville\, 72712\, United States
CATEGORIES:Multisport (Triathlon/Adventure Racing/Etc)
ATTACH;FMTTYPE=image/jpeg:https://arkansasoutside.com/wp-content/uploads/2023/11/403160219_326283810149023_4944209257810089669_n.jpg
END:VEVENT
BEGIN:VEVENT
DTSTART;TZID=America/Chicago:20231130T183000
DTEND;TZID=America/Chicago:20231130T210000
DTSTAMP:20260421T131233
CREATED:20231127T180902Z
LAST-MODIFIED:20231127T180902Z
UID:10000356-1701369000-1701378000@arkansasoutside.com
SUMMARY:Expedition Ozark Info Session - The Ultimate Ozarks Endurance Challenge.
DESCRIPTION:Join us at Airship at the Pumphouse. Wondering what in the world the sport of Adventure Racing is all about? Join us for a fun evening to learn about this growing sport and hear more about Expedition Ozark.\n\nThe evening will be very informal with highlight videos and a panel discussion with the Race Directors and Last Year Racers. After some words from the RD’s and a panel discussion we will have a great deal of time for Q/A!\n\nWhether you are interested in racing\, volunteering\, sponsoring\, or just curious about the sport – this is the event for you! Come out for a fun evening with other adventurers and tasty food and drinks!\n\nThe 2nd year of Expedition Ozark is Expedition style Adventure Race\, challenging teams to run\, bike and paddle 350+ miles through the magnificent scenery of the Ozark Mountains over 5 days. The race is part of the Adventure Racing World Series and is USARA sanctioned.
URL:https://arkansasoutside.com/event/expedition-ozark-info-session-the-ultimate-ozarks-endurance-challenge/
LOCATION:Airship at the Pumphouse\, 802 NW A St\,\, Bentonville\, 72712\, United States
CATEGORIES:Multisport (Triathlon/Adventure Racing/Etc)
ATTACH;FMTTYPE=image/jpeg:https://arkansasoutside.com/wp-content/uploads/2023/11/403160219_326283810149023_4944209257810089669_n.jpg
END:VEVENT
END:VCALENDAR