BEGIN:VCALENDAR
VERSION:2.0
PRODID:-//Arkansas Outside - ECPv6.15.20//NONSGML v1.0//EN
CALSCALE:GREGORIAN
METHOD:PUBLISH
X-ORIGINAL-URL:https://arkansasoutside.com
X-WR-CALDESC:Events for Arkansas Outside
REFRESH-INTERVAL;VALUE=DURATION:PT1H
X-Robots-Tag:noindex
X-PUBLISHED-TTL:PT1H
BEGIN:VTIMEZONE
TZID:America/Chicago
BEGIN:DAYLIGHT
TZOFFSETFROM:-0600
TZOFFSETTO:-0500
TZNAME:CDT
DTSTART:20220313T080000
END:DAYLIGHT
BEGIN:STANDARD
TZOFFSETFROM:-0500
TZOFFSETTO:-0600
TZNAME:CST
DTSTART:20221106T070000
END:STANDARD
BEGIN:DAYLIGHT
TZOFFSETFROM:-0600
TZOFFSETTO:-0500
TZNAME:CDT
DTSTART:20230312T080000
END:DAYLIGHT
BEGIN:STANDARD
TZOFFSETFROM:-0500
TZOFFSETTO:-0600
TZNAME:CST
DTSTART:20231105T070000
END:STANDARD
BEGIN:DAYLIGHT
TZOFFSETFROM:-0600
TZOFFSETTO:-0500
TZNAME:CDT
DTSTART:20240310T080000
END:DAYLIGHT
BEGIN:STANDARD
TZOFFSETFROM:-0500
TZOFFSETTO:-0600
TZNAME:CST
DTSTART:20241103T070000
END:STANDARD
END:VTIMEZONE
BEGIN:VEVENT
DTSTART;VALUE=DATE:20230910
DTEND;VALUE=DATE:20230911
DTSTAMP:20260422T165135
CREATED:20230308T211145Z
LAST-MODIFIED:20230308T211145Z
UID:10000042-1694304000-1694390399@arkansasoutside.com
SUMMARY:DeGray Lake Triathlon
DESCRIPTION:One of the original multisport festivals in Arkansas…the DeGray Lake Triathlon will feature three triathlon distances (olympic\, sprint and super sprint)\, a duathlon (sprint)\, aquabike (olympic) and an open water swim (olympic). There will be a team category for the olympic triathlon. \nDeGray Lake is a reservoir on the Caddo River in Arkansas. This beautiful lake and surrounding Ouachita mountains near Hot Springs and Little Rock is an Arkansas resort state park. \nOlympic Triathlon: 1\,500 meter swim\, 42 kilometer bike\, 10 kilometer run.  Individuals and teams.\nSprint Triathlon: 500 yard swim\, 13.5 mile bike\, 5K run.  Individuals only\nSuper Sprint Triathlon: 225 yard swim\, 6 mile bike\, 2 mile run.  Individuals only\nSprint Duathlon: Run 1: 2 miles\, Bike: 13.5 miles  Run 2:  3.1 miles\nAquabike (swim and bike only): 1\,500 meter swim\, 42 kilometer bike.  Individuals only\nOpen Water Swim: 1\,500 meter swim \nRace Venue Information: \n\nDeGray Lake\,  AR located just outside of Caddo Valley\n2.5 miles North on Hwy 7 from Interstate 30\, exit 78.  Turn left onto Skyline Drive.\nSpillway Trail Head (The Spillway Dam Area) is rougly 8/10ths of a mile west of the intersection of Skyline Dr and Hwy 7.\nGoogle map coordinates – https://goo.gl/maps/Uz7c5ZuonT9pucF18\n\n\n\n\n\n\n\nENTRY FEES PRICED WITH A T-SHIRT\n\nEntry Fees are priced with a ringspun cotton t-shirt\, but a participant has the option to select no t-shirt and SAVE $5 or upgrade fabric to a full sublimated technical wicking fabric shirt for $15. Shirt size is not guaranteed after Aug 24. If a shirt is ordered and the size is not available then a refund will be issued at packet pickup. \nRace T-Shirt Fabric Options and Styles: \n\nNO Shirt Option – Save $5\nRingspun Cotton T-shirt (NO CHARGE) – 100% cotton unisex sizing.\nFully Sublimated Technical T-shirt ($15 upgrade fee) – A true moisture-wicking-fabric shirt that has been engineered to keep you dry while you exercise. There are plenty of polyester shirts out there\, but this one is the real deal. Both men’s and women’s specific sizing.  An example can be viewed HERE
URL:https://arkansasoutside.com/event/degray-lake-triathlon/
LOCATION:DeGray Lake Spillway\, 400 Skyline Dr\, Arkadelphia\, AR\, 71923\, United States
CATEGORIES:Multisport (Triathlon/Adventure Racing/Etc)
ATTACH;FMTTYPE=image/jpeg:https://arkansasoutside.com/wp-content/uploads/2023/01/307875042_531459152119726_4449539559676185718_n.jpg
ORGANIZER;CN="All Sports Productions":MAILTO:bruce@allsportsproductionsinc.com
END:VEVENT
BEGIN:VEVENT
DTSTART;VALUE=DATE:20230910
DTEND;VALUE=DATE:20230911
DTSTAMP:20260422T165135
CREATED:20230308T211145Z
LAST-MODIFIED:20230308T211145Z
UID:10001472-1694304000-1694390399@arkansasoutside.com
SUMMARY:DeGray Lake Triathlon
DESCRIPTION:One of the original multisport festivals in Arkansas…the DeGray Lake Triathlon will feature three triathlon distances (olympic\, sprint and super sprint)\, a duathlon (sprint)\, aquabike (olympic) and an open water swim (olympic). There will be a team category for the olympic triathlon. \nDeGray Lake is a reservoir on the Caddo River in Arkansas. This beautiful lake and surrounding Ouachita mountains near Hot Springs and Little Rock is an Arkansas resort state park. \nOlympic Triathlon: 1\,500 meter swim\, 42 kilometer bike\, 10 kilometer run.  Individuals and teams.\nSprint Triathlon: 500 yard swim\, 13.5 mile bike\, 5K run.  Individuals only\nSuper Sprint Triathlon: 225 yard swim\, 6 mile bike\, 2 mile run.  Individuals only\nSprint Duathlon: Run 1: 2 miles\, Bike: 13.5 miles  Run 2:  3.1 miles\nAquabike (swim and bike only): 1\,500 meter swim\, 42 kilometer bike.  Individuals only\nOpen Water Swim: 1\,500 meter swim \nRace Venue Information: \n\nDeGray Lake\,  AR located just outside of Caddo Valley\n2.5 miles North on Hwy 7 from Interstate 30\, exit 78.  Turn left onto Skyline Drive.\nSpillway Trail Head (The Spillway Dam Area) is rougly 8/10ths of a mile west of the intersection of Skyline Dr and Hwy 7.\nGoogle map coordinates – https://goo.gl/maps/Uz7c5ZuonT9pucF18\n\n\n\n\n\n\n\nENTRY FEES PRICED WITH A T-SHIRT\n\nEntry Fees are priced with a ringspun cotton t-shirt\, but a participant has the option to select no t-shirt and SAVE $5 or upgrade fabric to a full sublimated technical wicking fabric shirt for $15. Shirt size is not guaranteed after Aug 24. If a shirt is ordered and the size is not available then a refund will be issued at packet pickup. \nRace T-Shirt Fabric Options and Styles: \n\nNO Shirt Option – Save $5\nRingspun Cotton T-shirt (NO CHARGE) – 100% cotton unisex sizing.\nFully Sublimated Technical T-shirt ($15 upgrade fee) – A true moisture-wicking-fabric shirt that has been engineered to keep you dry while you exercise. There are plenty of polyester shirts out there\, but this one is the real deal. Both men’s and women’s specific sizing.  An example can be viewed HERE
URL:https://arkansasoutside.com/event/degray-lake-triathlon-3/
LOCATION:DeGray Lake Spillway\, 400 Skyline Dr\, Arkadelphia\, AR\, 71923\, United States
CATEGORIES:Multisport (Triathlon/Adventure Racing/Etc)
ATTACH;FMTTYPE=image/jpeg:https://arkansasoutside.com/wp-content/uploads/2023/01/307875042_531459152119726_4449539559676185718_n.jpg
ORGANIZER;CN="All Sports Productions":MAILTO:bruce@allsportsproductionsinc.com
END:VEVENT
END:VCALENDAR