BEGIN:VCALENDAR
VERSION:2.0
PRODID:-//Arkansas Outside - ECPv6.15.20//NONSGML v1.0//EN
CALSCALE:GREGORIAN
METHOD:PUBLISH
X-ORIGINAL-URL:https://arkansasoutside.com
X-WR-CALDESC:Events for Arkansas Outside
REFRESH-INTERVAL;VALUE=DURATION:PT1H
X-Robots-Tag:noindex
X-PUBLISHED-TTL:PT1H
BEGIN:VTIMEZONE
TZID:America/Chicago
BEGIN:DAYLIGHT
TZOFFSETFROM:-0600
TZOFFSETTO:-0500
TZNAME:CDT
DTSTART:20220313T080000
END:DAYLIGHT
BEGIN:STANDARD
TZOFFSETFROM:-0500
TZOFFSETTO:-0600
TZNAME:CST
DTSTART:20221106T070000
END:STANDARD
BEGIN:DAYLIGHT
TZOFFSETFROM:-0600
TZOFFSETTO:-0500
TZNAME:CDT
DTSTART:20230312T080000
END:DAYLIGHT
BEGIN:STANDARD
TZOFFSETFROM:-0500
TZOFFSETTO:-0600
TZNAME:CST
DTSTART:20231105T070000
END:STANDARD
BEGIN:DAYLIGHT
TZOFFSETFROM:-0600
TZOFFSETTO:-0500
TZNAME:CDT
DTSTART:20240310T080000
END:DAYLIGHT
BEGIN:STANDARD
TZOFFSETFROM:-0500
TZOFFSETTO:-0600
TZNAME:CST
DTSTART:20241103T070000
END:STANDARD
END:VTIMEZONE
BEGIN:VEVENT
DTSTART;VALUE=DATE:20230429
DTEND;VALUE=DATE:20230430
DTSTAMP:20260421T175040
CREATED:20230308T193216Z
LAST-MODIFIED:20230308T193216Z
UID:10000030-1682726400-1682812799@arkansasoutside.com
SUMMARY:Saline River Canoe Race
DESCRIPTION:Benton Parks and Recreation is pleased to announce the Saline River Canoe Race & Family Festival in partnership with Saline River Canoe. This event hasn’t been hosted since 2018 and we are making a comeback! Custom trophies\, medals\, and shirts for participants.
URL:https://arkansasoutside.com/event/saline-river-canoe-race/
LOCATION:Lyle Park\, 2 Rivercrest Cir\, Benton\, AR\, 72015\, United States
CATEGORIES:Paddling
ATTACH;FMTTYPE=image/jpeg:https://arkansasoutside.com/wp-content/uploads/2023/02/SRCR.jpg
END:VEVENT
BEGIN:VEVENT
DTSTART;VALUE=DATE:20230429
DTEND;VALUE=DATE:20230430
DTSTAMP:20260421T175040
CREATED:20230308T193216Z
LAST-MODIFIED:20230308T193216Z
UID:10001460-1682726400-1682812799@arkansasoutside.com
SUMMARY:Saline River Canoe Race
DESCRIPTION:Benton Parks and Recreation is pleased to announce the Saline River Canoe Race & Family Festival in partnership with Saline River Canoe. This event hasn’t been hosted since 2018 and we are making a comeback! Custom trophies\, medals\, and shirts for participants.
URL:https://arkansasoutside.com/event/saline-river-canoe-race-2/
LOCATION:Lyle Park\, 2 Rivercrest Cir\, Benton\, AR\, 72015\, United States
CATEGORIES:Paddling
ATTACH;FMTTYPE=image/jpeg:https://arkansasoutside.com/wp-content/uploads/2023/02/SRCR.jpg
END:VEVENT
END:VCALENDAR