BEGIN:VCALENDAR
VERSION:2.0
PRODID:-//Arkansas Outside - ECPv6.15.20//NONSGML v1.0//EN
CALSCALE:GREGORIAN
METHOD:PUBLISH
X-WR-CALNAME:Arkansas Outside
X-ORIGINAL-URL:https://arkansasoutside.com
X-WR-CALDESC:Events for Arkansas Outside
REFRESH-INTERVAL;VALUE=DURATION:PT1H
X-Robots-Tag:noindex
X-PUBLISHED-TTL:PT1H
BEGIN:VTIMEZONE
TZID:America/Chicago
BEGIN:DAYLIGHT
TZOFFSETFROM:-0600
TZOFFSETTO:-0500
TZNAME:CDT
DTSTART:20230312T080000
END:DAYLIGHT
BEGIN:STANDARD
TZOFFSETFROM:-0500
TZOFFSETTO:-0600
TZNAME:CST
DTSTART:20231105T070000
END:STANDARD
BEGIN:DAYLIGHT
TZOFFSETFROM:-0600
TZOFFSETTO:-0500
TZNAME:CDT
DTSTART:20240310T080000
END:DAYLIGHT
BEGIN:STANDARD
TZOFFSETFROM:-0500
TZOFFSETTO:-0600
TZNAME:CST
DTSTART:20241103T070000
END:STANDARD
BEGIN:DAYLIGHT
TZOFFSETFROM:-0600
TZOFFSETTO:-0500
TZNAME:CDT
DTSTART:20250309T080000
END:DAYLIGHT
BEGIN:STANDARD
TZOFFSETFROM:-0500
TZOFFSETTO:-0600
TZNAME:CST
DTSTART:20251102T070000
END:STANDARD
END:VTIMEZONE
BEGIN:VEVENT
DTSTART;TZID=America/Chicago:20240427T080000
DTEND;TZID=America/Chicago:20240427T140000
DTSTAMP:20260422T022932
CREATED:20240417T222710Z
LAST-MODIFIED:20240417T222911Z
UID:10000507-1714204800-1714226400@arkansasoutside.com
SUMMARY:Madison County Kings River Clean Up
DESCRIPTION:Madison County Cleanup; meet at the Marble access April 27 at 8am sharp.
URL:https://arkansasoutside.com/event/madison-county-kings-river-clean-up/
LOCATION:Marble Access Of The Kings River\, 413 Madison 1919\, Huntsville\, 72740\, United States
CATEGORIES:Advocacy,Trail Love Day
ATTACH;FMTTYPE=image/jpeg:https://arkansasoutside.com/wp-content/uploads/2024/04/420223347_806775644830054_2661921797763915364_n.jpg
END:VEVENT
BEGIN:VEVENT
DTSTART;TZID=America/Chicago:20240427T080000
DTEND;TZID=America/Chicago:20240427T140000
DTSTAMP:20260422T022932
CREATED:20240417T222710Z
LAST-MODIFIED:20240417T222710Z
UID:10001909-1714204800-1714226400@arkansasoutside.com
SUMMARY:Madison County Kings River Clean Up
DESCRIPTION:Madison County Cleanup; meet at the Marble access April 27 at 8am sharp.
URL:https://arkansasoutside.com/event/madison-county-kings-river-clean-up-2/
LOCATION:Marble Access Of The Kings River\, 413 Madison 1919\, Huntsville\, 72740\, United States
CATEGORIES:Advocacy,Trail Love Day
ATTACH;FMTTYPE=image/jpeg:https://arkansasoutside.com/wp-content/uploads/2024/04/420223347_806775644830054_2661921797763915364_n.jpg
END:VEVENT
BEGIN:VEVENT
DTSTART;TZID=America/Chicago:20240427T080000
DTEND;TZID=America/Chicago:20240427T170000
DTSTAMP:20260422T022932
CREATED:20240112T163619Z
LAST-MODIFIED:20240112T163619Z
UID:10001796-1714204800-1714237200@arkansasoutside.com
SUMMARY:Highlands Gravel Classic
DESCRIPTION:The Highlands Gravel Classic is the only age-group qualifier in the USA for the Trek UCI Gravel World Series (GWS) as 1 of 2 qualifying events in North America.The GWS will include both new and existing events from around the world as part of the series to qualify competitors to attend the world championships in October.  Selection to the world championships will be per age group and gender.  The top 25% finishers of ages 19-34 and then every 5-year age groups (ex 35-39) with age groups seperated by gender will qualify. There is a U19 age category\, but it is NOT a qualifier category. \nHighlands Gravel Classic will have 2 courses…the Highlands – 66 miles and Farmlands – 52 miles.  The 66 mile course is for Males (19-59) and Females (19-49). 52 mile course is for Males 60+ and Females 50+. \nField Participant Caps: \n\nFarmlands course – 500 total riders\nHighlands course – 600 total riders
URL:https://arkansasoutside.com/event/highlands-gravel-classic-2-2/
LOCATION:Goshen Community Center\, 244 Clark Street\, Elkins\, 72727\, United States
CATEGORIES:Cycling (Road & Mountain)
ATTACH;FMTTYPE=image/jpeg:https://arkansasoutside.com/wp-content/uploads/2022/03/race124365-logo.jpg
ORGANIZER;CN="All Sports Productions":MAILTO:bruce@allsportsproductionsinc.com
END:VEVENT
BEGIN:VEVENT
DTSTART;TZID=America/Chicago:20240427T080000
DTEND;TZID=America/Chicago:20240427T170000
DTSTAMP:20260422T022932
CREATED:20240112T163619Z
LAST-MODIFIED:20240112T163619Z
UID:10000383-1714204800-1714237200@arkansasoutside.com
SUMMARY:Highlands Gravel Classic
DESCRIPTION:The Highlands Gravel Classic is the only age-group qualifier in the USA for the Trek UCI Gravel World Series (GWS) as 1 of 2 qualifying events in North America.The GWS will include both new and existing events from around the world as part of the series to qualify competitors to attend the world championships in October.  Selection to the world championships will be per age group and gender.  The top 25% finishers of ages 19-34 and then every 5-year age groups (ex 35-39) with age groups seperated by gender will qualify. There is a U19 age category\, but it is NOT a qualifier category. \nHighlands Gravel Classic will have 2 courses…the Highlands – 66 miles and Farmlands – 52 miles.  The 66 mile course is for Males (19-59) and Females (19-49). 52 mile course is for Males 60+ and Females 50+. \nField Participant Caps: \n\nFarmlands course – 500 total riders\nHighlands course – 600 total riders
URL:https://arkansasoutside.com/event/highlands-gravel-classic-2/
LOCATION:Goshen Community Center\, 244 Clark Street\, Elkins\, 72727\, United States
CATEGORIES:Cycling (Road & Mountain)
ATTACH;FMTTYPE=image/jpeg:https://arkansasoutside.com/wp-content/uploads/2022/03/race124365-logo.jpg
ORGANIZER;CN="All Sports Productions":MAILTO:bruce@allsportsproductionsinc.com
END:VEVENT
BEGIN:VEVENT
DTSTART;TZID=America/Chicago:20240427T083000
DTEND;TZID=America/Chicago:20240427T120000
DTSTAMP:20260422T022932
CREATED:20240417T180713Z
LAST-MODIFIED:20240418T121527Z
UID:10000495-1714206600-1714219200@arkansasoutside.com
SUMMARY:Devils Den Trail Luv Sparky/Orville Focus
DESCRIPTION:Meet in campground A. Raking\, lopping \, drain work\, wear sturdy shoes and bring hydration.
URL:https://arkansasoutside.com/event/devils-den-trail-luv-sparky-orville-focus/
LOCATION:Devil’s Den State Park\, 11333 West Arkansas Hwy. 74\, West Fork\, AR\, 72774\, United States
CATEGORIES:Trail Love Day
ATTACH;FMTTYPE=image/jpeg:https://arkansasoutside.com/wp-content/uploads/2024/04/278572463_428547615940438_6426462394126289331_n.jpeg
END:VEVENT
BEGIN:VEVENT
DTSTART;TZID=America/Chicago:20240427T083000
DTEND;TZID=America/Chicago:20240427T120000
DTSTAMP:20260422T022932
CREATED:20240417T180713Z
LAST-MODIFIED:20240417T180713Z
UID:10001897-1714206600-1714219200@arkansasoutside.com
SUMMARY:Devils Den Trail Luv Sparky/Orville Focus
DESCRIPTION:Meet in campground A. Raking\, lopping \, drain work\, wear sturdy shoes and bring hydration.
URL:https://arkansasoutside.com/event/devils-den-trail-luv-sparky-orville-focus-2/
LOCATION:Devil’s Den State Park\, 11333 West Arkansas Hwy. 74\, West Fork\, AR\, 72774\, United States
CATEGORIES:Trail Love Day
ATTACH;FMTTYPE=image/jpeg:https://arkansasoutside.com/wp-content/uploads/2024/04/278572463_428547615940438_6426462394126289331_n.jpeg
END:VEVENT
BEGIN:VEVENT
DTSTART;TZID=America/Chicago:20240427T160000
DTEND;TZID=America/Chicago:20240427T200000
DTSTAMP:20260422T022932
CREATED:20240411T191210Z
LAST-MODIFIED:20240411T191210Z
UID:10000482-1714233600-1714248000@arkansasoutside.com
SUMMARY:FOORC of Nature Poker Run 2024
DESCRIPTION:April 27th come join us for the FOORC of Nature Poker Run! Sign up on Bikereg to get the early registration discount. This is going to be an awesome event with prizes\, food\, and fun.\nBikereg is live now!
URL:https://arkansasoutside.com/event/foorc-of-nature-poker-run-2024/
LOCATION:Ben Geren Regional Park\, Golf Course Loop\, Fort Smith\, AR\, 72916\, United States
CATEGORIES:Cycling (Road & Mountain)
ATTACH;FMTTYPE=image/png:https://arkansasoutside.com/wp-content/uploads/2024/04/da4a6613-fc51-425a-b36c-cfa6dedc033f.png
END:VEVENT
BEGIN:VEVENT
DTSTART;TZID=America/Chicago:20240427T160000
DTEND;TZID=America/Chicago:20240427T200000
DTSTAMP:20260422T022932
CREATED:20240411T191210Z
LAST-MODIFIED:20240411T191210Z
UID:10001878-1714233600-1714248000@arkansasoutside.com
SUMMARY:FOORC of Nature Poker Run 2024
DESCRIPTION:April 27th come join us for the FOORC of Nature Poker Run! Sign up on Bikereg to get the early registration discount. This is going to be an awesome event with prizes\, food\, and fun.\nBikereg is live now!
URL:https://arkansasoutside.com/event/foorc-of-nature-poker-run-2024-2/
LOCATION:Ben Geren Regional Park\, Golf Course Loop\, Fort Smith\, AR\, 72916\, United States
CATEGORIES:Cycling (Road & Mountain)
ATTACH;FMTTYPE=image/png:https://arkansasoutside.com/wp-content/uploads/2024/04/da4a6613-fc51-425a-b36c-cfa6dedc033f.png
END:VEVENT
END:VCALENDAR