BEGIN:VCALENDAR
VERSION:2.0
PRODID:-//Arkansas Outside - ECPv6.15.20//NONSGML v1.0//EN
CALSCALE:GREGORIAN
METHOD:PUBLISH
X-WR-CALNAME:Arkansas Outside
X-ORIGINAL-URL:https://arkansasoutside.com
X-WR-CALDESC:Events for Arkansas Outside
REFRESH-INTERVAL;VALUE=DURATION:PT1H
X-Robots-Tag:noindex
X-PUBLISHED-TTL:PT1H
BEGIN:VTIMEZONE
TZID:America/Chicago
BEGIN:DAYLIGHT
TZOFFSETFROM:-0600
TZOFFSETTO:-0500
TZNAME:CDT
DTSTART:20230312T080000
END:DAYLIGHT
BEGIN:STANDARD
TZOFFSETFROM:-0500
TZOFFSETTO:-0600
TZNAME:CST
DTSTART:20231105T070000
END:STANDARD
BEGIN:DAYLIGHT
TZOFFSETFROM:-0600
TZOFFSETTO:-0500
TZNAME:CDT
DTSTART:20240310T080000
END:DAYLIGHT
BEGIN:STANDARD
TZOFFSETFROM:-0500
TZOFFSETTO:-0600
TZNAME:CST
DTSTART:20241103T070000
END:STANDARD
BEGIN:DAYLIGHT
TZOFFSETFROM:-0600
TZOFFSETTO:-0500
TZNAME:CDT
DTSTART:20250309T080000
END:DAYLIGHT
BEGIN:STANDARD
TZOFFSETFROM:-0500
TZOFFSETTO:-0600
TZNAME:CST
DTSTART:20251102T070000
END:STANDARD
END:VTIMEZONE
BEGIN:VEVENT
DTSTART;VALUE=DATE:20240504
DTEND;VALUE=DATE:20240505
DTSTAMP:20260423T062517
CREATED:20240411T191739Z
LAST-MODIFIED:20240411T191739Z
UID:10001879-1714780800-1714867199@arkansasoutside.com
SUMMARY:2024 Tour de Toad Ride for Literacy
DESCRIPTION:Rider registration is underway for the 2024 Tour de Toad Ride for Literacy! This family friendly bicycle event is held in conjunction with Toad Suck Daze in Conway and will take place Saturday morning\, May 4th. You can sign up for a 10\, 20\, or 40 mile ride\, and there’s a family ride\, too. Earn an IronToad medal by participating in both the Toad Suck 5K/10K Run and Tour de Toad! If you’d like to be a sponsor\, serve on the planning committee\, or volunteer at the event please contact Dana Venhaus at dvenhaus@literacyactionar.org. \nRegister at www.bikereg.com/tour-de-toad.
URL:https://arkansasoutside.com/event/2024-tour-de-toad-ride-for-literacy-2/
LOCATION:Conway Municipal Airport\, 3250 Sand Gap Rd\, Conway\, AR\, 72032\, United States
CATEGORIES:Cycling (Road & Mountain)
ATTACH;FMTTYPE=image/jpeg:https://arkansasoutside.com/wp-content/uploads/2024/04/03807d8c-fb11-4594-a5bf-fa34a3d02cf0-1.jpg
END:VEVENT
BEGIN:VEVENT
DTSTART;VALUE=DATE:20240504
DTEND;VALUE=DATE:20240505
DTSTAMP:20260423T062517
CREATED:20240411T191739Z
LAST-MODIFIED:20240411T191739Z
UID:10000483-1714780800-1714867199@arkansasoutside.com
SUMMARY:2024 Tour de Toad Ride for Literacy
DESCRIPTION:Rider registration is underway for the 2024 Tour de Toad Ride for Literacy! This family friendly bicycle event is held in conjunction with Toad Suck Daze in Conway and will take place Saturday morning\, May 4th. You can sign up for a 10\, 20\, or 40 mile ride\, and there’s a family ride\, too. Earn an IronToad medal by participating in both the Toad Suck 5K/10K Run and Tour de Toad! If you’d like to be a sponsor\, serve on the planning committee\, or volunteer at the event please contact Dana Venhaus at dvenhaus@literacyactionar.org. \nRegister at www.bikereg.com/tour-de-toad.
URL:https://arkansasoutside.com/event/2024-tour-de-toad-ride-for-literacy/
LOCATION:Conway Municipal Airport\, 3250 Sand Gap Rd\, Conway\, AR\, 72032\, United States
CATEGORIES:Cycling (Road & Mountain)
ATTACH;FMTTYPE=image/jpeg:https://arkansasoutside.com/wp-content/uploads/2024/04/03807d8c-fb11-4594-a5bf-fa34a3d02cf0-1.jpg
END:VEVENT
BEGIN:VEVENT
DTSTART;TZID=America/Chicago:20240504T070000
DTEND;TZID=America/Chicago:20240504T140000
DTSTAMP:20260423T062517
CREATED:20240411T185614Z
LAST-MODIFIED:20240411T185614Z
UID:10000478-1714806000-1714831200@arkansasoutside.com
SUMMARY:Square 2 Square Bicycle Ride Spring
DESCRIPTION:Spring Ride Information\nWhen: Saturday\, May 4\, 2024\nWhere: Fayetteville to Bentonville (via the Razorback Greenway)\nStart: Walker Park in Fayetteville\nFinish: Lawrence Plaza in Bentonville \nPacket Pickup\nThursday\, May 2 and Friday\, May 3 | Bentonville and Fayetteville\, 11am-6pm\nBentonville: Downtown Activity Center | 215 SW A St\nFayetteville: Adventure Subaru | 2269 N Henbest Dr\nRemaining packets will be available at the start of the ride on Saturday morning. \nShuttles\nShuttles are available for $10.00 per rider. All shuttles (pre and post bike ride options) take people and their bikes to the start.\nPre-ride shuttle times are 6am\, 7am\, and 8am. Post-ride shuttle times are 11:30 a.m.\, 12:30 p.m.\, 1:30 p.m. and 2:30 p.m.\nShuttle registration is now open. Shuttles are limited in space to just 45-50 riders. \nPick up is at The Bentonville Square near the Benton County Admin Building\nDrop off is at Walker Park in Fayetteville (Along Block Ave – near Splash Pad)
URL:https://arkansasoutside.com/event/square-2-square-bicycle-ride-spring/
LOCATION:Fayetteville Square\, 70 East Ave\, Fayetteville\, AR\, 72701\, United States
CATEGORIES:Cycling (Road & Mountain)
ATTACH;FMTTYPE=image/png:https://arkansasoutside.com/wp-content/uploads/2024/04/logo-8.png
END:VEVENT
BEGIN:VEVENT
DTSTART;TZID=America/Chicago:20240504T070000
DTEND;TZID=America/Chicago:20240504T140000
DTSTAMP:20260423T062517
CREATED:20240411T185614Z
LAST-MODIFIED:20240411T185614Z
UID:10001874-1714806000-1714831200@arkansasoutside.com
SUMMARY:Square 2 Square Bicycle Ride Spring
DESCRIPTION:Spring Ride Information\nWhen: Saturday\, May 4\, 2024\nWhere: Fayetteville to Bentonville (via the Razorback Greenway)\nStart: Walker Park in Fayetteville\nFinish: Lawrence Plaza in Bentonville \nPacket Pickup\nThursday\, May 2 and Friday\, May 3 | Bentonville and Fayetteville\, 11am-6pm\nBentonville: Downtown Activity Center | 215 SW A St\nFayetteville: Adventure Subaru | 2269 N Henbest Dr\nRemaining packets will be available at the start of the ride on Saturday morning. \nShuttles\nShuttles are available for $10.00 per rider. All shuttles (pre and post bike ride options) take people and their bikes to the start.\nPre-ride shuttle times are 6am\, 7am\, and 8am. Post-ride shuttle times are 11:30 a.m.\, 12:30 p.m.\, 1:30 p.m. and 2:30 p.m.\nShuttle registration is now open. Shuttles are limited in space to just 45-50 riders. \nPick up is at The Bentonville Square near the Benton County Admin Building\nDrop off is at Walker Park in Fayetteville (Along Block Ave – near Splash Pad)
URL:https://arkansasoutside.com/event/square-2-square-bicycle-ride-spring-2/
LOCATION:Fayetteville Square\, 70 East Ave\, Fayetteville\, AR\, 72701\, United States
CATEGORIES:Cycling (Road & Mountain)
ATTACH;FMTTYPE=image/png:https://arkansasoutside.com/wp-content/uploads/2024/04/logo-8.png
END:VEVENT
BEGIN:VEVENT
DTSTART;TZID=America/Chicago:20240504T080000
DTEND;TZID=America/Chicago:20240504T120000
DTSTAMP:20260423T062517
CREATED:20240417T183301Z
LAST-MODIFIED:20240417T183301Z
UID:10001904-1714809600-1714824000@arkansasoutside.com
SUMMARY:Wedington Rake Sess #2
DESCRIPTION:We will meet in the dirt lot this time and start where we left off last time. Bring hydration and a snack.
URL:https://arkansasoutside.com/event/wedington-rake-sess-2-2/
LOCATION:Lake Wedington\, 15689 Lake Wedington Entry Rd\, Fayetteville\, AR\, 72704\, United States
CATEGORIES:Trail Love Day
ATTACH;FMTTYPE=image/jpeg:https://arkansasoutside.com/wp-content/uploads/2024/04/278572463_428547615940438_6426462394126289331_n.jpeg
END:VEVENT
BEGIN:VEVENT
DTSTART;TZID=America/Chicago:20240504T080000
DTEND;TZID=America/Chicago:20240504T120000
DTSTAMP:20260423T062517
CREATED:20240417T183301Z
LAST-MODIFIED:20240418T121431Z
UID:10000502-1714809600-1714824000@arkansasoutside.com
SUMMARY:Wedington Rake Sess #2
DESCRIPTION:We will meet in the dirt lot this time and start where we left off last time. Bring hydration and a snack.
URL:https://arkansasoutside.com/event/wedington-rake-sess-2/
LOCATION:Lake Wedington\, 15689 Lake Wedington Entry Rd\, Fayetteville\, AR\, 72704\, United States
CATEGORIES:Trail Love Day
ATTACH;FMTTYPE=image/jpeg:https://arkansasoutside.com/wp-content/uploads/2024/04/278572463_428547615940438_6426462394126289331_n.jpeg
END:VEVENT
BEGIN:VEVENT
DTSTART;TZID=America/Chicago:20240504T080000
DTEND;TZID=America/Chicago:20240504T170000
DTSTAMP:20260423T062517
CREATED:20231121T155902Z
LAST-MODIFIED:20240117T174138Z
UID:10000351-1714809600-1714842000@arkansasoutside.com
SUMMARY:Mount Magazine Trail Run
DESCRIPTION:Magazine is home to magnificent bluffs which make for breathtaking scenery\, provide spectacular views\, and make it popular for hang gliders and climbers alike. Magazine also offers numerous trails for hiking atop the mountain and into the valley below. It’s now time to enjoy those trails as runners. \nCome join us for the 8th Mount Magazine Fun Run. We’ll start just north of the visitor center (see map below)\, and hit almost every trail in the park\, along with a portion of the Cove Lake Trail. The run will be approximately 18 miles\, with a trip to the base of the mountain\, via the Cove Lake Trail\, and back to the top. \nParking is limited. PLEASE carpool where possible! \n\nVolunteers/Runners If you have a fever\, cough\, shortness of breath\, sore throat\, or loss of taste or smell\, or if you have been exposure to someone with Covid-19 in the past 14 days PLEASE DO NOT COME.\nFeel free to hang out after the race\, this year we will have hot dogs and the fixins at the finish.\nThere will be a donation box\, once costs are covered (including gas money for volunteers)\, all extra goes to the Mt Magazine Visitor Center for trail work & maintenance.\n\nThis is a fun run and there are no entry fees but please register so we know how many to prepare for. Contact PT if you have any questions. Food will be provided after the run. There will be a donation can to help cover expenses.
URL:https://arkansasoutside.com/event/mount-magazine-trail-run-2/
LOCATION:Mount Magazine State Park Visitor Center\, Greenfield Recreation Area\, Havana\, AR\, 72842\, United States
CATEGORIES:Running (Trail & Road)
ATTACH;FMTTYPE=image/jpeg:https://arkansasoutside.com/wp-content/uploads/2023/11/Magaz_view.jpg
END:VEVENT
BEGIN:VEVENT
DTSTART;TZID=America/Chicago:20240504T080000
DTEND;TZID=America/Chicago:20240504T170000
DTSTAMP:20260423T062517
CREATED:20231121T155902Z
LAST-MODIFIED:20231121T155902Z
UID:10001770-1714809600-1714842000@arkansasoutside.com
SUMMARY:Mount Magazine Trail Run
DESCRIPTION:Magazine is home to magnificent bluffs which make for breathtaking scenery\, provide spectacular views\, and make it popular for hang gliders and climbers alike. Magazine also offers numerous trails for hiking atop the mountain and into the valley below. It’s now time to enjoy those trails as runners. \nCome join us for the 8th Mount Magazine Fun Run. We’ll start just north of the visitor center (see map below)\, and hit almost every trail in the park\, along with a portion of the Cove Lake Trail. The run will be approximately 18 miles\, with a trip to the base of the mountain\, via the Cove Lake Trail\, and back to the top. \nParking is limited. PLEASE carpool where possible! \n\nVolunteers/Runners If you have a fever\, cough\, shortness of breath\, sore throat\, or loss of taste or smell\, or if you have been exposure to someone with Covid-19 in the past 14 days PLEASE DO NOT COME.\nFeel free to hang out after the race\, this year we will have hot dogs and the fixins at the finish.\nThere will be a donation box\, once costs are covered (including gas money for volunteers)\, all extra goes to the Mt Magazine Visitor Center for trail work & maintenance.\n\nThis is a fun run and there are no entry fees but please register so we know how many to prepare for. Contact PT if you have any questions. Food will be provided after the run. There will be a donation can to help cover expenses.
URL:https://arkansasoutside.com/event/mount-magazine-trail-run-2-2/
LOCATION:Mount Magazine State Park Visitor Center\, Greenfield Recreation Area\, Havana\, AR\, 72842\, United States
CATEGORIES:Running (Trail & Road)
ATTACH;FMTTYPE=image/jpeg:https://arkansasoutside.com/wp-content/uploads/2023/11/Magaz_view.jpg
END:VEVENT
END:VCALENDAR