BEGIN:VCALENDAR
VERSION:2.0
PRODID:-//Arkansas Outside - ECPv6.15.20//NONSGML v1.0//EN
CALSCALE:GREGORIAN
METHOD:PUBLISH
X-WR-CALNAME:Arkansas Outside
X-ORIGINAL-URL:https://arkansasoutside.com
X-WR-CALDESC:Events for Arkansas Outside
REFRESH-INTERVAL;VALUE=DURATION:PT1H
X-Robots-Tag:noindex
X-PUBLISHED-TTL:PT1H
BEGIN:VTIMEZONE
TZID:America/Chicago
BEGIN:DAYLIGHT
TZOFFSETFROM:-0600
TZOFFSETTO:-0500
TZNAME:CDT
DTSTART:20230312T080000
END:DAYLIGHT
BEGIN:STANDARD
TZOFFSETFROM:-0500
TZOFFSETTO:-0600
TZNAME:CST
DTSTART:20231105T070000
END:STANDARD
BEGIN:DAYLIGHT
TZOFFSETFROM:-0600
TZOFFSETTO:-0500
TZNAME:CDT
DTSTART:20240310T080000
END:DAYLIGHT
BEGIN:STANDARD
TZOFFSETFROM:-0500
TZOFFSETTO:-0600
TZNAME:CST
DTSTART:20241103T070000
END:STANDARD
BEGIN:DAYLIGHT
TZOFFSETFROM:-0600
TZOFFSETTO:-0500
TZNAME:CDT
DTSTART:20250309T080000
END:DAYLIGHT
BEGIN:STANDARD
TZOFFSETFROM:-0500
TZOFFSETTO:-0600
TZNAME:CST
DTSTART:20251102T070000
END:STANDARD
END:VTIMEZONE
BEGIN:VEVENT
DTSTART;TZID=America/Chicago:20240612T163000
DTEND;TZID=America/Chicago:20240612T200000
DTSTAMP:20260423T111650
CREATED:20240112T164420Z
LAST-MODIFIED:20240112T164420Z
UID:10001799-1718209800-1718222400@arkansasoutside.com
SUMMARY:Natural State Criterium Series
DESCRIPTION:Course\n\nStart/Finish is located on Emma Street in the heart of Downtown Springdale.  A classic criterium course which has 8 turns for a total distance of 0.9 miles. \nStrava Link – https://www.strava.com/routes/2806559545765160600 \nRace Details\n\nRace Category Details: \n\nFirst Chance:\n\n4:30pm start\n20 minutes\nThis category is for the rider who is new to the sport of competitive USA Cycling-sanctioned bike racing and/or criteriums.  See First Chance section for more details and explanation of this category.\nA one-day or annual USA Cycling is required to participate in this race. Both can be purchased online or onsite.\n\n\nWomen 3\, 4\, 5  Race:\n\n5:00 pm start\n25 minutes\nWomen Only (Category 3\, 4\, 5)\nA one-day or annual USA Cycling is required to participate in this race. Both can be purchased online or onsite.\nPrizes to top 3. Podiums immediately following the race.\nLap Primes…product and gift certificates\n\n\nC Race:\n\n5:35 pm start\n25 minutes\nMen and Women Category 4 & 5 only\nA one-day or annual USA Cycling is required to participate in this race. Both can be purchased online or onsite.\nPrizes to top 3 Males and Females. Podiums immediately following the race.\nLap Primes…product and gift certificates\n\n\nFat Tire Fun Race:\n\n6:10 pm start\n2 laps\nA one-day or annual USA Cycling is required to participate in this race\, but entry fee includes a one-day license.\n\n\nB Race:\n\n6:30 pm start\n35 minutes\nMen and Women Category 3 & 4 only\nA one-day or annual USA Cycling is required to participate in this race. Both can be purchased online or onsite.\nLap Primes…cash ($200/night) along with product and gift certificates\nPurse – Cash ($125/$75/$50) to top 3 Males and top 3 Females. Podiums immediately following the race.\n\n\nA Race:\n\n7:15 pm start\n45 minutes\nMen and Women Open (Cat 1 – 4 only)\nA one-day or annual USA Cycling is required to participate in this race. Both can be purchased online or onsite.\nLap Primes…minimum cash ($1\,000/nite) along with product and gift certificates\nPurse – Cash ($110/$90/$75/$50/$25) to top 5 Males and top 5 Females. Podiums immediately following the race.\n\n\n\nRules and Regulations: \n\nAll 2024 USAC are in effect.\nEvents will be held rain or shine.\nHelmets must be worn at all times while on the bike.\nValid and current USAC license must be presented at registration or a one-day or annual purchased\nPromoter reserves the right to adjust start times and mileage.\nPromoter reserves the right to cancel/combine events and prize lists as necessary.\nHeld under USAC Permit:\n\nSeries Awards and Cash ($1\,000): \n\nWomen Only Race – Awards to the top 3 Female overall finishers\nC Race – Awards to the top 3 Male and 3 Female overall finishers\nB Race – Awards and Cash ($75/$50/$25) to the top 3 Male and 3 Female overall finishers\nA Race – Awards and Cash ($110/$90/$75/$50/$25) to the top 5 Males and 5 Females overall finishers\n\nPrimes: \n\n$4\,000 cash to be distributed over the 3 race series!\n\nAwards and Podiums \n\nFor the Women-only\, C\, B and A races…the prizes and podium will occur 15 minutes after results are posted\nSeries Awards and Payouts will occur on the final series…same protocol as above
URL:https://arkansasoutside.com/event/natural-state-criterium-series-2/2024-06-12/
LOCATION:Walter Turnbow Park at Shiloh Square\, 106 West Emma Avenue\, Springdale\, 72764\, United States
CATEGORIES:Cycling (Road & Mountain)
ATTACH;FMTTYPE=image/png:https://arkansasoutside.com/wp-content/uploads/2023/03/d1cece85-0e4e-4665-937b-cdb9c8c20938-2.png
ORGANIZER;CN="All Sports Productions":MAILTO:bruce@allsportsproductionsinc.com
END:VEVENT
BEGIN:VEVENT
DTSTART;TZID=America/Chicago:20240613T100000
DTEND;TZID=America/Chicago:20240613T120000
DTSTAMP:20260423T111650
CREATED:20240501T203610Z
LAST-MODIFIED:20240523T155825Z
UID:10000652-1718272800-1718280000@arkansasoutside.com
SUMMARY:Grand Opening of the Benton Bike Park
DESCRIPTION:Update: The Event is postponed until June 13\, 2024. \nCome and join us for the Grand Opening of the Benton Mountain Bike Park! Located at 1100 South Market St. just west of Ralph Bunche Park. We encourage riders of all levels to come out and experience the one-of-a-kind park! Vendor’s\, giveaways\, food trucks\, and demo bikes will be on sight. \nMore information on the park including drawings of the park is available in our article from April 2023.
URL:https://arkansasoutside.com/event/grand-opening-of-the-benton-bike-park/
LOCATION:Benton Bike Park\, 1100 S Market St\,\, Benton\, 72015\, United States
CATEGORIES:Cycling (Road & Mountain)
ATTACH;FMTTYPE=image/jpeg:https://arkansasoutside.com/wp-content/uploads/2024/05/440582465_774222401511155_2777722781197270030_n.jpg
END:VEVENT
BEGIN:VEVENT
DTSTART;TZID=America/Chicago:20240613T100000
DTEND;TZID=America/Chicago:20240613T120000
DTSTAMP:20260423T111650
CREATED:20240501T203610Z
LAST-MODIFIED:20240501T203610Z
UID:10001919-1718272800-1718280000@arkansasoutside.com
SUMMARY:Grand Opening of the Benton Bike Park
DESCRIPTION:Update: The Event is postponed until June 13\, 2024. \nCome and join us for the Grand Opening of the Benton Mountain Bike Park! Located at 1100 South Market St. just west of Ralph Bunche Park. We encourage riders of all levels to come out and experience the one-of-a-kind park! Vendor’s\, giveaways\, food trucks\, and demo bikes will be on sight. \nMore information on the park including drawings of the park is available in our article from April 2023.
URL:https://arkansasoutside.com/event/grand-opening-of-the-benton-bike-park-2/
LOCATION:Benton Bike Park\, 1100 S Market St\,\, Benton\, 72015\, United States
CATEGORIES:Cycling (Road & Mountain)
ATTACH;FMTTYPE=image/jpeg:https://arkansasoutside.com/wp-content/uploads/2024/05/440582465_774222401511155_2777722781197270030_n.jpg
END:VEVENT
BEGIN:VEVENT
DTSTART;TZID=America/Chicago:20240613T190000
DTEND;TZID=America/Chicago:20240613T210000
DTSTAMP:20260423T111650
CREATED:20240524T144844Z
LAST-MODIFIED:20240524T144844Z
UID:10001280-1718305200-1718312400@arkansasoutside.com
SUMMARY:$5 5K
DESCRIPTION:Pirate Perry Events & Fit.1 are ready to give back to our local running community….we just want to get everyone together for a 5K\, have some fun\, and reuse some race goodies!
URL:https://arkansasoutside.com/event/5-5k/
LOCATION:Fit.1\, 905 South St.\, Mountain Home\, 72653\, United States
CATEGORIES:Running (Trail & Road)
ATTACH;FMTTYPE=image/jpeg:https://arkansasoutside.com/wp-content/uploads/2024/05/race72039-logo-0.jpg
END:VEVENT
BEGIN:VEVENT
DTSTART;TZID=America/Chicago:20240613T190000
DTEND;TZID=America/Chicago:20240613T210000
DTSTAMP:20260423T111650
CREATED:20240524T144844Z
LAST-MODIFIED:20240524T144844Z
UID:10001954-1718305200-1718312400@arkansasoutside.com
SUMMARY:$5 5K
DESCRIPTION:Pirate Perry Events & Fit.1 are ready to give back to our local running community….we just want to get everyone together for a 5K\, have some fun\, and reuse some race goodies!
URL:https://arkansasoutside.com/event/5-5k-2/
LOCATION:Fit.1\, 905 South St.\, Mountain Home\, 72653\, United States
CATEGORIES:Running (Trail & Road)
ATTACH;FMTTYPE=image/jpeg:https://arkansasoutside.com/wp-content/uploads/2024/05/race72039-logo-0.jpg
END:VEVENT
END:VCALENDAR