BEGIN:VCALENDAR
VERSION:2.0
PRODID:-//Arkansas Outside - ECPv6.15.20//NONSGML v1.0//EN
CALSCALE:GREGORIAN
METHOD:PUBLISH
X-WR-CALNAME:Arkansas Outside
X-ORIGINAL-URL:https://arkansasoutside.com
X-WR-CALDESC:Events for Arkansas Outside
REFRESH-INTERVAL;VALUE=DURATION:PT1H
X-Robots-Tag:noindex
X-PUBLISHED-TTL:PT1H
BEGIN:VTIMEZONE
TZID:America/Chicago
BEGIN:DAYLIGHT
TZOFFSETFROM:-0600
TZOFFSETTO:-0500
TZNAME:CDT
DTSTART:20230312T080000
END:DAYLIGHT
BEGIN:STANDARD
TZOFFSETFROM:-0500
TZOFFSETTO:-0600
TZNAME:CST
DTSTART:20231105T070000
END:STANDARD
BEGIN:DAYLIGHT
TZOFFSETFROM:-0600
TZOFFSETTO:-0500
TZNAME:CDT
DTSTART:20240310T080000
END:DAYLIGHT
BEGIN:STANDARD
TZOFFSETFROM:-0500
TZOFFSETTO:-0600
TZNAME:CST
DTSTART:20241103T070000
END:STANDARD
BEGIN:DAYLIGHT
TZOFFSETFROM:-0600
TZOFFSETTO:-0500
TZNAME:CDT
DTSTART:20250309T080000
END:DAYLIGHT
BEGIN:STANDARD
TZOFFSETFROM:-0500
TZOFFSETTO:-0600
TZNAME:CST
DTSTART:20251102T070000
END:STANDARD
END:VTIMEZONE
BEGIN:VEVENT
DTSTART;TZID=America/Chicago:20240622T150000
DTEND;TZID=America/Chicago:20240622T170000
DTSTAMP:20260423T112924
CREATED:20240524T191651Z
LAST-MODIFIED:20240524T191651Z
UID:10001291-1719068400-1719075600@arkansasoutside.com
SUMMARY:FFA 5k Bismarck
DESCRIPTION:This is a fundraising event put on by the Bismarck FFA Chapter. Funds from this event will provide our FFA students the opportunity to participate in various events throughout the year. The 5K for FFA fun run event will take place at the Crossroads Cowboy Church of Bismarck. You will be running/walking in a trail like terrain\, making two loops around the course to complete 3.1 miles. Water and Gatorade will be provided at 1/2 way point on the course and at the finish line. Your packet will include a race bib\, a t-shirt(if signed up by the deadline)\, and other goodies. Please come out June 22 at 3pm to support our students and our wonderful FFA program.
URL:https://arkansasoutside.com/event/ffa-5k-bismarck/
LOCATION:Crossroads Cowboy Church of Bismarck\, 12418 Highway 84\, Bismarck\, 71929\, United States
CATEGORIES:Running (Trail & Road)
ATTACH;FMTTYPE=image/jpeg:https://arkansasoutside.com/wp-content/uploads/2024/05/running-shoe1-300px.jpg
END:VEVENT
BEGIN:VEVENT
DTSTART;TZID=America/Chicago:20240623T073000
DTEND;TZID=America/Chicago:20240623T150000
DTSTAMP:20260423T112924
CREATED:20240411T192231Z
LAST-MODIFIED:20240411T192231Z
UID:10001880-1719127800-1719154800@arkansasoutside.com
SUMMARY:River Valley Rumble XC Race 2024
DESCRIPTION:RIVER VALLEY RUMBLE \nThis race will be on super fun 4.4-mile laps as a XC UCI inspired course. The shorter laps will also be more spectator friendly and more encouraging for racers as family and friends cheer them on each lap. \nBen Geren Park\nFort Smith Arkansas \nThis race is part of the Arkansas Mountain Bike Championship Series. \nThe rookie class is for first time racers only. No awards will be given for these classes. Temporary plates will be given. \nAMBCS Hardplates are required for all riders in the Cat 1-3\, Single Speed\, Clydesdale\, and junior divisions. The cost of the plates are $25 and will be available on site. There is no charge to junior racers for AMBCS Hard Plates. \nAwards will be given for Cat 1-3 categories. \nThe men’s and women’s Cat 1 15-49 Open categories will be eligible for a unified payout following the AMBCS Payout. \nThe men’s and women’s Cat 50+ will be eligible to payout following the AMBCS Payout. \nAMBCS Rules \nUSA Cycling Rules \nFor the most up to date information go to facebook/rivervalleyrumble
URL:https://arkansasoutside.com/event/river-valley-rumble-xc-race-2024-2/
LOCATION:Ben Geren Regional Park\, Golf Course Loop\, Fort Smith\, AR\, 72916\, United States
CATEGORIES:Cycling (Road & Mountain)
ATTACH;FMTTYPE=image/png:https://arkansasoutside.com/wp-content/uploads/2024/04/ce7befa7-39f7-4ef9-82c9-9c12ceb421a6-1.png
END:VEVENT
BEGIN:VEVENT
DTSTART;TZID=America/Chicago:20240623T073000
DTEND;TZID=America/Chicago:20240623T150000
DTSTAMP:20260423T112924
CREATED:20240411T192231Z
LAST-MODIFIED:20240411T192231Z
UID:10000484-1719127800-1719154800@arkansasoutside.com
SUMMARY:River Valley Rumble XC Race 2024
DESCRIPTION:RIVER VALLEY RUMBLE \nThis race will be on super fun 4.4-mile laps as a XC UCI inspired course. The shorter laps will also be more spectator friendly and more encouraging for racers as family and friends cheer them on each lap. \nBen Geren Park\nFort Smith Arkansas \nThis race is part of the Arkansas Mountain Bike Championship Series. \nThe rookie class is for first time racers only. No awards will be given for these classes. Temporary plates will be given. \nAMBCS Hardplates are required for all riders in the Cat 1-3\, Single Speed\, Clydesdale\, and junior divisions. The cost of the plates are $25 and will be available on site. There is no charge to junior racers for AMBCS Hard Plates. \nAwards will be given for Cat 1-3 categories. \nThe men’s and women’s Cat 1 15-49 Open categories will be eligible for a unified payout following the AMBCS Payout. \nThe men’s and women’s Cat 50+ will be eligible to payout following the AMBCS Payout. \nAMBCS Rules \nUSA Cycling Rules \nFor the most up to date information go to facebook/rivervalleyrumble
URL:https://arkansasoutside.com/event/river-valley-rumble-xc-race-2024/
LOCATION:Ben Geren Regional Park\, Golf Course Loop\, Fort Smith\, AR\, 72916\, United States
CATEGORIES:Cycling (Road & Mountain)
ATTACH;FMTTYPE=image/png:https://arkansasoutside.com/wp-content/uploads/2024/04/ce7befa7-39f7-4ef9-82c9-9c12ceb421a6-1.png
END:VEVENT
BEGIN:VEVENT
DTSTART;TZID=America/Chicago:20240623T080000
DTEND;TZID=America/Chicago:20240623T120000
DTSTAMP:20260423T112924
CREATED:20240417T181813Z
LAST-MODIFIED:20240417T181813Z
UID:10001899-1719129600-1719144000@arkansasoutside.com
SUMMARY:Wedington weed and lop
DESCRIPTION:Knocking back weeds. Meet in the paved lot. Bring hydration and wear sturdy shoes.
URL:https://arkansasoutside.com/event/wedington-weed-and-lop-2/
LOCATION:Lake Wedington\, 15689 Lake Wedington Entry Rd\, Fayetteville\, AR\, 72704\, United States
CATEGORIES:Trail Love Day
ATTACH;FMTTYPE=image/jpeg:https://arkansasoutside.com/wp-content/uploads/2024/04/278572463_428547615940438_6426462394126289331_n.jpeg
END:VEVENT
BEGIN:VEVENT
DTSTART;TZID=America/Chicago:20240623T080000
DTEND;TZID=America/Chicago:20240623T120000
DTSTAMP:20260423T112924
CREATED:20240417T181813Z
LAST-MODIFIED:20240418T120933Z
UID:10000497-1719129600-1719144000@arkansasoutside.com
SUMMARY:Wedington weed and lop
DESCRIPTION:Knocking back weeds. Meet in the paved lot. Bring hydration and wear sturdy shoes.
URL:https://arkansasoutside.com/event/wedington-weed-and-lop/
LOCATION:Lake Wedington\, 15689 Lake Wedington Entry Rd\, Fayetteville\, AR\, 72704\, United States
CATEGORIES:Trail Love Day
ATTACH;FMTTYPE=image/jpeg:https://arkansasoutside.com/wp-content/uploads/2024/04/278572463_428547615940438_6426462394126289331_n.jpeg
END:VEVENT
BEGIN:VEVENT
DTSTART;TZID=America/Chicago:20240624T180000
DTEND;TZID=America/Chicago:20240624T190000
DTSTAMP:20260423T112924
CREATED:20240524T141009Z
LAST-MODIFIED:20240524T141009Z
UID:10001272-1719252000-1719255600@arkansasoutside.com
SUMMARY:Cabot Family Track Nights
DESCRIPTION:Join us every Monday in June at the Cabot High School from 6-7 PM for Cabot Family Track Nights. We will meet at the Cabot High School Track. Please have your kiddos bring water\, and wear athletic clothes and tennis shoes. It gets hot! Bring the whole family\, we can not wait to see you there! \nPlease register kids only\, adults do not need to register. Registration is FREE but REQUIRED for each child participating under the age of 18. Shirts and medals are also free to those registered BEFORE May 31\, 2024. After this date\, we can not guarantee a shirt\, although we will try our best to accommodate\, and usually have plenty. \nRegistration is free but a $10-$15 donation is welcome to help us cover the costs of shirts and medals. 🙂 \nThe dates for this summer are as follows\, of course subject to weather:\n6/3\, 6/10\, 6/17\, 6/24
URL:https://arkansasoutside.com/event/cabot-family-track-nights/2024-06-24/
LOCATION:Cabot High School\, 401 N Lincoln Street\, Cabot\, 72023\, United States
CATEGORIES:Running (Trail & Road)
ATTACH;FMTTYPE=image/jpeg:https://arkansasoutside.com/wp-content/uploads/2024/05/race128004-logo-0.jpg
END:VEVENT
BEGIN:VEVENT
DTSTART;TZID=America/Chicago:20240624T180000
DTEND;TZID=America/Chicago:20240624T190000
DTSTAMP:20260423T112924
CREATED:20240524T141009Z
LAST-MODIFIED:20240524T141009Z
UID:10001946-1719252000-1719255600@arkansasoutside.com
SUMMARY:Cabot Family Track Nights
DESCRIPTION:Join us every Monday in June at the Cabot High School from 6-7 PM for Cabot Family Track Nights. We will meet at the Cabot High School Track. Please have your kiddos bring water\, and wear athletic clothes and tennis shoes. It gets hot! Bring the whole family\, we can not wait to see you there! \nPlease register kids only\, adults do not need to register. Registration is FREE but REQUIRED for each child participating under the age of 18. Shirts and medals are also free to those registered BEFORE May 31\, 2024. After this date\, we can not guarantee a shirt\, although we will try our best to accommodate\, and usually have plenty. \nRegistration is free but a $10-$15 donation is welcome to help us cover the costs of shirts and medals. 🙂 \nThe dates for this summer are as follows\, of course subject to weather:\n6/3\, 6/10\, 6/17\, 6/24
URL:https://arkansasoutside.com/event/cabot-family-track-nights-2/2024-06-24/
LOCATION:Cabot High School\, 401 N Lincoln Street\, Cabot\, 72023\, United States
CATEGORIES:Running (Trail & Road)
ATTACH;FMTTYPE=image/jpeg:https://arkansasoutside.com/wp-content/uploads/2024/05/race128004-logo-0.jpg
END:VEVENT
BEGIN:VEVENT
DTSTART;TZID=America/Chicago:20240627T180000
DTEND;TZID=America/Chicago:20240627T200000
DTSTAMP:20260423T112924
CREATED:20240604T120111Z
LAST-MODIFIED:20240604T120111Z
UID:10001320-1719511200-1719518400@arkansasoutside.com
SUMMARY:Pint Night with the Arkansas Climbers Coalition
DESCRIPTION:Hey everyone! Calling all Central Arkansas climbers! The Arkansas Climbers Coalition is hosting a pint night this month at Flyway Brewing in North Little Rock at 6 PM! Come join us for some fun hanging out with your favorite outdoor recreation community.\n\nWe have an exciting announcement to make about a NEW outdoor climbing area in the Central AR region. It’s going to be BIG and it has a whole lot of ROCK. ARCC has been working hard to get this area open\, so come on out to the pint night to find out more and ask your questions. There’s still a lot more work to be done!\nWe hope to see you all there!
URL:https://arkansasoutside.com/event/pint-night-with-the-arkansas-climbers-coalition/
LOCATION:Flyway Brewing\, 314 Maple St\, North Little Rock\, AR\, 72114\, United States
CATEGORIES:Climbing,Other Fun
ATTACH;FMTTYPE=image/jpeg:https://arkansasoutside.com/wp-content/uploads/2024/06/447458146_842409131259722_4175965791334346660_n.jpg
ORGANIZER;CN="Arkansas Climbers Coalition":MAILTO:info@arkansasclimbers.org
END:VEVENT
BEGIN:VEVENT
DTSTART;TZID=America/Chicago:20240627T180000
DTEND;TZID=America/Chicago:20240627T200000
DTSTAMP:20260423T112924
CREATED:20240604T120111Z
LAST-MODIFIED:20240604T120111Z
UID:10001998-1719511200-1719518400@arkansasoutside.com
SUMMARY:Pint Night with the Arkansas Climbers Coalition
DESCRIPTION:Hey everyone! Calling all Central Arkansas climbers! The Arkansas Climbers Coalition is hosting a pint night this month at Flyway Brewing in North Little Rock at 6 PM! Come join us for some fun hanging out with your favorite outdoor recreation community.\n\nWe have an exciting announcement to make about a NEW outdoor climbing area in the Central AR region. It’s going to be BIG and it has a whole lot of ROCK. ARCC has been working hard to get this area open\, so come on out to the pint night to find out more and ask your questions. There’s still a lot more work to be done!\nWe hope to see you all there!
URL:https://arkansasoutside.com/event/pint-night-with-the-arkansas-climbers-coalition-2/
LOCATION:Flyway Brewing\, 314 Maple St\, North Little Rock\, AR\, 72114\, United States
CATEGORIES:Climbing,Other Fun
ATTACH;FMTTYPE=image/jpeg:https://arkansasoutside.com/wp-content/uploads/2024/06/447458146_842409131259722_4175965791334346660_n.jpg
ORGANIZER;CN="Arkansas Climbers Coalition":MAILTO:info@arkansasclimbers.org
END:VEVENT
END:VCALENDAR