BEGIN:VCALENDAR
VERSION:2.0
PRODID:-//Arkansas Outside - ECPv6.15.20//NONSGML v1.0//EN
CALSCALE:GREGORIAN
METHOD:PUBLISH
X-WR-CALNAME:Arkansas Outside
X-ORIGINAL-URL:https://arkansasoutside.com
X-WR-CALDESC:Events for Arkansas Outside
REFRESH-INTERVAL;VALUE=DURATION:PT1H
X-Robots-Tag:noindex
X-PUBLISHED-TTL:PT1H
BEGIN:VTIMEZONE
TZID:America/Chicago
BEGIN:DAYLIGHT
TZOFFSETFROM:-0600
TZOFFSETTO:-0500
TZNAME:CDT
DTSTART:20230312T080000
END:DAYLIGHT
BEGIN:STANDARD
TZOFFSETFROM:-0500
TZOFFSETTO:-0600
TZNAME:CST
DTSTART:20231105T070000
END:STANDARD
BEGIN:DAYLIGHT
TZOFFSETFROM:-0600
TZOFFSETTO:-0500
TZNAME:CDT
DTSTART:20240310T080000
END:DAYLIGHT
BEGIN:STANDARD
TZOFFSETFROM:-0500
TZOFFSETTO:-0600
TZNAME:CST
DTSTART:20241103T070000
END:STANDARD
BEGIN:DAYLIGHT
TZOFFSETFROM:-0600
TZOFFSETTO:-0500
TZNAME:CDT
DTSTART:20250309T080000
END:DAYLIGHT
BEGIN:STANDARD
TZOFFSETFROM:-0500
TZOFFSETTO:-0600
TZNAME:CST
DTSTART:20251102T070000
END:STANDARD
END:VTIMEZONE
BEGIN:VEVENT
DTSTART;TZID=America/Chicago:20240727T070000
DTEND;TZID=America/Chicago:20240727T130000
DTSTAMP:20260422T170840
CREATED:20240411T192838Z
LAST-MODIFIED:20240411T192838Z
UID:10001888-1722063600-1722085200@arkansasoutside.com
SUMMARY:The Cave City Melon Grind
DESCRIPTION:The Cave City Melon Grind is a gravel cycling event that covers some of our favorite gravel roads that are also used for hauling our Famous Watermelons.  Experience the Worlds Sweetest Watermelons after a challenging 13 mile adventure that takes you through a few of the actual fields that we grow them in.  Finish off your day with loads of free entertainment\, car show\, and food trucks galore at the Cave City Watermelon Festival. \nRegistration includes Cave City Melon Grind T-Shirt and post ride Watermelon!
URL:https://arkansasoutside.com/event/the-cave-city-melon-grind-2/
LOCATION:Cave City Park\, W South St\, Cave City\, AR\, 72521\, United States
CATEGORIES:Cycling (Road & Mountain)
ATTACH;FMTTYPE=image/png:https://arkansasoutside.com/wp-content/uploads/2024/04/55eef74e-e152-43fd-9afb-0dd04ef188f1.png
END:VEVENT
BEGIN:VEVENT
DTSTART;TZID=America/Chicago:20240727T070000
DTEND;TZID=America/Chicago:20240727T130000
DTSTAMP:20260422T170840
CREATED:20240411T192838Z
LAST-MODIFIED:20240411T192838Z
UID:10000486-1722063600-1722085200@arkansasoutside.com
SUMMARY:The Cave City Melon Grind
DESCRIPTION:The Cave City Melon Grind is a gravel cycling event that covers some of our favorite gravel roads that are also used for hauling our Famous Watermelons.  Experience the Worlds Sweetest Watermelons after a challenging 13 mile adventure that takes you through a few of the actual fields that we grow them in.  Finish off your day with loads of free entertainment\, car show\, and food trucks galore at the Cave City Watermelon Festival. \nRegistration includes Cave City Melon Grind T-Shirt and post ride Watermelon!
URL:https://arkansasoutside.com/event/the-cave-city-melon-grind/
LOCATION:Cave City Park\, W South St\, Cave City\, AR\, 72521\, United States
CATEGORIES:Cycling (Road & Mountain)
ATTACH;FMTTYPE=image/png:https://arkansasoutside.com/wp-content/uploads/2024/04/55eef74e-e152-43fd-9afb-0dd04ef188f1.png
END:VEVENT
BEGIN:VEVENT
DTSTART;TZID=America/Chicago:20240727T073000
DTEND;TZID=America/Chicago:20240727T100000
DTSTAMP:20260422T170840
CREATED:20240524T201458Z
LAST-MODIFIED:20240524T201458Z
UID:10001308-1722065400-1722074400@arkansasoutside.com
SUMMARY:H2GORUN 2 Miler Fun Run
DESCRIPTION:Join us for our 5th annual H2GO 2 Miler Fun Run in Jacksonville\, AR on Saturday\, July 27th! Participants will enjoy a beautiful two-mile route with volunteers along the way to help runners beat the heat with water guns and cannons. So\, dress to get wet! Every runner will receive a participant bag and t-shirt to commemorate the experience. We can only guarantee shirts to those registered by July 10th! \nAge group awards in 5 year increments and Top 10 Walker Awards. \nFor the 5th year celebration\, a Team Spirit Trophy will be awarded to the group/team that shows up and shows out in costume and spirit! \nWe will have a limited number of space for a tribute name – In Memory or In Honor of someone who is battling/battled a dementia related disease.  A tribute name is $100.00 and you can email Jtrunner1958@gmail.com for more information. \nThis year we offer a VIRTUAL option also!  Sign up and run or walk at your convenience!  We will send you an amazing race shirt. \nFunds raised will support Alzheimer’s Arkansas who provide education\, support\, and financial assistance to Arkansas caregivers of individuals with Alzheimer’s disease and dementia. To learn more about Alzheimer’s Arkansas\, visit ALZark.org.
URL:https://arkansasoutside.com/event/h2gorun-2-miler-fun-run/
LOCATION:LRAFB University Park Center\, Jacksonville\, AR\, 72076\, United States
CATEGORIES:Running (Trail & Road)
ATTACH;FMTTYPE=image/jpeg:https://arkansasoutside.com/wp-content/uploads/2024/05/race73856-logo-0.jpg
END:VEVENT
BEGIN:VEVENT
DTSTART;TZID=America/Chicago:20240727T073000
DTEND;TZID=America/Chicago:20240727T100000
DTSTAMP:20260422T170840
CREATED:20240524T201458Z
LAST-MODIFIED:20240524T201458Z
UID:10001986-1722065400-1722074400@arkansasoutside.com
SUMMARY:H2GORUN 2 Miler Fun Run
DESCRIPTION:Join us for our 5th annual H2GO 2 Miler Fun Run in Jacksonville\, AR on Saturday\, July 27th! Participants will enjoy a beautiful two-mile route with volunteers along the way to help runners beat the heat with water guns and cannons. So\, dress to get wet! Every runner will receive a participant bag and t-shirt to commemorate the experience. We can only guarantee shirts to those registered by July 10th! \nAge group awards in 5 year increments and Top 10 Walker Awards. \nFor the 5th year celebration\, a Team Spirit Trophy will be awarded to the group/team that shows up and shows out in costume and spirit! \nWe will have a limited number of space for a tribute name – In Memory or In Honor of someone who is battling/battled a dementia related disease.  A tribute name is $100.00 and you can email Jtrunner1958@gmail.com for more information. \nThis year we offer a VIRTUAL option also!  Sign up and run or walk at your convenience!  We will send you an amazing race shirt. \nFunds raised will support Alzheimer’s Arkansas who provide education\, support\, and financial assistance to Arkansas caregivers of individuals with Alzheimer’s disease and dementia. To learn more about Alzheimer’s Arkansas\, visit ALZark.org.
URL:https://arkansasoutside.com/event/h2gorun-2-miler-fun-run-2/
LOCATION:LRAFB University Park Center\, Jacksonville\, AR\, 72076\, United States
CATEGORIES:Running (Trail & Road)
ATTACH;FMTTYPE=image/jpeg:https://arkansasoutside.com/wp-content/uploads/2024/05/race73856-logo-0.jpg
END:VEVENT
BEGIN:VEVENT
DTSTART;TZID=America/Chicago:20240727T073000
DTEND;TZID=America/Chicago:20240727T100000
DTSTAMP:20260422T170840
CREATED:20240524T200007Z
LAST-MODIFIED:20240524T200007Z
UID:10001304-1722065400-1722074400@arkansasoutside.com
SUMMARY:Fat Cow 5K
DESCRIPTION:A view of cows munching on fresh field grass\, happy-as-can-be-tail-wagging donkeys\, a pack of wild farm goats jumping around\, sheepishly cute sheep baa-ing as you pass by\, bees buzzing (from a distance) & a horde of chickens and ducks chirping & quacking you on! Introducing… St. Joseph’s first annual Fat Cow 5k! This 5k farm-raiser is being held on the farmstead trails that pass wild blackberry bushes\, summer wildflowers in bloom\, growing watermelon in our Hunger Relief garden\, all the fresh fruit & vegetables growing on our land & in our community gardens. Did we mention all the farm animals as official race spectators in this fun run?! \nAbout St. Joseph’s: St. Joseph farmstead is a 56\,000 SF historic building and 63 acre property in North Little Rock that is on the National Register of Historic Places. St. Joseph’s is also a designated Arkansas Century Farm. As an independent nonprofit\, St. Joseph operates as a farm with a mission to preserve the historic property through sustainable agriculture & food production\, programs that educate & promote agritourism\, & support community outreach. With over 30 artist studios\, an event venue\, renovated commercial kitchen space\, beer shed\, & a year-round farmstand store selling local and organic foods\, there is A LOT going on at St. Joseph’s. Come see for yourself & be a part of history at our first 5k FARM-raiser. \nThe Course: The course will include both trail and road/pavement. The trails include soft grass\, rocks and pine\, and the crossing road will be manned for safety. Special thanks to Americorps NCCC & Central Arkansas Master Naturalists who helped to create these trails on the farmstead. \nParking: Parking is available on the West (second) Entrance at the front of the building on Camp Robinson Road. Follow the signs for parking and please arrive early to secure your spot! \nThe fun run will start promptly at 7:30am and a raffle will occur at 8:45am. Stick around for goat yoga at 10am\, & shop our farmstand market for all of Arkansas grown natural produce & artisan products! Don’t forget to support our nonprofit by pre-ordering farm swag! \nFarmraiser: This 5k is a farm-raiser and all merchandise will be for sale including post race beverages. Purchase a few extra raffle tickets to increase your odds at winning some farm swag! Thanks for supporting our local\, independent nonprofit! \nEnjoy the ‘farm life\, city living’ with us on Saturday\, July 27 in North Little Rock at St. Joseph’s Farmstead!
URL:https://arkansasoutside.com/event/fat-cow-5k/
LOCATION:St. Joseph Center\, 6800 Camp Robinson Rd\, North Little Rock\, 72118\, United States
CATEGORIES:Running (Trail & Road)
ATTACH;FMTTYPE=image/jpeg:https://arkansasoutside.com/wp-content/uploads/2024/05/race163921-logo-0.jpg
END:VEVENT
BEGIN:VEVENT
DTSTART;TZID=America/Chicago:20240727T073000
DTEND;TZID=America/Chicago:20240727T100000
DTSTAMP:20260422T170840
CREATED:20240524T200007Z
LAST-MODIFIED:20240524T200007Z
UID:10001982-1722065400-1722074400@arkansasoutside.com
SUMMARY:Fat Cow 5K
DESCRIPTION:A view of cows munching on fresh field grass\, happy-as-can-be-tail-wagging donkeys\, a pack of wild farm goats jumping around\, sheepishly cute sheep baa-ing as you pass by\, bees buzzing (from a distance) & a horde of chickens and ducks chirping & quacking you on! Introducing… St. Joseph’s first annual Fat Cow 5k! This 5k farm-raiser is being held on the farmstead trails that pass wild blackberry bushes\, summer wildflowers in bloom\, growing watermelon in our Hunger Relief garden\, all the fresh fruit & vegetables growing on our land & in our community gardens. Did we mention all the farm animals as official race spectators in this fun run?! \nAbout St. Joseph’s: St. Joseph farmstead is a 56\,000 SF historic building and 63 acre property in North Little Rock that is on the National Register of Historic Places. St. Joseph’s is also a designated Arkansas Century Farm. As an independent nonprofit\, St. Joseph operates as a farm with a mission to preserve the historic property through sustainable agriculture & food production\, programs that educate & promote agritourism\, & support community outreach. With over 30 artist studios\, an event venue\, renovated commercial kitchen space\, beer shed\, & a year-round farmstand store selling local and organic foods\, there is A LOT going on at St. Joseph’s. Come see for yourself & be a part of history at our first 5k FARM-raiser. \nThe Course: The course will include both trail and road/pavement. The trails include soft grass\, rocks and pine\, and the crossing road will be manned for safety. Special thanks to Americorps NCCC & Central Arkansas Master Naturalists who helped to create these trails on the farmstead. \nParking: Parking is available on the West (second) Entrance at the front of the building on Camp Robinson Road. Follow the signs for parking and please arrive early to secure your spot! \nThe fun run will start promptly at 7:30am and a raffle will occur at 8:45am. Stick around for goat yoga at 10am\, & shop our farmstand market for all of Arkansas grown natural produce & artisan products! Don’t forget to support our nonprofit by pre-ordering farm swag! \nFarmraiser: This 5k is a farm-raiser and all merchandise will be for sale including post race beverages. Purchase a few extra raffle tickets to increase your odds at winning some farm swag! Thanks for supporting our local\, independent nonprofit! \nEnjoy the ‘farm life\, city living’ with us on Saturday\, July 27 in North Little Rock at St. Joseph’s Farmstead!
URL:https://arkansasoutside.com/event/fat-cow-5k-2/
LOCATION:St. Joseph Center\, 6800 Camp Robinson Rd\, North Little Rock\, 72118\, United States
CATEGORIES:Running (Trail & Road)
ATTACH;FMTTYPE=image/jpeg:https://arkansasoutside.com/wp-content/uploads/2024/05/race163921-logo-0.jpg
END:VEVENT
BEGIN:VEVENT
DTSTART;TZID=America/Chicago:20240727T073000
DTEND;TZID=America/Chicago:20240727T110000
DTSTAMP:20260422T170840
CREATED:20240524T200932Z
LAST-MODIFIED:20240524T200932Z
UID:10001306-1722065400-1722078000@arkansasoutside.com
SUMMARY:2024 Conway Kid's Tri
DESCRIPTION:The Conway Kids’ Triathlon is one of the country’s premier youth triathlons.\nWe provide a morning full of triathlon fun for kids of all abilities from ages 6-15. This event emphasizes health\, self-esteem\, self-confidence and fun in a safe\, family-friendly environment.
URL:https://arkansasoutside.com/event/2024-conway-kids-tri/
LOCATION:Carmichael Hall\, 201 Donaghey Ave\, Conway\, 72035\, United States
CATEGORIES:Multisport (Triathlon/Adventure Racing/Etc)
ATTACH;FMTTYPE=image/jpeg:https://arkansasoutside.com/wp-content/uploads/2024/05/race131411-logo-0.jpg
END:VEVENT
BEGIN:VEVENT
DTSTART;TZID=America/Chicago:20240727T073000
DTEND;TZID=America/Chicago:20240727T110000
DTSTAMP:20260422T170840
CREATED:20240524T200932Z
LAST-MODIFIED:20240524T200932Z
UID:10001984-1722065400-1722078000@arkansasoutside.com
SUMMARY:2024 Conway Kid's Tri
DESCRIPTION:The Conway Kids’ Triathlon is one of the country’s premier youth triathlons.\nWe provide a morning full of triathlon fun for kids of all abilities from ages 6-15. This event emphasizes health\, self-esteem\, self-confidence and fun in a safe\, family-friendly environment.
URL:https://arkansasoutside.com/event/2024-conway-kids-tri-2/
LOCATION:Carmichael Hall\, 201 Donaghey Ave\, Conway\, 72035\, United States
CATEGORIES:Multisport (Triathlon/Adventure Racing/Etc)
ATTACH;FMTTYPE=image/jpeg:https://arkansasoutside.com/wp-content/uploads/2024/05/race131411-logo-0.jpg
END:VEVENT
BEGIN:VEVENT
DTSTART;TZID=America/Chicago:20240727T200000
DTEND;TZID=America/Chicago:20240727T230000
DTSTAMP:20260422T170840
CREATED:20240524T200536Z
LAST-MODIFIED:20240524T200536Z
UID:10001305-1722110400-1722121200@arkansasoutside.com
SUMMARY:That Dam Night Run 5K
DESCRIPTION:36th Running of the Dam Night Run 5k\nWATER STATION: At the halfway point and finish line \nFINISH: Spillway Dam area on Skyline Drive in Arkadelphia\, AR. \nNO DOGS OR STROLLERS. \nRACE RESULTS: Results will be on the internet at www.macsrts.com \nRace shirts guaranteed to anyone registered by July 13\, 2024. Additional shirts on a first come\, first serve basis. \nMOTELS: \n\nHampton Inn\, 870-403-0800\nQuality Inn\, 870-246-5592\nSuper 8 Motel\, 870-345-4350\nHoliday Inn Express 855-797-6733\nAmerica’s Best 870-2465855\nComfort Inn\, 855-516-1093\n\nThe Arkadelphia Running Club would like to thank our sponsors: \n\n\n\nCaddo Valley A&P\nSeductions\nSouthern Bancorp\nAx’Em Timber\nCorp of Engineers\nClark County Sheriff Office\nPrintmania\nIron Mountain Marina\nHardman Lumber Company\nBatson Signs\n\n\n\nFor more information contact: \nNicole McGough\, 870-464-7415\, email: hdnicole@yahoo.com  \n  \nTHIS RACE WILL BE CAPPED AT 850 PARTICIPANTS
URL:https://arkansasoutside.com/event/that-dam-night-run-5k-2/
LOCATION:DeGray Lake Spillway\, 400 Skyline Dr\, Arkadelphia\, AR\, 71923\, United States
CATEGORIES:Running (Trail & Road)
ATTACH;FMTTYPE=image/jpeg:https://arkansasoutside.com/wp-content/uploads/2024/05/genericImage-websiteLogo-13639-1715959325.3812-0.bMr3yD.jpg
END:VEVENT
BEGIN:VEVENT
DTSTART;TZID=America/Chicago:20240727T200000
DTEND;TZID=America/Chicago:20240727T230000
DTSTAMP:20260422T170840
CREATED:20240524T200536Z
LAST-MODIFIED:20240524T200536Z
UID:10001983-1722110400-1722121200@arkansasoutside.com
SUMMARY:That Dam Night Run 5K
DESCRIPTION:36th Running of the Dam Night Run 5k\nWATER STATION: At the halfway point and finish line \nFINISH: Spillway Dam area on Skyline Drive in Arkadelphia\, AR. \nNO DOGS OR STROLLERS. \nRACE RESULTS: Results will be on the internet at www.macsrts.com \nRace shirts guaranteed to anyone registered by July 13\, 2024. Additional shirts on a first come\, first serve basis. \nMOTELS: \n\nHampton Inn\, 870-403-0800\nQuality Inn\, 870-246-5592\nSuper 8 Motel\, 870-345-4350\nHoliday Inn Express 855-797-6733\nAmerica’s Best 870-2465855\nComfort Inn\, 855-516-1093\n\nThe Arkadelphia Running Club would like to thank our sponsors: \n\n\n\nCaddo Valley A&P\nSeductions\nSouthern Bancorp\nAx’Em Timber\nCorp of Engineers\nClark County Sheriff Office\nPrintmania\nIron Mountain Marina\nHardman Lumber Company\nBatson Signs\n\n\n\nFor more information contact: \nNicole McGough\, 870-464-7415\, email: hdnicole@yahoo.com  \n  \nTHIS RACE WILL BE CAPPED AT 850 PARTICIPANTS
URL:https://arkansasoutside.com/event/that-dam-night-run-5k-2-2/
LOCATION:DeGray Lake Spillway\, 400 Skyline Dr\, Arkadelphia\, AR\, 71923\, United States
CATEGORIES:Running (Trail & Road)
ATTACH;FMTTYPE=image/jpeg:https://arkansasoutside.com/wp-content/uploads/2024/05/genericImage-websiteLogo-13639-1715959325.3812-0.bMr3yD.jpg
END:VEVENT
BEGIN:VEVENT
DTSTART;TZID=America/Chicago:20240729T180000
DTEND;TZID=America/Chicago:20240729T203000
DTSTAMP:20260422T170840
CREATED:20240709T203037Z
LAST-MODIFIED:20240709T203037Z
UID:10002010-1722276000-1722285000@arkansasoutside.com
SUMMARY:Monday Night Lights Criterium
DESCRIPTION:Come out and race a crit like none other on Central Arkansas’ newest high speed karting course courtesy of Shift Little Rock. The course is .7 of a mile of brand-new pavement with 14 turns\, plenty of room for passing\, and a long straight for those high watt sprints! Come early to pre-ride the course and dial in those handling skills before the main event. Men and women will start together within their race categories but will have separate podiums. Cash prizes for the A race podium sponsored by Spokes Little Rock(prizes increase with every ten registered racers)\, B race prizes sponsored by Trek Little Rock\, and C race prizes sponsored by Arkansas Cycle & Fitness. Prime prizes for A\,B\,&C races sponsored by Trek\, Angry Dave’s\, AC&F\, Muk-off\, Tifosi Optics\, Hand-up Gloves\, Blue Sail Coffee\, Lost 40 brewery\, and Diamond Bear brewery.  It’s going to be hot \, but there will be free cold beer for racers courtesy of Flyway brewery! BBinfinite has supplied ceramic pulley sets for series winners so be sure to keep racing to stack those points! Each race registration enters you for a raffle for prizes from Hyperice as well! Last but not least don’t worry about sending it too hard\, because Hex carbon workshop has agreed to fix any carbon bikes damaged due to any unfortunate circumstances that may arise during racing!
URL:https://arkansasoutside.com/event/monday-night-lights-criterium-2/2024-07-29/
LOCATION:Central Arkansas Carting Complex\, 49 Ricky Bobby Way\, Vilonia\, 72173\, United States
CATEGORIES:Cycling (Road & Mountain)
ATTACH;FMTTYPE=image/jpeg:https://arkansasoutside.com/wp-content/uploads/2024/07/447496149_10112575854319090_2520219267567361611_n.jpg
END:VEVENT
BEGIN:VEVENT
DTSTART;TZID=America/Chicago:20240729T180000
DTEND;TZID=America/Chicago:20240729T203000
DTSTAMP:20260422T170840
CREATED:20240709T203037Z
LAST-MODIFIED:20240719T132032Z
UID:10001337-1722276000-1722285000@arkansasoutside.com
SUMMARY:Monday Night Lights Criterium
DESCRIPTION:Come out and race a crit like none other on Central Arkansas’ newest high speed karting course courtesy of Shift Little Rock. The course is .7 of a mile of brand-new pavement with 14 turns\, plenty of room for passing\, and a long straight for those high watt sprints! Come early to pre-ride the course and dial in those handling skills before the main event. Men and women will start together within their race categories but will have separate podiums. Cash prizes for the A race podium sponsored by Spokes Little Rock(prizes increase with every ten registered racers)\, B race prizes sponsored by Trek Little Rock\, and C race prizes sponsored by Arkansas Cycle & Fitness. Prime prizes for A\,B\,&C races sponsored by Trek\, Angry Dave’s\, AC&F\, Muk-off\, Tifosi Optics\, Hand-up Gloves\, Blue Sail Coffee\, Lost 40 brewery\, and Diamond Bear brewery.  It’s going to be hot \, but there will be free cold beer for racers courtesy of Flyway brewery! BBinfinite has supplied ceramic pulley sets for series winners so be sure to keep racing to stack those points! Each race registration enters you for a raffle for prizes from Hyperice as well! Last but not least don’t worry about sending it too hard\, because Hex carbon workshop has agreed to fix any carbon bikes damaged due to any unfortunate circumstances that may arise during racing!
URL:https://arkansasoutside.com/event/monday-night-lights-criterium/2024-07-29/
LOCATION:Central Arkansas Carting Complex\, 49 Ricky Bobby Way\, Vilonia\, 72173\, United States
CATEGORIES:Cycling (Road & Mountain)
ATTACH;FMTTYPE=image/jpeg:https://arkansasoutside.com/wp-content/uploads/2024/07/447496149_10112575854319090_2520219267567361611_n.jpg
END:VEVENT
END:VCALENDAR