BEGIN:VCALENDAR
VERSION:2.0
PRODID:-//Arkansas Outside - ECPv6.15.20//NONSGML v1.0//EN
CALSCALE:GREGORIAN
METHOD:PUBLISH
X-WR-CALNAME:Arkansas Outside
X-ORIGINAL-URL:https://arkansasoutside.com
X-WR-CALDESC:Events for Arkansas Outside
REFRESH-INTERVAL;VALUE=DURATION:PT1H
X-Robots-Tag:noindex
X-PUBLISHED-TTL:PT1H
BEGIN:VTIMEZONE
TZID:America/Chicago
BEGIN:DAYLIGHT
TZOFFSETFROM:-0600
TZOFFSETTO:-0500
TZNAME:CDT
DTSTART:20230312T080000
END:DAYLIGHT
BEGIN:STANDARD
TZOFFSETFROM:-0500
TZOFFSETTO:-0600
TZNAME:CST
DTSTART:20231105T070000
END:STANDARD
BEGIN:DAYLIGHT
TZOFFSETFROM:-0600
TZOFFSETTO:-0500
TZNAME:CDT
DTSTART:20240310T080000
END:DAYLIGHT
BEGIN:STANDARD
TZOFFSETFROM:-0500
TZOFFSETTO:-0600
TZNAME:CST
DTSTART:20241103T070000
END:STANDARD
BEGIN:DAYLIGHT
TZOFFSETFROM:-0600
TZOFFSETTO:-0500
TZNAME:CDT
DTSTART:20250309T080000
END:DAYLIGHT
BEGIN:STANDARD
TZOFFSETFROM:-0500
TZOFFSETTO:-0600
TZNAME:CST
DTSTART:20251102T070000
END:STANDARD
END:VTIMEZONE
BEGIN:VEVENT
DTSTART;TZID=America/Chicago:20240921T080000
DTEND;TZID=America/Chicago:20240921T110000
DTSTAMP:20260423T164802
CREATED:20240906T140542Z
LAST-MODIFIED:20240906T140542Z
UID:10002104-1726905600-1726916400@arkansasoutside.com
SUMMARY:East End Sizzler 10K/5K
DESCRIPTION:The 15th Annual East End Sizzler “Stride to End Childhood Cancer” is a 5K and 10K in held in the small community of East End\, AR put on by the Little Rock South Lions Club. \n  \nRegistration for the race will begin at 7:00 am and ends 10 minutes before the race starts. \n  \nThe 5K and 10K will both begin at 8:00 am. \n  \nThis will be a chip-timed race. \n  \nThere is a Course time Limit of 2 hours. \n  \nWe are awarding the top 3 males and females in each age category: 19 and under \, 20-29\, 30-39\, 40-49\, 50-59\, 60-69\, 70+. This will be for both the 5K and the 10K. \n  \nT-shirt Deadline: September 2\, 2024. We will do our best to get everyone a shirt in their size if you register after the deadline! Shirts will be given out first-come\, first-serve until we run out. \n  \nIn 2023 with your help\, we supported the Ronald McDonald House to purchase items (snacks) for were families stay when children are in the hospital.
URL:https://arkansasoutside.com/event/east-end-sizzler-10k-5k-3/
LOCATION:20422 N Springlake Rd\, 20422 N Springlake Rd\, East End\, 72065\, United States
CATEGORIES:Running (Trail & Road)
ATTACH;FMTTYPE=image/jpeg:https://arkansasoutside.com/wp-content/uploads/2024/09/genericImage-websiteLogo-65684-1716414847.2855-0.bMtML_.jpg
END:VEVENT
BEGIN:VEVENT
DTSTART;TZID=America/Chicago:20240921T080000
DTEND;TZID=America/Chicago:20240921T120000
DTSTAMP:20260423T164802
CREATED:20240918T134701Z
LAST-MODIFIED:20240918T134701Z
UID:10002148-1726905600-1726920000@arkansasoutside.com
SUMMARY:Benton Bike Park Workday
DESCRIPTION:‼️Join the Benton Bike Park crew on September 21st or October 19th for trail maintenance days! \n\nIf you’ve never been to a work day\, it’s an awesome opportunity to meet other riders and see what it takes to keep these trails running. Make sure to bring some gloves and water. We look forward to seeing you there! \n\nBenton\, Arkansas Parks and Recreation \nBenton\, Arkansas – Benton Proud
URL:https://arkansasoutside.com/event/benton-bike-park-workday/
LOCATION:Benton Bike Park\, 1100 S Market St\,\, Benton\, 72015\, United States
CATEGORIES:Trail Love Day
ATTACH;FMTTYPE=image/jpeg:https://arkansasoutside.com/wp-content/uploads/2024/09/FB_IMG_1726666764518.jpg
END:VEVENT
BEGIN:VEVENT
DTSTART;TZID=America/Chicago:20240921T080000
DTEND;TZID=America/Chicago:20240921T120000
DTSTAMP:20260423T164802
CREATED:20240913T123942Z
LAST-MODIFIED:20240913T123942Z
UID:10002146-1726905600-1726920000@arkansasoutside.com
SUMMARY:Sequoyah Trail Luv
DESCRIPTION:Rake and lop session. Bring hydration and a snack. Wear sturdy shoes and work gloves. Meet on top of Sequoyah where Skyline Drive meets Williams Drive.
URL:https://arkansasoutside.com/event/sequoyah-trail-luv/
LOCATION:Mount Sequoyah Woods\, 5 South Happy Hollow Road\, Fayetteville\, 72701\, United States
CATEGORIES:Trail Love Day
ATTACH;FMTTYPE=image/jpeg:https://arkansasoutside.com/wp-content/uploads/2015/10/TrailworkDay.jpg
END:VEVENT
BEGIN:VEVENT
DTSTART;TZID=America/Chicago:20240921T080000
DTEND;TZID=America/Chicago:20240921T120000
DTSTAMP:20260423T164802
CREATED:20240906T140015Z
LAST-MODIFIED:20240906T140015Z
UID:10002102-1726905600-1726920000@arkansasoutside.com
SUMMARY:Onyx Ledger Memorial 5K
DESCRIPTION:Hi my name is DariAne Lewis vice president of Local Mpact. My Husband Trae and I are so excited to bring to you the 4th annual Onyx Ledger Memorial 5k. Onyx Ledger was our little boy who was born a bit to soon to survive at 22 weeks gestation. Local Mpact is a Non Profit Organization that aides families just like ours who have unfortunately experienced the loss of a baby. This organization tailors to each families specific needs which may be anything from a headstone\, memorabilia of the baby or even just a hot meal and a listening ear for the family. At Local Mpact we hope to not only bring awareness but help bridge the gap for these families as they navigate through such grief. Thank you so much for your donations towards our mission.
URL:https://arkansasoutside.com/event/onyx-ledger-memorial-5k/
LOCATION:2604 South Madison\, 2604 South Madison\, Jonesboro\, 72404\, United States
CATEGORIES:Running (Trail & Road)
ATTACH;FMTTYPE=image/jpeg:https://arkansasoutside.com/wp-content/uploads/2024/05/running-shoe1-300px.jpg
END:VEVENT
BEGIN:VEVENT
DTSTART;TZID=America/Chicago:20240921T080000
DTEND;TZID=America/Chicago:20240921T120000
DTSTAMP:20260423T164802
CREATED:20240415T195302Z
LAST-MODIFIED:20240415T195302Z
UID:10000472-1726905600-1726920000@arkansasoutside.com
SUMMARY:THE MUD RUN – LITTLE ROCK’S DIRTIEST 5K
DESCRIPTION:Here’s the Down & Dirty . . .\nCreated for those who think a little differently about this runnin’ stuff. Definitely NOT your average 5K\, the Mud Run is for those with an adventuresome spirit. \nParticipants run\, walk\, skip\, trot and even cavort through our 5K(ish – please refer to helpful hints section for the clarification of “ish”) course\, which winds through the scenic trails of War Memorial Park\, then finish with a spectacular frolic (yes\, style points are given to participants when they enter the pit) through our world-renowned mud pit\, which is filled with that amazing (and organic) Arkansas mud. \nThe point is not to finish fast\, but to finish with style.
URL:https://arkansasoutside.com/event/the-mud-run-little-rocks-dirtiest-5k-3/
LOCATION:War Memorial Park\, 5101 W Markham St\, Little Rock\, AR\, 72205
CATEGORIES:Running (Trail & Road)
ATTACH;FMTTYPE=image/jpeg:https://arkansasoutside.com/wp-content/uploads/2015/07/561332_447088245324844_1735497588_n.jpg
END:VEVENT
BEGIN:VEVENT
DTSTART;TZID=America/Chicago:20240921T080000
DTEND;TZID=America/Chicago:20240921T130000
DTSTAMP:20260423T164802
CREATED:20240906T141348Z
LAST-MODIFIED:20240906T141348Z
UID:10002107-1726905600-1726923600@arkansasoutside.com
SUMMARY:MJ's Stampede
DESCRIPTION:2024 MJ’s Stampede \nCertified 5K/10K Race and Timed 5K Walk \nSaturday\, September 21 \nStart and Finish at Greg Smith River Trail\, 121 Riverfront Drive\, Fort Smith AR  72901 \n7 a.m. Registration\, 8 a.m. Race \nEntry Fee: $30 before September 9 and  $40 after September 9 through day of race \nParticipant Packet Pick-Up\, Friday\, September 20\, 11 am – 1 pm and 3 pm – 6 pm at True Grit Running Company 6808 Rogers Ave\, Fort Smith AR and Saturday morning from 7 am – 7:45 am at Greg Smith River Trail\, 121 Riverfront Drive\, Fort Smith AR  72901. \nT-shirts guaranteed for those who register prior to September 7 and at day of race\, if available. \nOverall Awards for Top three Male & Top Female Finishers in 5K and 10K\, Top 3 Masters (40+) Male and Female. \nAge Division Awards (3 deep) in 5 year age groups for 10 – 80 & 9 and under for 5K Run\, 10K Run\, and Timed 5K Walk. \nDiscounted Hotel rates are available at the Wyndham Fort Smith City Center 700 Rogers Ave\, Fort Smith AR   479-783-1000  and Hampton Inn 6201-C Rogers Ave\, Fort Smith. \nhttps://www.wyndhamhotels.com/wyndham/fort-smith-arkansas/wyndham-fort-smith-city-center/rooms-rates?brand_id=HR&checkInDate=9/20/2024&checkOutDate=9/21/2024&useWRPoints=false&children=0&groupCode=092024STA&adults=1&rooms=1&loc=ChIJj3azjrpMyocRivorFdK3te8&sessionId=1721065234 \n  \nThis race goal is to raise funds to provide assistance to Leukemia and Lymphoma Society (LLS). \nwww.teamintraining.org \nIn 2022\, LLS took bold steps to improve the futures of blood cancer patients and survivors dealing with more than 100 blood cancers\, including leukemia\, lymphoma\, and Myeloma. \n1. 14 new blood cancer treatment options were approved by FDA\, many because of longstanding LLS support.\n2.  LLS funded 117 scientists and invested in 17 Therapy Acceleration Program (TAP) partners to advance next-generation blood cancer research. \nLLS is thankful for our supporters and volunteers who help continue advancing the LLS mission in Arkansas providing life-saving resources\, research\, and financial support.  Below is a snapshot of how LLS impacted the people of Arkansas in FY22. \n\nPeople in AR who received financial assistance through C0-Pay Assistance Program: $4\,401\,500.00.\nIn travel assistance provided to patients in AR: $66\,000.00.\nIn Urgent Need financial assistance provided to patients in AR: $79\,500.00.\nPeople and caregivers served by education and services in AR: 916.
URL:https://arkansasoutside.com/event/mjs-stampede/
LOCATION:121 Riverfront Drive\, 121 Riverfront Drive\, Fort Smith\, 72901\, United States
CATEGORIES:Running (Trail & Road)
ATTACH;FMTTYPE=image/jpeg:https://arkansasoutside.com/wp-content/uploads/2024/09/race87607-logo-0.jpg
END:VEVENT
BEGIN:VEVENT
DTSTART;TZID=America/Chicago:20240921T080000
DTEND;TZID=America/Chicago:20240921T150000
DTSTAMP:20260423T164802
CREATED:20240906T140928Z
LAST-MODIFIED:20240906T140928Z
UID:10002105-1726905600-1726930800@arkansasoutside.com
SUMMARY:Spooky Sprint 5k/10k & Half Marathon
DESCRIPTION:Join us for the annual Spooky Sprint 5k/10k & Half Marathon!  A fun\, Halloween-themed event that is perfect for the whole family.\nThe fun includes – \n\nGreat Swag – designer shirt & custom medal\nChip-timing with live results and awards\nFree photos\nDelicious Treats waiting at the finish line\nPlenty of fun!\nGrab your friends and family\, you are not going to want to miss this one!\n\nCan’t make the race? No problem! We offer a virtual race option where you can run anywhere\, at any time\, and still earn the fun swag! \n*Youth-based pricing for the 5k/10k\, 12 & Under are only $15 \n\nHalf Marathon Registration includes a custom bib\, designer shirt\, awesome finisher medal\, and 13.1 pin!\n10k registration includes a custom bib\, designer shirt\, and awesome finisher medal!\n5k registration includes a custom bib\, designer shirt\, and an awesome finisher medal!\n1 Mile registration includes a designer shirt and a challenge pin!\nThe kid’s dash is a fun\, untimed dash for our kiddos ages 10 and under. Registration includes a mini bib\, youth-sized shirt\, and kid’s dash pin! (If your child wants to run the kid’s dash\, and doesn’t want the SWAG\, they are welcome to run with us on race day for free!)\n\n *Register by Sunday at midnight the weekend BEFORE the race to be guaranteed a shirt
URL:https://arkansasoutside.com/event/spooky-sprint-5k-10k-half-marathon/
LOCATION:Riverfront Drive\, 398 Riverfront Dr\, North Little Rock\, AR\, 72114\, United States
CATEGORIES:Running (Trail & Road)
ATTACH;FMTTYPE=image/jpeg:https://arkansasoutside.com/wp-content/uploads/2024/09/race156534-scaled-logo-0.jpg
END:VEVENT
BEGIN:VEVENT
DTSTART;TZID=America/Chicago:20240921T083000
DTEND;TZID=America/Chicago:20240921T120000
DTSTAMP:20260423T164802
CREATED:20240906T135728Z
LAST-MODIFIED:20240906T135728Z
UID:10002101-1726907400-1726920000@arkansasoutside.com
SUMMARY:Disaster Dash 5k Run/Walk
DESCRIPTION:The 5th Annual Disaster Dash Run/Walk 5k will be Saturday\, Sept. 21\, 2024. The race will begin and end at Murray Park\, Pavilion #2 located at 5900 Rebsamen Park Road\, Little Rock. Race start is 8:30 am. All participants will receive a finisher’s medal\, t-shirt\, goody bag\, and official race time. \nT-shirt Deadline: August 31\, 2024. We will do our best to get everyone a shirt in their size if you register after the deadline! Shirts will be given out first-come\, first-serve until we run out. \nPacket Pickup:\nFriday\, Sept. 20\nRock City Running\n11121 N Rodney Parham Rd\, Little Rock\, AR \nVIRTUAL Participant?\nPick up your packet in person\, or we can mail it to you! Send in your finishers photos so we can celebrate with you! \nDisaster Dash events are family-friendly and open to all fitness levels.  Funds raised will benefit the Jannette Jaco Memorial Endowment for disaster relief\, an  Arkansas Community Foundation Fund. We extend our heartfelt thanks to the generous local sponsors & participants who support our outreach. Visit our website or follow us on Facebook to find out more about our mission\, sponsorship opportunities\, and more! For questions\, contact race director Dana Parten at disasterdash5k@gmail.com or 870-821-0455. \nNEW! Follow us on Instagram at @disasterdash5k!
URL:https://arkansasoutside.com/event/disaster-dash-5k-run-walk/
LOCATION:Murray Park\, Little Rock\, 5900 Rebsamen Park Rd\, Little Rock\, 72207\, United States
CATEGORIES:Running (Trail & Road)
ATTACH;FMTTYPE=image/jpeg:https://arkansasoutside.com/wp-content/uploads/2024/09/race87715-logo-0.jpg
END:VEVENT
BEGIN:VEVENT
DTSTART;TZID=America/Chicago:20240921T090000
DTEND;TZID=America/Chicago:20240921T113000
DTSTAMP:20260423T164802
CREATED:20240906T140247Z
LAST-MODIFIED:20240906T140247Z
UID:10002103-1726909200-1726918200@arkansasoutside.com
SUMMARY:Little Rock Teal Trot
DESCRIPTION:The Little Rock Teal Trot is a 5K fun run dedicated to supporting the Tina Head Ovarian Cancer Foundation’s mission to advance the fight against ovarian cancer. This event brings together runners\, walkers\, and supporters from all walks of life to raise funds and awareness for ovarian cancer research. \nProceeds from the Little Rock Teal Trot directly benefit the Tina Head Ovarian Cancer Foundation\, enabling the organization to provide education to communities\, raise awareness about the disease\, and support groundbreaking research and innovation through funding and resources. By participating in the Teal Trot\, you are empowering those affected by ovarian cancer to take proactive steps in prevention\, early detection\, and treatment. \nJoin us in making a meaningful impact and stride towards a future without ovarian cancer. Together\, we can make a difference!
URL:https://arkansasoutside.com/event/little-rock-teal-trot/
LOCATION:Two Rivers Park\, 6722 Two Rivers Park Road\, Little Rock\, AR\, 72223\, United States
CATEGORIES:Running (Trail & Road)
ATTACH;FMTTYPE=image/jpeg:https://arkansasoutside.com/wp-content/uploads/2024/09/genericImage-websiteLogo-233946-1721227929.6414-0.bML9Qz.jpg
END:VEVENT
BEGIN:VEVENT
DTSTART;TZID=America/Chicago:20240922T080000
DTEND;TZID=America/Chicago:20240922T133000
DTSTAMP:20260423T164802
CREATED:20240112T170703Z
LAST-MODIFIED:20240204T153501Z
UID:10000392-1726992000-1727011800@arkansasoutside.com
SUMMARY:Kessler Mountain Jam
DESCRIPTION:Kessler Mountain Jam is an AMBCS (Arkansas Mountain Bike Championship Series) mountain bike race contested on the trails of Kessler Mountain in south Fayetteville\, AR.  This is a USA Cycling sanctioned race and there are categories for all ages and levels.  See following link for license requirements for each level of racer – https://www.kesslermountainjam.com/Race/KesslerMountainJam/Page-3. \nChip timing\, event t-shirt\, post-race food and beverage (adult and youth)\, and awards are part of this great day of racing. \nBring a cowbell and let’s have a great day of exciting racing!
URL:https://arkansasoutside.com/event/kessler-mountain-jam-2/
LOCATION:Kessler Mountain Park\, 2600 Wc 200\, Fayetteville\, AR\, 72701\, United States
CATEGORIES:Cycling (Road & Mountain)
ATTACH;FMTTYPE=image/jpeg:https://arkansasoutside.com/wp-content/uploads/2023/03/race126932-logo.jpg
ORGANIZER;CN="All Sports Productions":MAILTO:bruce@allsportsproductionsinc.com
END:VEVENT
BEGIN:VEVENT
DTSTART;TZID=America/Chicago:20240922T140000
DTEND;TZID=America/Chicago:20240922T160000
DTSTAMP:20260423T164802
CREATED:20240906T125123Z
LAST-MODIFIED:20240906T125308Z
UID:10002093-1727013600-1727020800@arkansasoutside.com
SUMMARY:Healthy Kids Running Series Fall 2024
DESCRIPTION:Who We Are: Healthy Kids Running Series is a five (5) week running program in the spring and fall for kids Pre-K through 8th grade. Each HKRS Series takes place once a week and offers age-appropriate running events including the 50 & 75 yard dashes\, the 1/4 mile\, the 1/2 mile and the 1 mile run. Kids will earn points for each race they complete based on their finish. \nPricing: The registration fee covers the entire five (5) weeks of the Series which includes race bibs for each week\, a runner shirt\, a finisher medal and any sponsor giveaways. Registration is non-refundable and non-transferable. Online Early Bird registration increases three weeks prior to the first race event. \nChallenger: This Series offers a Challenger Division which is an adaptive 75 yard race for children with disabilities and/or special needs. This allows for parents\, siblings\, and friends to be on the course with runners to provide support as well as bringing their own supportive devices such as crutches\, braces\, wheelchairs\, etc. to be used by runners. \nMakeup Date Information: 10/20/2024 \nSingle Day Racing: Single day race registration opens one hour prior to the start of each race. The registration fee covers one single race to be run on the day of registration\, race bib\, and a runner shirt while supplies last. Shirt sizing and availability is not guaranteed for single day racers. ALL single day registrations should be completed onsite at the race location. Single day racers will have the option to upgrade to the full series (see tab at the top of the page for instructions). There is a strict no-refund and no-transfer policy. \nAwards: All participants receive a medal on Week 5! Trophies will be awarded to the overall top finishers in each of the divisions listed below (broken out by boys and girls respectively): \nPre-K 50 Yard Dash \nPre-K 75 Yard Dash \nKindergarten & 1st Grade \n2nd & 3rd Grade \n4th & 5th Grade \n6th to 8th Grade \nChallenger \nShare your running photos with our community! Find us on Facebook @HealthyKidsRunning or Instagram @healthykidsrs! \n#GetUpandGo
URL:https://arkansasoutside.com/event/healthy-kids-running-series-fall-2024/2024-09-22/
LOCATION:Kinyon Sports Complex\, 1550 Gamble Road\, Centerton\, 72719\, United States
CATEGORIES:Running (Trail & Road)
ATTACH;FMTTYPE=image/jpeg:https://arkansasoutside.com/wp-content/uploads/2024/09/race157418-scaled-logo-0.jpg
END:VEVENT
END:VCALENDAR