BEGIN:VCALENDAR
VERSION:2.0
PRODID:-//Arkansas Outside - ECPv6.15.20//NONSGML v1.0//EN
CALSCALE:GREGORIAN
METHOD:PUBLISH
X-WR-CALNAME:Arkansas Outside
X-ORIGINAL-URL:https://arkansasoutside.com
X-WR-CALDESC:Events for Arkansas Outside
REFRESH-INTERVAL;VALUE=DURATION:PT1H
X-Robots-Tag:noindex
X-PUBLISHED-TTL:PT1H
BEGIN:VTIMEZONE
TZID:America/Chicago
BEGIN:DAYLIGHT
TZOFFSETFROM:-0600
TZOFFSETTO:-0500
TZNAME:CDT
DTSTART:20230312T080000
END:DAYLIGHT
BEGIN:STANDARD
TZOFFSETFROM:-0500
TZOFFSETTO:-0600
TZNAME:CST
DTSTART:20231105T070000
END:STANDARD
BEGIN:DAYLIGHT
TZOFFSETFROM:-0600
TZOFFSETTO:-0500
TZNAME:CDT
DTSTART:20240310T080000
END:DAYLIGHT
BEGIN:STANDARD
TZOFFSETFROM:-0500
TZOFFSETTO:-0600
TZNAME:CST
DTSTART:20241103T070000
END:STANDARD
BEGIN:DAYLIGHT
TZOFFSETFROM:-0600
TZOFFSETTO:-0500
TZNAME:CDT
DTSTART:20250309T080000
END:DAYLIGHT
BEGIN:STANDARD
TZOFFSETFROM:-0500
TZOFFSETTO:-0600
TZNAME:CST
DTSTART:20251102T070000
END:STANDARD
END:VTIMEZONE
BEGIN:VEVENT
DTSTART;TZID=America/Chicago:20241013T140000
DTEND;TZID=America/Chicago:20241013T160000
DTSTAMP:20260425T135317
CREATED:20240906T125123Z
LAST-MODIFIED:20240906T125308Z
UID:10002095-1728828000-1728835200@arkansasoutside.com
SUMMARY:Healthy Kids Running Series Fall 2024
DESCRIPTION:Who We Are: Healthy Kids Running Series is a five (5) week running program in the spring and fall for kids Pre-K through 8th grade. Each HKRS Series takes place once a week and offers age-appropriate running events including the 50 & 75 yard dashes\, the 1/4 mile\, the 1/2 mile and the 1 mile run. Kids will earn points for each race they complete based on their finish. \nPricing: The registration fee covers the entire five (5) weeks of the Series which includes race bibs for each week\, a runner shirt\, a finisher medal and any sponsor giveaways. Registration is non-refundable and non-transferable. Online Early Bird registration increases three weeks prior to the first race event. \nChallenger: This Series offers a Challenger Division which is an adaptive 75 yard race for children with disabilities and/or special needs. This allows for parents\, siblings\, and friends to be on the course with runners to provide support as well as bringing their own supportive devices such as crutches\, braces\, wheelchairs\, etc. to be used by runners. \nMakeup Date Information: 10/20/2024 \nSingle Day Racing: Single day race registration opens one hour prior to the start of each race. The registration fee covers one single race to be run on the day of registration\, race bib\, and a runner shirt while supplies last. Shirt sizing and availability is not guaranteed for single day racers. ALL single day registrations should be completed onsite at the race location. Single day racers will have the option to upgrade to the full series (see tab at the top of the page for instructions). There is a strict no-refund and no-transfer policy. \nAwards: All participants receive a medal on Week 5! Trophies will be awarded to the overall top finishers in each of the divisions listed below (broken out by boys and girls respectively): \nPre-K 50 Yard Dash \nPre-K 75 Yard Dash \nKindergarten & 1st Grade \n2nd & 3rd Grade \n4th & 5th Grade \n6th to 8th Grade \nChallenger \nShare your running photos with our community! Find us on Facebook @HealthyKidsRunning or Instagram @healthykidsrs! \n#GetUpandGo
URL:https://arkansasoutside.com/event/healthy-kids-running-series-fall-2024/2024-10-13/
LOCATION:Kinyon Sports Complex\, 1550 Gamble Road\, Centerton\, 72719\, United States
CATEGORIES:Running (Trail & Road)
ATTACH;FMTTYPE=image/jpeg:https://arkansasoutside.com/wp-content/uploads/2024/09/race157418-scaled-logo-0.jpg
END:VEVENT
BEGIN:VEVENT
DTSTART;TZID=America/Chicago:20241013T140000
DTEND;TZID=America/Chicago:20241013T170000
DTSTAMP:20260425T135317
CREATED:20240813T191332Z
LAST-MODIFIED:20240813T191332Z
UID:10001427-1728828000-1728838800@arkansasoutside.com
SUMMARY:The Best Day Ride for Women - Conway Biketoberfest
DESCRIPTION:Meetup Location & Route: Beginners | Intermediate & Advanced \nIndoor Cycling: Spin Studio at Conway Regional Health & Fitness Center \n\n\n\nCalling all Swifties! On October 13\, the All-Women’s Ride will begin at the Conway Regional Health & Fitness Center. A T-Swift themed Photo booth\, Eras Playlist\, Friendship bracelets\, Sunnies\, Friends\, cold treats\, and more. What could be better? \nBeginners will take a ride down the Tucker Creek Trail while an intermediate and advanced ride\, led by Lori Ross\, will offer a 24-mile option. Link to Eventbrite to register for Indoor Cycling Class led by Amanda Castillo will posted at a later date.
URL:https://arkansasoutside.com/event/the-best-day-ride-for-women-conway-biketoberfest/
LOCATION:Conway Regional Fitness Center\, 700 Salem Rd\, Conway\, 72034\, United States
CATEGORIES:Cycling (Road & Mountain)
ATTACH;FMTTYPE=image/jpeg:https://arkansasoutside.com/wp-content/uploads/2024/08/BTF_MarketingLogo_Final.jpg
END:VEVENT
BEGIN:VEVENT
DTSTART;VALUE=DATE:20241016
DTEND;VALUE=DATE:20241019
DTSTAMP:20260425T135317
CREATED:20240709T212006Z
LAST-MODIFIED:20240709T212006Z
UID:10001399-1729036800-1729295999@arkansasoutside.com
SUMMARY:Cycling Experience Summit - Bentonville 2024
DESCRIPTION:Announcing the first ever Cycling Experience Summit\, a gathering of cycling focused Event Directors\, Tour \nOperators and State and Local Tourism Leaders. This annual event will bring leaders from across the \ncountry together to share ideas and best practices to start and grow bicycling events and tours of all sizes \nand promote cycling destinations and tourism. \n  \nWho: Bicycling Event Directors\, multi-day Tour Operators\, Local and State Tourism and Destination \nManagement Leaders and cycling enthusiasts. \nWhat: 3 days of informative discussions\, networking and idea sharing focused on strategies for \nsuccessful events\, rides and tours. The event will also feature a day of rides and experiences in \nBentonville\, Arkansas\, a thriving city that has emerged in recent years as a leading cycling destination. \nWhere: All meetings\, events and rides will take place in the heart of Bentonville\, Arkansas. \nWhen: The Summit will take place on October 16-17 with rides and tours on the 18th. Additionally\, this \nevent will be timed to occur during Big Sugar Classic presented by Life Time with events taking place \nprior to and following the Summit. \nHistory: While this will be the first Cycling Experience Summit\, many of the attendees have been \ninvolved in the Bicycle Tour Network and the National Bicycle Tourism Conference that took place \nannually prior to the COVID-19 Pandemic. This event had a rich history of providing a forum specific to \nthose who organized bicycle rides and tours\, and the new Cycling Experience Summit looks to bring this \ngroup back together and expand it to involve cities\, states and tourism/visitor bureaus. \n  \nThe 2024 Cycling Experience Summit Includes: \n\nAll meetings including Keynote address from Bike Industry and Event Leaders\nOrganized rides and tours in/around Bentonville. AR\nOpening reception with beer and appetizers\nBreakfast and lunch on 10/17\nClosing reception with Life Time MTB Festival Week\n\nAccommodations in Bentonville: \nThe Cycling Experience Summit has arranged discounted rates at the following accommodations: \nComfort Inn: https://www.choicehotels.com/reservations/groups/RJ51Z7\nAirbnb Discount Code: BTNC24\, valid October 12-20\nThe Motto by Hilton: https://www.hilton.com/en/hotels/xnabdua-motto-bentonville-downtown/\nBicycle Tour Network Conference Booking Link
URL:https://arkansasoutside.com/event/cycling-experience-summit-bentonville-2024/
LOCATION:The Record\, 104 SW A St\, Bentonville\, AR\, 72712\, United States
CATEGORIES:Cycling (Road & Mountain)
ATTACH;FMTTYPE=image/png:https://arkansasoutside.com/wp-content/uploads/2024/07/6b62ceed-fd83-4aea-a5b6-8ece6ee522e5.png
END:VEVENT
END:VCALENDAR