BEGIN:VCALENDAR
VERSION:2.0
PRODID:-//Arkansas Outside - ECPv6.15.20//NONSGML v1.0//EN
CALSCALE:GREGORIAN
METHOD:PUBLISH
X-WR-CALNAME:Arkansas Outside
X-ORIGINAL-URL:https://arkansasoutside.com
X-WR-CALDESC:Events for Arkansas Outside
REFRESH-INTERVAL;VALUE=DURATION:PT1H
X-Robots-Tag:noindex
X-PUBLISHED-TTL:PT1H
BEGIN:VTIMEZONE
TZID:America/Chicago
BEGIN:DAYLIGHT
TZOFFSETFROM:-0600
TZOFFSETTO:-0500
TZNAME:CDT
DTSTART:20230312T080000
END:DAYLIGHT
BEGIN:STANDARD
TZOFFSETFROM:-0500
TZOFFSETTO:-0600
TZNAME:CST
DTSTART:20231105T070000
END:STANDARD
BEGIN:DAYLIGHT
TZOFFSETFROM:-0600
TZOFFSETTO:-0500
TZNAME:CDT
DTSTART:20240310T080000
END:DAYLIGHT
BEGIN:STANDARD
TZOFFSETFROM:-0500
TZOFFSETTO:-0600
TZNAME:CST
DTSTART:20241103T070000
END:STANDARD
BEGIN:DAYLIGHT
TZOFFSETFROM:-0600
TZOFFSETTO:-0500
TZNAME:CDT
DTSTART:20250309T080000
END:DAYLIGHT
BEGIN:STANDARD
TZOFFSETFROM:-0500
TZOFFSETTO:-0600
TZNAME:CST
DTSTART:20251102T070000
END:STANDARD
END:VTIMEZONE
BEGIN:VEVENT
DTSTART;VALUE=DATE:20241214
DTEND;VALUE=DATE:20241215
DTSTAMP:20260425T231736
CREATED:20241104T133311Z
LAST-MODIFIED:20241104T133311Z
UID:10002186-1734134400-1734220799@arkansasoutside.com
SUMMARY:Spirit of Syllamo
DESCRIPTION:Spirit of Syllamo is a non-stop ultramarathon journey\, covering the picturesque & challenging terrain located within the Sylamore Ranger District of the Ozark National Forest. \nThe race course utilizes the Syllamo Mountain Bike Trails for the first 35M Loop and then traverses the entire Sylamore Trail & Extension\, along with parts of the Ozark Highlands Trail for the 100M. \nThe 100 mile distance alternates on even and odd years. Between the two races\, nearly every trail in the Sylamore Ranger District. \nThe 35m has 9\,200ft of elevation change and is nearly 100% singletrack. \nThe Even Year 100m is 107 miles long with 33\,000ft of elevation change. \nThe Odd Year 100m is 99 miles long with 30\,000ft of elevation change. \nBoth 100m courses are 90% singletrack and 10% Forest Service Road. \nAll distances require the runner to be self-sufficient with gear and nutrition strategy. Aid stations are far apart and course marking is limited to turns.
URL:https://arkansasoutside.com/event/spirit-of-syllamo-3/
LOCATION:Blanchard Springs Recreation Area\, 1110 Blanchard\, Fifty Six\, AR\, United States
CATEGORIES:Running (Trail & Road)
ATTACH;FMTTYPE=image/png:https://arkansasoutside.com/wp-content/uploads/2023/03/SpiritofSyllamo35MWoodFile.png
ORGANIZER;CN="Syllamo Events":MAILTO:syllamoevents@gmail.com
END:VEVENT
BEGIN:VEVENT
DTSTART;TZID=America/Chicago:20241214T080000
DTEND;TZID=America/Chicago:20241214T120000
DTSTAMP:20260425T231736
CREATED:20240911T180235Z
LAST-MODIFIED:20240911T180235Z
UID:10002132-1734163200-1734177600@arkansasoutside.com
SUMMARY:White Elephant 5K & 1 Mile
DESCRIPTION:Lights of the Ozarks\, holiday music\, hot cocoa and “White Elephant” gifts! These 5K and 1 Mile road races (run/walk) are sure to be jolly. \nRegistration\nOnline registration will open on August 1\, 2024 and can be found on RegWiz. Get your crew signed up to jingle all the way with us on December 14. \nVolunteers\nIf you are looking to get involved\, we have plenty of opportunities for you such as event set up\, participant check in\, and course monitors. Register for this or any Fayetteville Parks\, Natural Resources and Cultural Affairs event via Give Pulse or contact Tiffany Hoover\, Assistant Recreation Superintendent\, by email. \nSponsors\nThe Fayetteville Race Series would not be successful with out support from our event sponsors. Thank you to those who have contributed! For information on sponsorship opportunities\, please view the 2024 Sponsor Packet and contact Fayetteville Parks\, Natural Resources and Cultural Affairs.
URL:https://arkansasoutside.com/event/white-elephant-5k-1-mile/
LOCATION:Fayetteville Square\, 70 East Ave\, Fayetteville\, AR\, 72701\, United States
CATEGORIES:Running (Trail & Road)
ATTACH;FMTTYPE=image/jpeg:https://arkansasoutside.com/wp-content/uploads/2024/09/Document-14-scaled-e1760703163342.jpeg
ORGANIZER;CN="City of Fayetteville Parks &amp%3B Recreation":MAILTO:thoover@fayetteville-ar.gov
END:VEVENT
BEGIN:VEVENT
DTSTART;TZID=America/Chicago:20241214T090000
DTEND;TZID=America/Chicago:20241214T110000
DTSTAMP:20260425T231736
CREATED:20241202T170045Z
LAST-MODIFIED:20241202T170045Z
UID:10002244-1734166800-1734174000@arkansasoutside.com
SUMMARY:Greenwood Chamber of Commerce Yule Run
DESCRIPTION:Greenwood Chamber of Commerce Yule Run\n5K Run\nDecember 14\, 2024\nRegistration is online only \nRace Starts at 9:00 am (No entries will be accepted after 8:45 am) \nRegistration is $35\nEarly registration is $25 (by 11:59pm November 30th)\nT-Shirt to the first 100 to pre register \nEarly package pickup Friday Dec 13\, 1pm to 6 pm at the Chamber office\, 16 Townsquare \nCheck in at the Greenwood Youth Building(only if you did not pick up day before) 8-8:45 am\n#2 W. Center (Corner of Main and Center)
URL:https://arkansasoutside.com/event/greenwood-chamber-of-commerce-yule-run/
LOCATION:Greenwood Chamber of Commerce\, #2 W. Center\, Greenwood\, 72936\, United States
CATEGORIES:Running (Trail & Road)
ATTACH;FMTTYPE=image/jpeg:https://arkansasoutside.com/wp-content/uploads/2024/05/running-shoe1-300px.jpg
END:VEVENT
BEGIN:VEVENT
DTSTART;TZID=America/Chicago:20241214T100000
DTEND;TZID=America/Chicago:20241214T160000
DTSTAMP:20260425T231736
CREATED:20241204T212751Z
LAST-MODIFIED:20241210T025713Z
UID:10002254-1734170400-1734192000@arkansasoutside.com
SUMMARY:Central Arkansas Cyclocross Series
DESCRIPTION:Welcome to the Central Arkansas Cyclocross Series “CACS”\nThe atmosphere of cyclocross racing is what draws many racers and fans to the sport. Cyclocross is very spectator friendly with the courses set up in local parks\, along with the short races happening at high speeds. Although the racing can be highly competitive on course\, there’s a festival environment outside the course tape. \nWhat is Cyclocross?\nCyclocross combines elements of road cycling\, mountain biking\, and steeplechase. Races are relatively short (20-60 minutes)\, held on 2.5- to 3.5-kilometer closed circuit courses in parks and open spaces. Riders race over varying amounts of pavement\, grass\, dirt\, and sand. \nCan I use a mountain bike or gravel bike for cyclocross? \nAlmost any standard bicycle with two wheels can be used for cyclocross at local cyclocross races. Bicycles with drop handlebars are standard equipment for cyclocross\, but flat bars (with no forward or upward extensions) are allowed. Gravel bikes can be used for cyclocross races\,  Drop handlebars are required at USA Cycling Cyclocross National. \nTire Width Rules for Cyclocross\nThe condensed version is that any tire width is allowed for local USA Cycling-permitted cyclocross races. \nPoints for the Series  \nPoints for each race will be awarded based on how many participants come and race. Winner of the series will be awarded
URL:https://arkansasoutside.com/event/central-arkansas-cyclocross-series/2024-12-14/
LOCATION:Conway Tech Park\, 1000 Ledgelawn Drive\, Conway\, 72034\, United States
CATEGORIES:Cycling (Road & Mountain)
ATTACH;FMTTYPE=image/jpeg:https://arkansasoutside.com/wp-content/uploads/2024/12/464803754_546026168029906_7024363496799373410_n.jpg
END:VEVENT
BEGIN:VEVENT
DTSTART;TZID=America/Chicago:20241214T170000
DTEND;TZID=America/Chicago:20241214T183000
DTSTAMP:20260425T231736
CREATED:20241202T165804Z
LAST-MODIFIED:20241202T165804Z
UID:10002243-1734195600-1734201000@arkansasoutside.com
SUMMARY:Cave City Holiday Parade 2 Mile
DESCRIPTION:DESCRIPTION – This is a 2 mile race through town that starts at the Cave City Middle School and runs down Highway 167 to the Stop light on Center where it turns right and finishes on the scenic backstreets of Cave City through Matlock Road. Highway 167 will be a closed course featuring a huge crowd that will be set for the Christmas Parade as our runners lead the way for the annual Christmas Parade. After the race there will be an after party that all the runners are invited to at the Cave City Middle School. \nRace entry fees include a T-Shirt and runners in the following age groups will receive an award. Top 3 male and Top 3 female overall. Age Group Categories (Top 3 Male and Female in each age group) 0-9; 10-14; 15-19; 20 – 29; 30 – 39; 40 – 49; 50 – 59; 60 – 69; 70+ \nPARKING: \nParking is allowed at the Elementary School\, In the lots between the Elementary and Middle School\, the Softball/Baseball Gravel Lot or the Lot by the Tennis Courts off Terrie Street. \nBENEFICIARY\nThis race will support the Cave City High School Junior Class. The proceeds will help to raise funds for the Prom as well as the 2026 Graduation. \nLOCATION\nThe race starts and finishes at the Cave City Middle School. Please park in the Middle or Elementary Parking lot and be mindful of the parade floats that will gather. \nCOURSE MAP\nCheck the Link here to view the course: https://drive.google.com/file/d/1hG17OD87w7mRZ454H90dajSyuZK2DBTV/view?usp=sharing \nENTRY FEES\n$20 race fee includes race entry\, T-shirt (for racers registered by November 20 after which they will be first come; first serve until gone)\, Cookies\, and entry to the after part at the Cave City Middle School.  Race day registration will begin at 3:45 PM and cut off STRICTLY at 4:45pm. Make checks payable to: Cave City School District. $25 Day of Race Registration is available (Cash or Check ONLY for day race registration). \nT-SHIRTS\nAll runners pre-registered by November 20th will receive a T-shirt. After November 20th T-shirts will be handed out until they run out on a first come\, first serve at the registration tent for anyone who signs up after November 20th or on the day of the race.. Sizes: Youth M and L and Adult S\, M\, L\, XL\, XXL. If you ARE NOT registered by November 20 there is NO GUARANTEE you will receive a shirt. \nMORE INFORMATION\nPlease contact Brandon Haling (870) 291-5170 or brandon.haling@cavecity.ncsc.k12.ar.us
URL:https://arkansasoutside.com/event/cave-city-holiday-parade-2-mile/
LOCATION:Cave City Middle School\, 711 N. Main Street\, Cave City\, 72521\, United States
CATEGORIES:Running (Trail & Road)
ATTACH;FMTTYPE=image/jpeg:https://arkansasoutside.com/wp-content/uploads/2024/05/running-shoe1-300px.jpg
END:VEVENT
BEGIN:VEVENT
DTSTART;TZID=America/Chicago:20241215T090000
DTEND;TZID=America/Chicago:20241215T110000
DTSTAMP:20260425T231736
CREATED:20241202T170258Z
LAST-MODIFIED:20241202T170258Z
UID:10002245-1734253200-1734260400@arkansasoutside.com
SUMMARY:Candy Cane Course 5k/12k
DESCRIPTION:Join us for the annual Candy Cane Course 5k/12k!  A fun\, Christmas-themed event that is perfect for the whole family.\nThe fun includes –\n\n\nGreat Swag – designer shirt & custom medal\n\n\nChip-timing with live results and awards\n\n\nFree photos\n\n\nDelicious Treats waiting at the finish line\n\n\nPlenty of fun!\nGrab your friends and family\, you are not going to want to miss this one!\nCan’t make the race? No problem! We offer a virtual race option where you can run anywhere\, at any time\, and still earn the fun swag!\n*Youth-based pricing for the 5k/12k\, 12 & Under are only $20\n\n\n5k/12k registration includes a custom bib\, designer shirt\, and awesome finisher medal!\n\n\n1 Mile registration includes a designer shirt and a challenge pin!\n\n\nThe kid’s dash is a fun\, untimed dash for our kiddos ages 10 and under. Registration includes a mini bib\, youth-sized shirt\, and kid’s dash pin! (If your child wants to run the kid’s dash\, and doesn’t want the SWAG\, they are welcome to run with us on race day for free!)\n *Register by Sunday at midnight the weekend BEFORE the race to be guaranteed a shirt
URL:https://arkansasoutside.com/event/candy-cane-course-5k-12k-2/
LOCATION:River Front Park\, 120 Riverfront Park Drive\, North Little Rock\, 72114\, United States
CATEGORIES:Running (Trail & Road)
ATTACH;FMTTYPE=image/png:https://arkansasoutside.com/wp-content/uploads/2024/12/Candy-Cane-Website-Logo.png
END:VEVENT
BEGIN:VEVENT
DTSTART;VALUE=DATE:20241221
DTEND;VALUE=DATE:20241223
DTSTAMP:20260425T231736
CREATED:20241026T120415Z
LAST-MODIFIED:20241026T120415Z
UID:10002180-1734739200-1734911999@arkansasoutside.com
SUMMARY:Raid the Rock Adventure Race
DESCRIPTION:Race Location\nWe are excited to be in the Central Region of Arkansas for the 2024 Race. Check out the Little Rock Convention & Visitors Bureau for lodging and dining options. \nRace Courses\nThere will be two course options: an 8-hour intermediate course and a 24-hour advanced course. Each course will require advanced navigation. You can find more information on the drop-down menu of the Race Information tab. Stay tuned for updates for each race. \nTeams\nThere will be multiple race divisions – 4-person\, 3-person\, 2-person\, and solo. Subdivisions of the 4 person category will be the premier\, masters\, and open divisions. \n\nThe Premier Division will be 3 or 4-person co-ed teams for the 24-hour course only.\nThe Masters Division will be 3 or 4-person co-ed teams for the 24-hour course only.\n\nTo qualify for the Masters Division\, every member of the team must be at least 40 years old.\n\n\nAll other team combinations will fall into the Open Division. There are no age limits for team members. There is a Solo Division for each race. Solo racers racing in the 24-hour race must submit a resume to the Raid the Rock race director before registering. Racer must be at least sixteen (18) years of age to participate in the Solo Division. The same rules apply to solo racers as team racers.\n\nSupport crews are OPTIONAL for ALL RACES. \n**Only the winners of the Premier Division and the 24-hour Solo will have their names added to “The Rock”. \nRegistration fees include: \n\nRaid the Rock shirt for each racer\nPost Race meal for each team member and two Support Crew members\nUse of the provided canoe\, PFDs\, and paddles\nMaps\nEntry into one great race
URL:https://arkansasoutside.com/event/raid-the-rock-adventure-race-3/
LOCATION:Central Arkansas\, 72201\, United States
CATEGORIES:Multisport (Triathlon/Adventure Racing/Etc)
ATTACH;FMTTYPE=image/jpeg:https://arkansasoutside.com/wp-content/uploads/2015/09/616598_388319107901973_483372169_o.jpg
END:VEVENT
BEGIN:VEVENT
DTSTART;TZID=America/Chicago:20241221T080000
DTEND;TZID=America/Chicago:20241221T120000
DTSTAMP:20260425T231736
CREATED:20240415T194854Z
LAST-MODIFIED:20240415T194854Z
UID:10000474-1734768000-1734782400@arkansasoutside.com
SUMMARY:Ugly Sweater Race 5K – Tis the Season To Be Tacky
DESCRIPTION:Dig out that ugly holiday sweater and celebrate the best of the season with a healthy dose of physical fitness! Part of the Run Local Race Series. For more information\, visit uglysweaterrace.com.
URL:https://arkansasoutside.com/event/ugly-sweater-race-5k-tis-the-season-to-be-tacky/
LOCATION:Two Rivers Park\, 6722 Two Rivers Park Road\, Little Rock\, AR\, 72223\, United States
CATEGORIES:Running (Trail & Road)
ATTACH;FMTTYPE=image/jpeg:https://arkansasoutside.com/wp-content/uploads/2022/04/Ugly-Sweater.jpg
END:VEVENT
BEGIN:VEVENT
DTSTART;TZID=America/Chicago:20241221T090000
DTEND;TZID=America/Chicago:20241221T110000
DTSTAMP:20260425T231736
CREATED:20241202T170615Z
LAST-MODIFIED:20241202T170615Z
UID:10002246-1734771600-1734778800@arkansasoutside.com
SUMMARY:Chris Merritt Memorial Mount Nebo Bench Trail Run
DESCRIPTION:4 Mile Run & Walk around the Bench Trail on Mt Nebo State Park.
URL:https://arkansasoutside.com/event/chris-merritt-memorial-mount-nebo-bench-trail-run/
LOCATION:Mount Nebo State Park\, 16728 West State Hwy. 155\, Dardanelle\, AR\, 72834\, United States
CATEGORIES:Running (Trail & Road)
ATTACH;FMTTYPE=image/jpeg:https://arkansasoutside.com/wp-content/uploads/2024/05/running-shoe1-300px.jpg
END:VEVENT
BEGIN:VEVENT
DTSTART;TZID=America/Chicago:20241221T103000
DTEND;TZID=America/Chicago:20241221T170000
DTSTAMP:20260425T231736
CREATED:20240909T144029Z
LAST-MODIFIED:20240909T144029Z
UID:10002128-1734777000-1734800400@arkansasoutside.com
SUMMARY:CXMas in Little Rock
DESCRIPTION:Come play bikes with us! \nBut…What is cyclocross anyway?! \nWeellll…it’s kinda like if a road bike and a mountain bike and a cross country running event all got mashed together! \nCyclocross is the best spectator friendly cycling event there is. ‘Cross races are held on short 1.5 to 2 mile laps that will mostly consist of grass and sometimes mud but can include sand\, artificial barriers\, hills\, off camber sections\, forced runs\, and just about any dumb thing we can find in the park to make the race more fun to do but also to watch! We strive to make the race fun for everyone that comes out; from beginners and youth racers to the most experienced elite racers in Arkansas but especially to spectators! SHAM endeavors to make as much of the race course visible from as many spots along the way as possible\, but especially at the start/finish line so you can cheer on  your friends and family and all the other racers out for a fun day in the sun…or mud…or maybe snow…but probably mud! \nCXmas in Little Rock\nDate: Saturday\, December 21\, 2024\nVenue: War Memorial Park\, 5101 W Markham St\, Little Rock\, AR 72205 \n\n\n\n\n\n\n\n\n\n\n\n\n\nTIME \n\n\nCATEGORY \n\n\nFIELD \n\n\nDURATION \n\n\nENTRY \n\n\nAWARDS \n\n\n\n\n10:30 am \n\n\nCat 1/2/3/4/5 Junior Male 15-18 \n\n\n50 \n\n\n30 min \n\n\n$15 prereg\, $20 raceday \n\n\nPrizes/3 \n\n\n\n\n10:30 am \n\n\nCat 1/2/3/4/5 Junior Female 15-18 \n\n\n50 \n\n\n30 min \n\n\n$15 prereg\, $20 raceday \n\n\nPrizes/3 \n\n\n\n\n10:30 am \n\n\nYouth Male 10-14 \n\n\n50 \n\n\n2 laps \n\n\n$15 prereg\, $20 raceday \n\n\nPrizes/3 \n\n\n\n\n10:30 am \n\n\nYouth Female 10-14 \n\n\n50 \n\n\n2 laps \n\n\n$15 prereg\, $20 raceday \n\n\nPrizes/3 \n\n\n\n\n10:30 am \n\n\nSinglespeed Cat 1/2/3/4/5 Male \n\n\n50 \n\n\n30 min \n\n\n$25 prereg\, $30 raceday \n\n\nPrizes/3 \n\n\n\n\n10:30 am \n\n\nSinglespeed Cat 1/2/3/4/5 Female \n\n\n50 \n\n\n30 min \n\n\n$25 prereg\, $30 raceday \n\n\nPrizes/3 \n\n\n\n\n10:30am \n\n\nCat 5 / Novice Male \n\n\n50 \n\n\n30 min \n\n\n$15 prereg\, $20 raceday \n\n\nPrizes/3 \n\n\n\n\n10:30 am \n\n\nCat 5 / Novice Female \n\n\n50 \n\n\n30 min \n\n\n$15 prereg\, $20 raceday \n\n\nPrizes/3 \n\n\n\n\n11:10 am \n\n\nCat 4 / 5 Male \n\n\n50 \n\n\n40 min \n\n\n$25 prereg\, $30 raceday \n\n\nPrizes/3 \n\n\n\n\n11:10 am \n\n\nCat 4 / 5 Female \n\n\n50 \n\n\n40 min \n\n\n$25 prereg\, $30 raceday \n\n\nPrizes/3 \n\n\n\n\n11:10 am \n\n\nMasters Cat 1/2/3/4/5 40-49 and 50+ Male \n\n\n50 \n\n\n40 min \n\n\n$25 prereg\, $30 raceday \n\n\nPrizes/3 \n\n\n\n\n11:10 am \n\n\nMasters Cat 1/2/3/4/5 40-49 and 50+ Female \n\n\n50 \n\n\n40 min \n\n\n$25 prereg\, $30 raceday \n\n\nPrizes/3 \n\n\n\n\n12:00 pm \n\n\nCat 3/4 Female \n\n\n50 \n\n\n50 min \n\n\n$25 prereg\, $30 raceday \n\n\nPrizes/3 \n\n\n\n\n12:00 pm \n\n\nCat 3/4 Male \n\n\n50 \n\n\n50 min \n\n\n$25 prereg\, $30 raceday \n\n\nPrizes/3 \n\n\n\n\n12:00 pm \n\n\nCat 1/2 Female \n\n\n50 \n\n\n50 min \n\n\n$25 prereg\, $30 raceday \n\n\n$50/$40/$30 \n\n\n\n\n12:00 pm \n\n\nCat 1/2 Male \n\n\n50 \n\n\n50 min \n\n\n$25 prereg\, $30 raceday \n\n\n$50/$40/$30 \n\n\n\n\n\n\nDirections: Exit 630 onto University going North. Go right (east) at Markham and proceed ¼ mile up Markham to Taylor Ave\,\nturn right and park at the old golf course pro shop / clubhouse building.\nCourse: The route may include grass\, gravel\, pavement\, barriers\, mud\, stairs\, a creek\, etc.\, and will follow USAC regulations.\nEvent Rules & Information:\n? Register online at https://www.bikereg.com/cxmasinlittlerock\n? All registration will be online only via the above link\, including day of registration.\n? Races will have a 40 mm max tire limitation and require drop bar bikes\, excluding junior\, youth\, and Novice/Cat 5.\n? Course\, and number pick-up will open at 9:30 am.\n? Registration via bikereg will be considered final 10 minutes before each race.\n? Racers may enter a second category for $10 via preregistration or raceday.\n? USAC licenses may be purchased at www.usacycling.org; one-day licenses are available.\n? All racers must sign a waiver at registration or online; under 18 must have the waiver signed by a guardian. \n  \nFor additional info: shameventsllc@gmail.com; facebook.com/shameventsllc USAC Permit #: 9903
URL:https://arkansasoutside.com/event/cxmas-in-little-rock/
LOCATION:War Memorial Park\, 5101 W Markham St\, Little Rock\, AR\, 72205
CATEGORIES:Cycling (Road & Mountain)
ATTACH;FMTTYPE=image/jpeg:https://arkansasoutside.com/wp-content/uploads/2024/09/CXMas.jpg
END:VEVENT
END:VCALENDAR