BEGIN:VCALENDAR
VERSION:2.0
PRODID:-//Arkansas Outside - ECPv6.15.20//NONSGML v1.0//EN
CALSCALE:GREGORIAN
METHOD:PUBLISH
X-WR-CALNAME:Arkansas Outside
X-ORIGINAL-URL:https://arkansasoutside.com
X-WR-CALDESC:Events for Arkansas Outside
REFRESH-INTERVAL;VALUE=DURATION:PT1H
X-Robots-Tag:noindex
X-PUBLISHED-TTL:PT1H
BEGIN:VTIMEZONE
TZID:America/Chicago
BEGIN:DAYLIGHT
TZOFFSETFROM:-0600
TZOFFSETTO:-0500
TZNAME:CDT
DTSTART:20240310T080000
END:DAYLIGHT
BEGIN:STANDARD
TZOFFSETFROM:-0500
TZOFFSETTO:-0600
TZNAME:CST
DTSTART:20241103T070000
END:STANDARD
BEGIN:DAYLIGHT
TZOFFSETFROM:-0600
TZOFFSETTO:-0500
TZNAME:CDT
DTSTART:20250309T080000
END:DAYLIGHT
BEGIN:STANDARD
TZOFFSETFROM:-0500
TZOFFSETTO:-0600
TZNAME:CST
DTSTART:20251102T070000
END:STANDARD
BEGIN:DAYLIGHT
TZOFFSETFROM:-0600
TZOFFSETTO:-0500
TZNAME:CDT
DTSTART:20260308T080000
END:DAYLIGHT
BEGIN:STANDARD
TZOFFSETFROM:-0500
TZOFFSETTO:-0600
TZNAME:CST
DTSTART:20261101T070000
END:STANDARD
END:VTIMEZONE
BEGIN:VEVENT
DTSTART;TZID=America/Chicago:20250118T080000
DTEND;TZID=America/Chicago:20250118T170000
DTSTAMP:20260425T135228
CREATED:20241106T170216Z
LAST-MODIFIED:20241106T170216Z
UID:10002216-1737187200-1737219600@arkansasoutside.com
SUMMARY:David's Trail Endurance Run
DESCRIPTION:David’s Trail Endurance Run is providing a full-blown “experience” for our runners.  Our host\, Rocking Chair Resort\, is our mecca for the weekend with Friday night’s meet and greet\, then a band\, campfires\, and food on Saturday.  Stay on-site both nights and enjoy your suds and buds! \nSwag for David’s Trail Endurance Run….all 50K\, 25K\, and 7K finishers receive finisher medals and some cool swag (always one of our awesome shirts\, and who knows\, could be something else too!).  Cash purses for course record setters for both male and female in 50K and 25K.
URL:https://arkansasoutside.com/event/davids-trail-endurance-run-3/
LOCATION:Rocking Chair Resort\, 278 Co Rd 763\, Mountain Home\, 72653\, United States
CATEGORIES:Running (Trail & Road)
ATTACH;FMTTYPE=image/png:https://arkansasoutside.com/wp-content/uploads/2015/08/13086661_1619643568290960_4176332198075728146_o.png
END:VEVENT
BEGIN:VEVENT
DTSTART;TZID=America/Chicago:20250118T090000
DTEND;TZID=America/Chicago:20250118T150000
DTSTAMP:20260425T135229
CREATED:20241230T180427Z
LAST-MODIFIED:20250113T195807Z
UID:10002282-1737190800-1737212400@arkansasoutside.com
SUMMARY:Woolly Hollow Trail Half Marathon
DESCRIPTION:(Postponed until January 18\, 2025) \nWoolly Hollow Trail Half Marathon will be run on January 11th\, 2025 with a 9am start time on the beautiful trails of Woolly Hollow State Park including The Huckleberry hiking trail and the Enders Fault mountain biking trail system encompassing 13.1 unique miles of trail.
URL:https://arkansasoutside.com/event/woolly-hollow-trail-half-marathon-3/
LOCATION:Woolly Hollow State Park\, 82 Woolly Hollow Rd\, Greenbrier\, 72058\, United States
CATEGORIES:Running (Trail & Road)
ATTACH;FMTTYPE=image/jpeg:https://arkansasoutside.com/wp-content/uploads/2023/11/363387769_833671775211788_8920229549675958144_n.jpg
END:VEVENT
BEGIN:VEVENT
DTSTART;TZID=America/Chicago:20250118T130000
DTEND;TZID=America/Chicago:20250118T180000
DTSTAMP:20260425T135229
CREATED:20241230T180809Z
LAST-MODIFIED:20241230T180809Z
UID:10002283-1737205200-1737223200@arkansasoutside.com
SUMMARY:FAB 5K
DESCRIPTION:The Fab 5K Run/Walk is in honor of Andrea Prime\, Salomon Correa\, Maggie Franco\, Ava Luplow\, and Suzy Prime. This will be a family friendly race. We hope that in a time of sorrow\, our community being brought together can provide a light\, even if it’s just for a moment. \n“Let us run with perseverance the race marked out for us\, fixing our eyes on Jesus.” Hebrews 12:1-2
URL:https://arkansasoutside.com/event/fab-5k/
LOCATION:Sylvan Hills Church of Christ\, 111 West Maryland AVE\, Sherwood\, 72120\, United States
CATEGORIES:Running (Trail & Road)
ATTACH;FMTTYPE=image/jpeg:https://arkansasoutside.com/wp-content/uploads/2024/05/running-shoe1-300px.jpg
END:VEVENT
BEGIN:VEVENT
DTSTART;TZID=America/Chicago:20250125T080000
DTEND;TZID=America/Chicago:20250125T160000
DTSTAMP:20260425T135229
CREATED:20241230T181000Z
LAST-MODIFIED:20241230T181000Z
UID:10002284-1737792000-1737820800@arkansasoutside.com
SUMMARY:Papa Loco Marathon And Half Marathon
DESCRIPTION:The annual loop-de-loop of Tucker Creek Trail in Conway\, Arkansas\, Loco is a laid back race with ample aid station support\, approximately every half mile. We offer both full and half marathon distances. And with an eight hour time limit for both it’s the perfect choice for a first full. (We are walker friendly!) \nPlus\, at only $45 for either race\, Loco is a bargain! All participants (that register in time) will receive shirts and finisher bling. Awards will be given to the top three finishers for each distance\, male and female. \nNEW in 2025: all participants will have the option of adding additional shirts or past swag to their registration. \nPacket pickup will be changing in 2025: pickup will be available at both The Sporty Runner in Conway and Rock City Running in Little Rock on Friday\, as well as at the race on Saturday. You will need to choose your pickup location when you register. Your packet will be at the location you choose during registration. If you need to change your registration location you must email us by Wednesday\, 1/23/2025. \nLoco is Marathon Maniacs and Half Fanatics eligible if you participate on race day. We have a limited number of openings for virtual racers in each distance. Virtual participants will receive a finishers medal but no shirt. (Please note that virtual races are not eligible for MM/HF due to their rules.) \nThe course is certified and a Boston Qualifier though be aware it has been known to register long on some GPS devices.
URL:https://arkansasoutside.com/event/papa-loco-marathon-and-half-marathon-3/
LOCATION:Tucker Creek Trail\, 700 Salem Rd\, Conway\, 72034\, United States
CATEGORIES:Running (Trail & Road)
ATTACH;FMTTYPE=image/jpeg:https://arkansasoutside.com/wp-content/uploads/2023/11/375594509_780063904126077_3457600325468764247_n-scaled.jpg
END:VEVENT
BEGIN:VEVENT
DTSTART;TZID=America/Chicago:20250125T083000
DTEND;TZID=America/Chicago:20250125T140000
DTSTAMP:20260425T135229
CREATED:20241106T190343Z
LAST-MODIFIED:20241106T190343Z
UID:10002217-1737793800-1737813600@arkansasoutside.com
SUMMARY:Village Creek 10K/25K Trail Run
DESCRIPTION:Welcome to year 12! \nVillage Creek the Legend! Lace ‘em up tight! Like we always say\, “Mud\, Sweat\, and Tears!” That’s what you will find here at Village Creek State Park—the 31st and 2nd largest in Arkansas. Located just 6 miles south of Wynne\, Village Creek State Park encompasses nearly 7\,000 acres. We have an amazing multi-use trail system that is virtually untouched by the running community most of the year. Equestrian\, Mountain Bike\, and Hiking Trails combine to form a little over 26 miles of manicured sweetness atop the geologic anomaly known as Crowley’s Ridge. \nOur race features a multitude of ups and downs\, both physically and emotionally! Your day will consist of creeks\, mud\, leaves\, sticks\, steep ridgelines\, and our infamous rolling pipeline. All the while a tub of buttercream icing and warm homemade cinnamon rolls wait for you at the finish. \nThe start/finish sits at the edge of our lower campground and boasts some of the most pristine bathhouses of any state park! You can camp so close to the start line that all ya gotta do is roll over toot\, tinkle\, brush\, and run! If cabins are more your thing\, no fear! Village Creek has several 5-star cabins available just up the hill towards Lake Dunn. \nThe 25k has a 6-hour time limit. You have approximately 3hr and 15min to make it to our bib check at the 25k turnaround. If you have not checked out of the turnaround by the 3:15 mark chances are you aren’t gonna get a cinnamon roll….I kid\, I kid! You just won’t get a hot one! \nThe 25K is an out-and-back route starting at the bicycle entrance to the following markers 13\,14\,15\,16\,17\,18\, north past 19 towards 20 where you will reach the turnaround. Aid stations will be at approximate halfway points for both races. This is a cup-free race! Bring your bottles! The 10k is an out and back\, also follow marker 13\,14\,15\,16\, turnaround goes back to finish.
URL:https://arkansasoutside.com/event/village-creek-10k-25k-trail-run-3/
LOCATION:Village Creek State Park\, 201 County Road 754\, Wynne\, AR\, 72396\, United States
CATEGORIES:Running (Trail & Road)
ATTACH;FMTTYPE=image/jpeg:https://arkansasoutside.com/wp-content/uploads/2022/12/Village-Creek-Trail-Run.jpg
END:VEVENT
BEGIN:VEVENT
DTSTART;TZID=America/Chicago:20250125T090000
DTEND;TZID=America/Chicago:20250125T130000
DTSTAMP:20260425T135229
CREATED:20240911T175823Z
LAST-MODIFIED:20240911T175823Z
UID:10002131-1737795600-1737810000@arkansasoutside.com
SUMMARY:Frozen Toes 5K &15K
DESCRIPTION:The City’s annual cold weather trail running race at Kessler Mountain Regional Park. The Frozen Toes 5K & 15K Trail Run is perfect for runners looking to transition from a 5K or 10K to a longer distance OR for those who want to try their first trail running race. The singletrack trails of Kessler Mountain are technical in most areas\, but the views are worth every step of the course! Take a break from the pavement and give trail running in the Natural State a try! \nWhen: January 25\, 2025\nWhere: Kessler Mountain Regional Park \nRegistration will open August 15\, 2024 for the January 25\, 2025 race!
URL:https://arkansasoutside.com/event/frozen-toes-5k-15k/
LOCATION:Kessler Mountain Park\, 2600 Wc 200\, Fayetteville\, AR\, 72701\, United States
CATEGORIES:Running (Trail & Road)
ATTACH;FMTTYPE=image/png:https://arkansasoutside.com/wp-content/uploads/2024/09/2025-Refreshed-Logo.png
ORGANIZER;CN="City of Fayetteville Parks &amp%3B Recreation":MAILTO:thoover@fayetteville-ar.gov
END:VEVENT
BEGIN:VEVENT
DTSTART;TZID=America/Chicago:20250125T110000
DTEND;TZID=America/Chicago:20250125T170000
DTSTAMP:20260425T135229
CREATED:20241106T200119Z
LAST-MODIFIED:20241106T200119Z
UID:10002224-1737802800-1737824400@arkansasoutside.com
SUMMARY:The Rule of $3.99
DESCRIPTION:January 25\, 2025\, is the Rule of $3.99 community bike extravaganza!  \nWe’ll gather that Saturday morning at Bike Rack Brewing and head out for some beautiful miles on NWA tarmac\, gravel\, and singletrack…all on one bike.  Afterward\, we’ll convene back together at Bike Rack for beer\, food\, and fellowship\, and most importantly you’ll have the opportunity to register EARLY for the main event:  Rule of Three on May 17th\, 2025 before we open registration to the public on February 3rd. \nRule of $3.99:  Please note:  The courses will NOT be marked and will be self supported.  The routes will be sent the week of the Rule of $3.99.  You MUST have a GPS computer or old school directions written down to navigate. \nCourses will include:  Tarmac\, gravel and singletrack.  One bike.  Race or don’t race.  Enjoy the day the way you see fit.  No podiums\, just unofficial finish times on Strava. \nYou can expect: \n-Free food and event insurance brought to you by \n-Free event tee thanks to Visit Bentonville! \n-Free Bike Rack beer brought to you by our good friends at Chamois Butt’r. \n-Free delicious HOT coffee from our friends at the Meteor Cafe. \n-Great last minute bike mechanical support from Phat Tire Bike Shop. \n-“Hot Hands” and Toe Warmers from People for Bikes. \n-Aid Station hosted by Allied Cycle Works. \n-Good times with friends and soon to be new friends with maybe a few more surprises! \n-No SAG offered.  Please have someone available to come pick you up if disaster arrises. \nLast day for changes:  Friday\, 1/24/25 @ NOON \n$3.99?  The (not so) fine print: \nBikeReg will charge you $46.09 ($42.10 + $3.99 service fee) and after you check in on race day\, you’ll be refunded $42.10 or you can opt in to donate your reg fees to our friends at Pedal it Forward…  They bring bikes and smiles to people in need right here in our community.  Donations help go towards buying parts and new bikes. Check out their website to find out how you can donate your used bikes\, money or your time:  https://www.pedalitforward.org/give.html \nWhy are we doing this?  We have a limited number of spots and want to make sure we can get as many people who want to be at the event- at the event.  You know how it goes\, if its FREE there’s no obligation to show up…….so\, if it’s a bit too chilly for you the morning of race day or perhaps you made some bad choices the night before and don’t show up-you won’t be refunded.  But check in on race day and you’ll be refunded $42.10. \n*Transfer to another rider or change your category:   Find someone who wants your spot and transfer your registration to them or change your category by clicking on the “Edit My Entry” button at the top of the reg page.  The last day for changes is Friday\, 1/24/25 @ Noon. \nBikeReg directions:   \nHow to Withdraw your Registration \nHow to Transfer your Registration to Someone Else \nHow To Change The Category You Registered For \nHow to Remove yourself from a Waitlist \nLast day to make changes to your registration will be Friday\, 1/24/25 @ Noon. \nIf you don’t show up on race day or you forget to check in\, no refunds will be issued.  You must check in BEFORE the race to be refunded. \nCheck in = refund.  No check in = no refund. \nAny money collected will be donated to our good friends at Pedal it Forward. \nSchedule:\n10:30 am – 12 pm\, Check In (you have to check in to get your refund)\n12 pm\, 53 Mile Start\n12:15 pm\, 22 and 33 Mile Start\nReturn to Bike Rack Brewing for beer and food trucks\n4 pm – 6 pm\, Pizza and Rule of Three registration open
URL:https://arkansasoutside.com/event/the-rule-of-3-99-3/
LOCATION:8th Street Market\, 801 SE 8th St\, Bentonville\, 72712\, United States
CATEGORIES:Cycling (Road & Mountain)
ATTACH;FMTTYPE=image/png:https://arkansasoutside.com/wp-content/uploads/2023/11/6c763272-6fdb-414a-94c1-1f8dbaad2123-1.png
END:VEVENT
END:VCALENDAR