BEGIN:VCALENDAR
VERSION:2.0
PRODID:-//Arkansas Outside - ECPv6.15.20//NONSGML v1.0//EN
CALSCALE:GREGORIAN
METHOD:PUBLISH
X-WR-CALNAME:Arkansas Outside
X-ORIGINAL-URL:https://arkansasoutside.com
X-WR-CALDESC:Events for Arkansas Outside
REFRESH-INTERVAL;VALUE=DURATION:PT1H
X-Robots-Tag:noindex
X-PUBLISHED-TTL:PT1H
BEGIN:VTIMEZONE
TZID:America/Chicago
BEGIN:DAYLIGHT
TZOFFSETFROM:-0600
TZOFFSETTO:-0500
TZNAME:CDT
DTSTART:20240310T080000
END:DAYLIGHT
BEGIN:STANDARD
TZOFFSETFROM:-0500
TZOFFSETTO:-0600
TZNAME:CST
DTSTART:20241103T070000
END:STANDARD
BEGIN:DAYLIGHT
TZOFFSETFROM:-0600
TZOFFSETTO:-0500
TZNAME:CDT
DTSTART:20250309T080000
END:DAYLIGHT
BEGIN:STANDARD
TZOFFSETFROM:-0500
TZOFFSETTO:-0600
TZNAME:CST
DTSTART:20251102T070000
END:STANDARD
BEGIN:DAYLIGHT
TZOFFSETFROM:-0600
TZOFFSETTO:-0500
TZNAME:CDT
DTSTART:20260308T080000
END:DAYLIGHT
BEGIN:STANDARD
TZOFFSETFROM:-0500
TZOFFSETTO:-0600
TZNAME:CST
DTSTART:20261101T070000
END:STANDARD
END:VTIMEZONE
BEGIN:VEVENT
DTSTART;TZID=America/Chicago:20250510T070000
DTEND;TZID=America/Chicago:20250510T170000
DTSTAMP:20260425T214638
CREATED:20250219T160542Z
LAST-MODIFIED:20250219T160542Z
UID:10002377-1746860400-1746896400@arkansasoutside.com
SUMMARY:Bike City Fondo
DESCRIPTION:What is the Bike City Fondo? \nDo you love to ride?  This event has options for everyone!  Road riding\, gravel grinder\, paved trail system; there are courses for all riders\, no matter your riding level!  Bring your club\, team\, friends\, and/or family for a day of excellent riding and relax with a beer and refreshments at the finish. \nWant to explore the back roads?  Our road options quickly get you out of town onto the open roads\, with mileage to meet your goals. Feeling more adventurous?  Or go for a gravel option. Our gravel course will take you south of Fayetteville and wind you through various terrain.  First event ride?  Want to stay on the paved trail? We have that as well!  Enjoy some amazing aid stations. You may be surprised by the wide array of goodies our great sponsors provide. \nAll ride options include a finisher medal\, ride t-shirt\, and post-race food and refreshments. Join the fun!
URL:https://arkansasoutside.com/event/bike-city-fondo-3/
LOCATION:Walker Park\, 10 W 15th St\, Fayetteville\, AR\, 72701\, United States
CATEGORIES:Cycling (Road & Mountain)
ATTACH;FMTTYPE=image/jpeg:https://arkansasoutside.com/wp-content/uploads/2023/03/race55890-logo.jpg
END:VEVENT
BEGIN:VEVENT
DTSTART;TZID=America/Chicago:20250510T073000
DTEND;TZID=America/Chicago:20250510T170000
DTSTAMP:20260425T214638
CREATED:20250115T155250Z
LAST-MODIFIED:20250115T155250Z
UID:10002350-1746862200-1746896400@arkansasoutside.com
SUMMARY:Snowball Adventure Race
DESCRIPTION:Come join us for the adventure of a lifetime!  The Snowball Adventure Race is the only one of its kind to be hosted in Searcy County\, Arkansas.  This adventure will start with a 6 mile run to the Margaret White area on the Buffalo National River\, only a few hills\, all gravel and great scenery.  You will then jump in your boat for a 8.5 mile float down the beautiful Buffalo River to the Tyler Bend launch area.  You will then pick up your bicycle at the Tyler Bend Pavilion and start the 11.5 mile gravel journey back to Snowball via the Ozark Grinder Trail.  The bike portion has a few uphills\, lots of gravel and amazing views of the Buffalo River. \nDon’t like to run? Paddle? Bike?  Sign up as a team! \nYou will need your own bike and your own boat\, either canoe or kayak\, if you take a canoe\, you may share with other participants.  You will be responsible for delivering your bicycle to the Tyler Bend Pavilion on Race Day.  We will assist with your boat shuttle.  PFD’s are required\, helmets are strongly encouraged. Drop bags will also be available to reduce your load. \nWhen you’ve completed your adventure\, join us for a free meal in Snowball!  Got guests?  Please purchase an extra meal ticket! \nUnder 12? Check out our kid’s Adventure Race!  Slightly smaller and tons of fun. \nThere’s a new division this year!  The Armchair Adventurer! Skip the training\, get the shirt and support the Snowball Adventure Race!! \nSnowball Adventure Race medals will be awarded to all participants that cross the finish line. \nParticipants must be 17 to participate. \nRace course will be open 7:30 AM to 2:00 PM.  After 2 PM you will be escorted back to Snowball. \nIn the event the Buffalo is not safe for floating\, the floating leg will be removed\, and the run and bike legs will be re-routed. We will not issue refunds\, your entry fee goes to support the local cemeteries with maintenance.
URL:https://arkansasoutside.com/event/snowball-adventure-race-4/
LOCATION:The Old Snowball House\, 128 River Rd\,\, Snowball\, AR\, 72650\, United States
CATEGORIES:Multisport (Triathlon/Adventure Racing/Etc)
ATTACH;FMTTYPE=image/png:https://arkansasoutside.com/wp-content/uploads/2023/01/60661854-7948-46f9-83bb-7e748379a041.png
END:VEVENT
BEGIN:VEVENT
DTSTART;TZID=America/Chicago:20250510T080000
DTEND;TZID=America/Chicago:20250510T150000
DTSTAMP:20260425T214638
CREATED:20240906T121857Z
LAST-MODIFIED:20240906T121857Z
UID:10002076-1746864000-1746889200@arkansasoutside.com
SUMMARY:Northwoods Mullet Trail Run
DESCRIPTION:One awesome trail run in the front with a super dope party in the back!! New for 2024\, the 25k and 10k Dog Divisions! That’s right\, register your trail dog to run in your event with you. Registration is limited to 10 each race\, so don’t paws (lol) on registering Rover. We don’t want to hound you\, but you’ll have to beg us to make an exception and you’ll be in the dog house with Rover…okok\, you get the drift.
URL:https://arkansasoutside.com/event/northwoods-mullet-trail-run-4/
LOCATION:Cedar Glades Park\, 461 Wildcat Rd\, Hot Springs\, AR\, 71913\, United States
CATEGORIES:Running (Trail & Road)
ATTACH;FMTTYPE=image/jpeg:https://arkansasoutside.com/wp-content/uploads/2023/05/276234406_1108898719961551_877638176766160046_n-400x400-1.jpg
END:VEVENT
BEGIN:VEVENT
DTSTART;TZID=America/Chicago:20250512T173000
DTEND;TZID=America/Chicago:20250512T203000
DTSTAMP:20260425T214638
CREATED:20250507T190946Z
LAST-MODIFIED:20250507T190946Z
UID:10002427-1747071000-1747081800@arkansasoutside.com
SUMMARY:Monday Night Paddle & Dinner
DESCRIPTION:We will do a flat water paddle on Monday night\, 5/12/25. We’ll be meeting at The Ranch North Woods. Our plan\, as of now\, is to paddle to the floating camping platform and back. This is a casual event open to any ACC members. Don Rottman will be cooking chicken fried rice on an outdoor wok on site. You need to BYOB. Depending on where exactly we can put in and the time\, as well as how many participants\, dinner will be on the platform or the take-out area.\n\nRespond the Facebook Event Page to let us know you’re going to join us and so we can have enough food.\nThe plan is to open the gate at 5:30\, get to where we’re starting\, and launch at 6 p.m.\n\nFor reference is the same area of the New Year’s float where we stop to eat lunch and where we take out.\nThis is a minimal skill\, any type of paddle craft type thing.\nMore info: https://www.nature.org/…/ranch-north-woods-preserve-in…/
URL:https://arkansasoutside.com/event/monday-night-paddle-dinner/
LOCATION:William Kirsch Preserve within Ranch North Woods\, 8803 Ranch Drive\, Little Rock\, 72223\, United States
CATEGORIES:Paddling
ATTACH;FMTTYPE=image/jpeg:https://arkansasoutside.com/wp-content/uploads/2018/01/acc07_blue.jpg
END:VEVENT
BEGIN:VEVENT
DTSTART;TZID=America/Chicago:20250513T080000
DTEND;TZID=America/Chicago:20250513T170000
DTSTAMP:20260425T214638
CREATED:20250513T125235Z
LAST-MODIFIED:20250513T125235Z
UID:10002429-1747123200-1747155600@arkansasoutside.com
SUMMARY:Family Fest: Into the Wild
DESCRIPTION:Experience nature’s wonders through interactive artmaking\, outdoor adventures\, and hands-on activities as we celebrate the opening weekend of The Long View: From Conservation to Sustainability: Works from the Bank of America Collection. \nMeet fascinating animals from the Little Rock Zoo\, create nature-inspired fish prints and outdoor and animal sketches with the Arkansas Game and Fish Commission\, and join interactive demonstrations on fishing\, hiking\, and biking with Pinnacle Mountain State Park. \nNeed a break from the action? AMFA Members are invited to relax and enjoy complimentary snacks in an exclusive lounge area. \n\nFamily Fest: Into the Wild is supported in part by the Alice L. Walton Foundation. \nThe Long View: From Conservation to Sustainability: Works from the Bank of America Collection is presented by Bank of America. \n \nAdditional support is provided by Anne and Merritt Dyke. \nThis exhibition has been loaned through the Bank of America Art in our Communities® program. \nARTWORK: John James Audubon (Les Cayes\, Haiti\, 1785 – 1851\, New York\, New York)\, Printed by John T. Brown (England\, 1801 – 1856\, Philadelphia\, Pennsylvania)\, American Bison from The Viviparous Quadrupeds of North America\, 1845 – 1848\, hand-colored lithograph on paper\, 35 1/4 x 39 1/2 in. On loan from the Bank of America Collection.
URL:https://arkansasoutside.com/event/family-fest-into-the-wild/
LOCATION:Arkansas Museum of Fine Arts\, 501 East Ninth Street\, Little Rock\, 72202\, United States
CATEGORIES:Other Fun
ATTACH;FMTTYPE=image/jpeg:https://arkansasoutside.com/wp-content/uploads/2025/05/Audubon_Bison-Quadrupeds-4x3-1.jpg
END:VEVENT
END:VCALENDAR