BEGIN:VCALENDAR
VERSION:2.0
PRODID:-//Arkansas Outside - ECPv6.15.20//NONSGML v1.0//EN
CALSCALE:GREGORIAN
METHOD:PUBLISH
X-WR-CALNAME:Arkansas Outside
X-ORIGINAL-URL:https://arkansasoutside.com
X-WR-CALDESC:Events for Arkansas Outside
REFRESH-INTERVAL;VALUE=DURATION:PT1H
X-Robots-Tag:noindex
X-PUBLISHED-TTL:PT1H
BEGIN:VTIMEZONE
TZID:America/Chicago
BEGIN:DAYLIGHT
TZOFFSETFROM:-0600
TZOFFSETTO:-0500
TZNAME:CDT
DTSTART:20230312T080000
END:DAYLIGHT
BEGIN:STANDARD
TZOFFSETFROM:-0500
TZOFFSETTO:-0600
TZNAME:CST
DTSTART:20231105T070000
END:STANDARD
BEGIN:DAYLIGHT
TZOFFSETFROM:-0600
TZOFFSETTO:-0500
TZNAME:CDT
DTSTART:20240310T080000
END:DAYLIGHT
BEGIN:STANDARD
TZOFFSETFROM:-0500
TZOFFSETTO:-0600
TZNAME:CST
DTSTART:20241103T070000
END:STANDARD
BEGIN:DAYLIGHT
TZOFFSETFROM:-0600
TZOFFSETTO:-0500
TZNAME:CDT
DTSTART:20250309T080000
END:DAYLIGHT
BEGIN:STANDARD
TZOFFSETFROM:-0500
TZOFFSETTO:-0600
TZNAME:CST
DTSTART:20251102T070000
END:STANDARD
END:VTIMEZONE
BEGIN:VEVENT
DTSTART;TZID=America/Chicago:20240601T080000
DTEND;TZID=America/Chicago:20240601T103000
DTSTAMP:20260424T082912
CREATED:20240524T132212Z
LAST-MODIFIED:20240524T132212Z
UID:10001941-1717228800-1717237800@arkansasoutside.com
SUMMARY:Growing Minds Take Flight 5K
DESCRIPTION:Thank you for your interest in the 2024 Growing Minds Take Flight 5K! All proceeds from this race go directly to Lawrence County\, AR children with disabilities. The Growing Minds Foundation funds scholarships for children with disabilities to help with expenses for medical equipment\, special surgery\, specialty toys\, etc! We welcome you to join us on Saturday\, June 1st at the Walnut Ridge\, AR Airport for the first Take Flight event!
URL:https://arkansasoutside.com/event/growing-minds-take-flight-5k-2/
LOCATION:Walnut Ridge Regional Airport\, 11 Sky Watch\, Walnut Ridge\, 72476\, United States
CATEGORIES:Running (Trail & Road)
ATTACH;FMTTYPE=image/jpeg:https://arkansasoutside.com/wp-content/uploads/2024/05/running-shoe-300px.jpg
END:VEVENT
BEGIN:VEVENT
DTSTART;TZID=America/Chicago:20240601T080000
DTEND;TZID=America/Chicago:20240601T103000
DTSTAMP:20260424T082912
CREATED:20240524T132212Z
LAST-MODIFIED:20240524T132212Z
UID:10001267-1717228800-1717237800@arkansasoutside.com
SUMMARY:Growing Minds Take Flight 5K
DESCRIPTION:Thank you for your interest in the 2024 Growing Minds Take Flight 5K! All proceeds from this race go directly to Lawrence County\, AR children with disabilities. The Growing Minds Foundation funds scholarships for children with disabilities to help with expenses for medical equipment\, special surgery\, specialty toys\, etc! We welcome you to join us on Saturday\, June 1st at the Walnut Ridge\, AR Airport for the first Take Flight event!
URL:https://arkansasoutside.com/event/growing-minds-take-flight-5k/
LOCATION:Walnut Ridge Regional Airport\, 11 Sky Watch\, Walnut Ridge\, 72476\, United States
CATEGORIES:Running (Trail & Road)
ATTACH;FMTTYPE=image/jpeg:https://arkansasoutside.com/wp-content/uploads/2024/05/running-shoe-300px.jpg
END:VEVENT
BEGIN:VEVENT
DTSTART;TZID=America/Chicago:20240601T080000
DTEND;TZID=America/Chicago:20240601T120000
DTSTAMP:20260424T082912
CREATED:20240524T125327Z
LAST-MODIFIED:20240524T125327Z
UID:10001934-1717228800-1717243200@arkansasoutside.com
SUMMARY:Outrun Cancer 5K
DESCRIPTION:Join us as we gather to honor\, remember and support those affected by cancer as we walk and outrun cancer on June 1\, 2024\, National Cancer Survivors Day. Together as a community\, we will begin in front of the ASUMH Sheid Building and end in the center of the campus at the Keller fountain. For the 5k\, the course will be two loops on the walking/jogging path around the campus. The honor walk will be one loop. There will be one aid station at the halfway point for the 5k. \nThe official route on Strava HERE \nThe proceeds of this race will support the many services and programs offered at the Peitz Cancer Support House which focus on fully supporting the needs of our community during their cancer diagnosis and well beyond. \nAs part of this race and honor event\, we encourage you to set up an individual &/or team fundraising page. There will be prizes for the top individual fundraiser and top team fundraiser. \nCommunity and companionship are such an important part of the cancer journey as well as for overall health and wellness. As such\, we are encouraging and challenging you to grab some friends\, family or coworkers and register together! Come together to help us outrun cancer. \nRace Day Instructions:  \n\nPacket Pickup will be June 1 from 7-7:45am.\nAthletes will check in at the center of the campus at the Keller Fountain.\nAfter pre-race announcements we’ll walk together to the race start.\nRunners will run clock-wise\, entering the ASUMH walking path at mile 0.2. Runners will complete one lap\, passing the aid station\, before heading out for lap two.\nVolunteers and signs will point runners back to the center of campus to finish at the Keller Fountain.\nStrollers are allowed.\nThe official route on Strava HERE
URL:https://arkansasoutside.com/event/outrun-cancer-5k-2/
LOCATION:ASU – Mountain Home\, 1600 S College St.\, Mountain Home\, 72653\, United States
CATEGORIES:Running (Trail & Road)
ATTACH;FMTTYPE=image/jpeg:https://arkansasoutside.com/wp-content/uploads/2024/05/race148140-logo-0.jpg
END:VEVENT
BEGIN:VEVENT
DTSTART;TZID=America/Chicago:20240601T080000
DTEND;TZID=America/Chicago:20240601T120000
DTSTAMP:20260424T082912
CREATED:20240524T125327Z
LAST-MODIFIED:20240524T125327Z
UID:10001260-1717228800-1717243200@arkansasoutside.com
SUMMARY:Outrun Cancer 5K
DESCRIPTION:Join us as we gather to honor\, remember and support those affected by cancer as we walk and outrun cancer on June 1\, 2024\, National Cancer Survivors Day. Together as a community\, we will begin in front of the ASUMH Sheid Building and end in the center of the campus at the Keller fountain. For the 5k\, the course will be two loops on the walking/jogging path around the campus. The honor walk will be one loop. There will be one aid station at the halfway point for the 5k. \nThe official route on Strava HERE \nThe proceeds of this race will support the many services and programs offered at the Peitz Cancer Support House which focus on fully supporting the needs of our community during their cancer diagnosis and well beyond. \nAs part of this race and honor event\, we encourage you to set up an individual &/or team fundraising page. There will be prizes for the top individual fundraiser and top team fundraiser. \nCommunity and companionship are such an important part of the cancer journey as well as for overall health and wellness. As such\, we are encouraging and challenging you to grab some friends\, family or coworkers and register together! Come together to help us outrun cancer. \nRace Day Instructions:  \n\nPacket Pickup will be June 1 from 7-7:45am.\nAthletes will check in at the center of the campus at the Keller Fountain.\nAfter pre-race announcements we’ll walk together to the race start.\nRunners will run clock-wise\, entering the ASUMH walking path at mile 0.2. Runners will complete one lap\, passing the aid station\, before heading out for lap two.\nVolunteers and signs will point runners back to the center of campus to finish at the Keller Fountain.\nStrollers are allowed.\nThe official route on Strava HERE
URL:https://arkansasoutside.com/event/outrun-cancer-5k/
LOCATION:ASU – Mountain Home\, 1600 S College St.\, Mountain Home\, 72653\, United States
CATEGORIES:Running (Trail & Road)
ATTACH;FMTTYPE=image/jpeg:https://arkansasoutside.com/wp-content/uploads/2024/05/race148140-logo-0.jpg
END:VEVENT
BEGIN:VEVENT
DTSTART;TZID=America/Chicago:20240601T080000
DTEND;TZID=America/Chicago:20240601T120000
DTSTAMP:20260424T082912
CREATED:20240524T130232Z
LAST-MODIFIED:20240524T130232Z
UID:10001262-1717228800-1717243200@arkansasoutside.com
SUMMARY:Running on the Ridge
DESCRIPTION:The 4th annual Running on the Ridge brought to you by CUSI welcomes new and returning participants! We look forward to another great race with options of a 5K\, 10K and NEW this year will be a 1 mile dog jog/ fun run! The 5K & 10K course routes will be through downtown Paragould & on a portion of the new 8 Mile Creek Trail with the start and finish at the Greene County Fairgrounds. The dog jog will be around the Greene County Fairgrounds. This year’s race will benefit the Henry Wrinkles Foundation. \n\nAll participants will receive a FREE ticket to Saturday night’s Rodeo on the Ridge!\nAll participants will receive a finisher prize & those registered BEFORE May 10th will be guaranteed a t-shirt.\nPacket pick-up will be Friday\, May 31st from 5pm-7pm at the Greene County Fairgrounds entrance.\nRace timing will be provided by Stearns Race Timing for the 5K and 10K racers.\nAll dogs must be on a leash at all times and cleaned up after.\nAll racers under 10 years of age must be accompanied by an adult 18 or older.\n\n🏃🏽‍♀️ 5K route: https://www.mapmyrun.com/routes/view/5479913725 \n🏃🏾 10K route: https://www.mapmyrun.com/routes/view/5479973254
URL:https://arkansasoutside.com/event/running-on-the-ridge/
LOCATION:Greene County Fairgrounds\, 1108 Hwy 49B\, Paragould\, 72450\, United States
CATEGORIES:Running (Trail & Road)
ATTACH;FMTTYPE=image/jpeg:https://arkansasoutside.com/wp-content/uploads/2024/05/raceBanner-t9bOXAvH-bL3ufr.jpg
END:VEVENT
BEGIN:VEVENT
DTSTART;TZID=America/Chicago:20240601T080000
DTEND;TZID=America/Chicago:20240601T120000
DTSTAMP:20260424T082912
CREATED:20240524T130232Z
LAST-MODIFIED:20240524T130232Z
UID:10001936-1717228800-1717243200@arkansasoutside.com
SUMMARY:Running on the Ridge
DESCRIPTION:The 4th annual Running on the Ridge brought to you by CUSI welcomes new and returning participants! We look forward to another great race with options of a 5K\, 10K and NEW this year will be a 1 mile dog jog/ fun run! The 5K & 10K course routes will be through downtown Paragould & on a portion of the new 8 Mile Creek Trail with the start and finish at the Greene County Fairgrounds. The dog jog will be around the Greene County Fairgrounds. This year’s race will benefit the Henry Wrinkles Foundation. \n\nAll participants will receive a FREE ticket to Saturday night’s Rodeo on the Ridge!\nAll participants will receive a finisher prize & those registered BEFORE May 10th will be guaranteed a t-shirt.\nPacket pick-up will be Friday\, May 31st from 5pm-7pm at the Greene County Fairgrounds entrance.\nRace timing will be provided by Stearns Race Timing for the 5K and 10K racers.\nAll dogs must be on a leash at all times and cleaned up after.\nAll racers under 10 years of age must be accompanied by an adult 18 or older.\n\n🏃🏽‍♀️ 5K route: https://www.mapmyrun.com/routes/view/5479913725 \n🏃🏾 10K route: https://www.mapmyrun.com/routes/view/5479973254
URL:https://arkansasoutside.com/event/running-on-the-ridge-2/
LOCATION:Greene County Fairgrounds\, 1108 Hwy 49B\, Paragould\, 72450\, United States
CATEGORIES:Running (Trail & Road)
ATTACH;FMTTYPE=image/jpeg:https://arkansasoutside.com/wp-content/uploads/2024/05/raceBanner-t9bOXAvH-bL3ufr.jpg
END:VEVENT
BEGIN:VEVENT
DTSTART;TZID=America/Chicago:20240601T080000
DTEND;TZID=America/Chicago:20240601T120000
DTSTAMP:20260424T082912
CREATED:20240524T130604Z
LAST-MODIFIED:20240524T130604Z
UID:10001263-1717228800-1717243200@arkansasoutside.com
SUMMARY:Live Well 5K Run/Walk
DESCRIPTION:The Live Well 5K Run/Walk is sponsored by Little Rock Alumnae Chapter of Delta Sigma Theta Sorority\, Inc.\, an organization of college educated women committed to the constructive development of its members and to public service with a primary focus on the Black community. On Saturday\, June 1\, 2024\, in partnership with the Delta Presents Outreach Foundation\, we will host the 2nd Annual Live Well 5K Run/Walk: A Physical and Mental Health Movement. The Live Well 5K Run/Walk is an opportunity to bring the community together for the purpose of promoting physical and mental health/wellness. Research has shown that running and walking have a positive impact on mental health like better sleep\, stress reliever\, improved self-esteem\, sharper focus\, and improved memory.\nYour support will assist us in our efforts to provide scholarship incentives for high school students interested in furthering their education as well as support overall mental health/wellness in our chapter and community. The Live Well 5K Run/Walk is a family-friendly community run/walk for men\, women\, and children. Runners\, joggers\, and walkers are encouraged to come out and enjoy a healthy\, fun-filled event while supporting a worthy cause. \nCOURSE: \nRACE DISTANCE: 5K (3.1 miles) \nTIME LIMIT:  1 hour and 45 minutes. Any participant still on the course after the time limit is reached will continue with our guidance or security. \nTIMING:  TBD \nRACE BIBS:  \n\nClearly visible on the front of the torso\nUnaltered and unmodified (not folded or wrinkled)\nPinned in all four corners\nUncovered (jackets\, fuel belts\, etc.)\n\nAWARDS: TBD \nEVENT SWAG: \n\nShort-sleeve T-shirt (for those who register by May 5\, 2024)\nFinisher medal\n\nNOTE: Race bibs and event swag are ONLY available for in-person participants at packet pick-up or on race day.
URL:https://arkansasoutside.com/event/live-well-5k-run-walk/
LOCATION:Two Rivers Park\, 6722 Two Rivers Park Road\, Little Rock\, AR\, 72223\, United States
CATEGORIES:Running (Trail & Road)
ATTACH;FMTTYPE=image/jpeg:https://arkansasoutside.com/wp-content/uploads/2024/05/race140447-logo-0.jpg
END:VEVENT
BEGIN:VEVENT
DTSTART;TZID=America/Chicago:20240601T080000
DTEND;TZID=America/Chicago:20240601T120000
DTSTAMP:20260424T082912
CREATED:20240524T130604Z
LAST-MODIFIED:20240524T130604Z
UID:10001937-1717228800-1717243200@arkansasoutside.com
SUMMARY:Live Well 5K Run/Walk
DESCRIPTION:The Live Well 5K Run/Walk is sponsored by Little Rock Alumnae Chapter of Delta Sigma Theta Sorority\, Inc.\, an organization of college educated women committed to the constructive development of its members and to public service with a primary focus on the Black community. On Saturday\, June 1\, 2024\, in partnership with the Delta Presents Outreach Foundation\, we will host the 2nd Annual Live Well 5K Run/Walk: A Physical and Mental Health Movement. The Live Well 5K Run/Walk is an opportunity to bring the community together for the purpose of promoting physical and mental health/wellness. Research has shown that running and walking have a positive impact on mental health like better sleep\, stress reliever\, improved self-esteem\, sharper focus\, and improved memory.\nYour support will assist us in our efforts to provide scholarship incentives for high school students interested in furthering their education as well as support overall mental health/wellness in our chapter and community. The Live Well 5K Run/Walk is a family-friendly community run/walk for men\, women\, and children. Runners\, joggers\, and walkers are encouraged to come out and enjoy a healthy\, fun-filled event while supporting a worthy cause. \nCOURSE: \nRACE DISTANCE: 5K (3.1 miles) \nTIME LIMIT:  1 hour and 45 minutes. Any participant still on the course after the time limit is reached will continue with our guidance or security. \nTIMING:  TBD \nRACE BIBS:  \n\nClearly visible on the front of the torso\nUnaltered and unmodified (not folded or wrinkled)\nPinned in all four corners\nUncovered (jackets\, fuel belts\, etc.)\n\nAWARDS: TBD \nEVENT SWAG: \n\nShort-sleeve T-shirt (for those who register by May 5\, 2024)\nFinisher medal\n\nNOTE: Race bibs and event swag are ONLY available for in-person participants at packet pick-up or on race day.
URL:https://arkansasoutside.com/event/live-well-5k-run-walk-2/
LOCATION:Two Rivers Park\, 6722 Two Rivers Park Road\, Little Rock\, AR\, 72223\, United States
CATEGORIES:Running (Trail & Road)
ATTACH;FMTTYPE=image/jpeg:https://arkansasoutside.com/wp-content/uploads/2024/05/race140447-logo-0.jpg
END:VEVENT
BEGIN:VEVENT
DTSTART;TZID=America/Chicago:20240601T080000
DTEND;TZID=America/Chicago:20240601T120000
DTSTAMP:20260424T082912
CREATED:20240524T131003Z
LAST-MODIFIED:20240524T131003Z
UID:10001938-1717228800-1717243200@arkansasoutside.com
SUMMARY:Festival on the Ridge 5K
DESCRIPTION:Festival on the Ridge 5K Walk-Run \nHarrisburg\, AR.  June 1st\, 2024\, starting at 8 AM on the Court House Square.  USATF Certified Course #AR23001WJT.  Distance is 5km.  Age and Gender Categories. \nSponsored by Restoration House Ministries\, 813 N. Illinois Street\, Harrisburg\, AR 72432 \nCall 870-578-2604 for more information.
URL:https://arkansasoutside.com/event/festival-on-the-ridge-5k-2/
LOCATION:Poinsett County Court House Square\, 401 Market Street\, Harrisburg\, 72432\, United States
CATEGORIES:Running (Trail & Road)
ATTACH;FMTTYPE=image/jpeg:https://arkansasoutside.com/wp-content/uploads/2024/05/race163841-logo-0.jpg
END:VEVENT
BEGIN:VEVENT
DTSTART;TZID=America/Chicago:20240601T080000
DTEND;TZID=America/Chicago:20240601T120000
DTSTAMP:20260424T082912
CREATED:20240524T131003Z
LAST-MODIFIED:20240524T131003Z
UID:10001264-1717228800-1717243200@arkansasoutside.com
SUMMARY:Festival on the Ridge 5K
DESCRIPTION:Festival on the Ridge 5K Walk-Run \nHarrisburg\, AR.  June 1st\, 2024\, starting at 8 AM on the Court House Square.  USATF Certified Course #AR23001WJT.  Distance is 5km.  Age and Gender Categories. \nSponsored by Restoration House Ministries\, 813 N. Illinois Street\, Harrisburg\, AR 72432 \nCall 870-578-2604 for more information.
URL:https://arkansasoutside.com/event/festival-on-the-ridge-5k/
LOCATION:Poinsett County Court House Square\, 401 Market Street\, Harrisburg\, 72432\, United States
CATEGORIES:Running (Trail & Road)
ATTACH;FMTTYPE=image/jpeg:https://arkansasoutside.com/wp-content/uploads/2024/05/race163841-logo-0.jpg
END:VEVENT
BEGIN:VEVENT
DTSTART;TZID=America/Chicago:20240601T150000
DTEND;TZID=America/Chicago:20240601T170000
DTSTAMP:20260424T082912
CREATED:20240524T131748Z
LAST-MODIFIED:20240524T131748Z
UID:10001940-1717254000-1717261200@arkansasoutside.com
SUMMARY:Spring Sing 5K
DESCRIPTION:This fundraiser for the RHS choir trip will be our Fall Fest route!\nstart at the depot\, run down C street around the church and come back! \nthere will be singing and food after! \nAll proceeds go to the RHS Choir to help fund their next choir trip.
URL:https://arkansasoutside.com/event/spring-sing-5k-2/
LOCATION:Russellville Train Depot\, Russellville Train Depot\, Russellville\, 72802\, United States
CATEGORIES:Running (Trail & Road)
ATTACH;FMTTYPE=image/jpeg:https://arkansasoutside.com/wp-content/uploads/2024/05/running-shoe1-300px.jpg
END:VEVENT
BEGIN:VEVENT
DTSTART;TZID=America/Chicago:20240601T150000
DTEND;TZID=America/Chicago:20240601T170000
DTSTAMP:20260424T082912
CREATED:20240524T131748Z
LAST-MODIFIED:20240524T131748Z
UID:10001266-1717254000-1717261200@arkansasoutside.com
SUMMARY:Spring Sing 5K
DESCRIPTION:This fundraiser for the RHS choir trip will be our Fall Fest route!\nstart at the depot\, run down C street around the church and come back! \nthere will be singing and food after! \nAll proceeds go to the RHS Choir to help fund their next choir trip.
URL:https://arkansasoutside.com/event/spring-sing-5k/
LOCATION:Russellville Train Depot\, Russellville Train Depot\, Russellville\, 72802\, United States
CATEGORIES:Running (Trail & Road)
ATTACH;FMTTYPE=image/jpeg:https://arkansasoutside.com/wp-content/uploads/2024/05/running-shoe1-300px.jpg
END:VEVENT
END:VCALENDAR