BEGIN:VCALENDAR
VERSION:2.0
PRODID:-//Arkansas Outside - ECPv6.15.20//NONSGML v1.0//EN
CALSCALE:GREGORIAN
METHOD:PUBLISH
X-ORIGINAL-URL:https://arkansasoutside.com
X-WR-CALDESC:Events for Arkansas Outside
REFRESH-INTERVAL;VALUE=DURATION:PT1H
X-Robots-Tag:noindex
X-PUBLISHED-TTL:PT1H
BEGIN:VTIMEZONE
TZID:America/Chicago
BEGIN:DAYLIGHT
TZOFFSETFROM:-0600
TZOFFSETTO:-0500
TZNAME:CDT
DTSTART:20230312T080000
END:DAYLIGHT
BEGIN:STANDARD
TZOFFSETFROM:-0500
TZOFFSETTO:-0600
TZNAME:CST
DTSTART:20231105T070000
END:STANDARD
BEGIN:DAYLIGHT
TZOFFSETFROM:-0600
TZOFFSETTO:-0500
TZNAME:CDT
DTSTART:20240310T080000
END:DAYLIGHT
BEGIN:STANDARD
TZOFFSETFROM:-0500
TZOFFSETTO:-0600
TZNAME:CST
DTSTART:20241103T070000
END:STANDARD
BEGIN:DAYLIGHT
TZOFFSETFROM:-0600
TZOFFSETTO:-0500
TZNAME:CDT
DTSTART:20250309T080000
END:DAYLIGHT
BEGIN:STANDARD
TZOFFSETFROM:-0500
TZOFFSETTO:-0600
TZNAME:CST
DTSTART:20251102T070000
END:STANDARD
END:VTIMEZONE
BEGIN:VEVENT
DTSTART;TZID=America/Chicago:20240615T073000
DTEND;TZID=America/Chicago:20240615T093000
DTSTAMP:20260424T013155
CREATED:20240524T150951Z
LAST-MODIFIED:20240524T150951Z
UID:10001286-1718436600-1718443800@arkansasoutside.com
SUMMARY:Pink Tomato 5k
DESCRIPTION:Come join us for a great time in downtown Warren Arkansas. This is a very long-standing event and a shining moment of the Pink Tomato Festival. The course goes right down the heart of Warren Arkansas and finishes at the historical Bradley County Courthouse right there on the famous brick streets. There will be prizes for the top three positions of all age divisions and a overall male and female winner for the run in the walk. You also get one of the famous Pink Tomato 5K T-shirts. So go ahead and sign up and start making preparations for the greatest 5K in the world.
URL:https://arkansasoutside.com/event/pink-tomato-5k/
LOCATION:Downtown Warren\, 104 S main\, Warren\, 71671\, United States
CATEGORIES:Running (Trail & Road)
ATTACH;FMTTYPE=image/jpeg:https://arkansasoutside.com/wp-content/uploads/2024/05/race60079-logo-0.jpg
END:VEVENT
BEGIN:VEVENT
DTSTART;TZID=America/Chicago:20240615T073000
DTEND;TZID=America/Chicago:20240615T093000
DTSTAMP:20260424T013155
CREATED:20240524T150951Z
LAST-MODIFIED:20240524T150951Z
UID:10001960-1718436600-1718443800@arkansasoutside.com
SUMMARY:Pink Tomato 5k
DESCRIPTION:Come join us for a great time in downtown Warren Arkansas. This is a very long-standing event and a shining moment of the Pink Tomato Festival. The course goes right down the heart of Warren Arkansas and finishes at the historical Bradley County Courthouse right there on the famous brick streets. There will be prizes for the top three positions of all age divisions and a overall male and female winner for the run in the walk. You also get one of the famous Pink Tomato 5K T-shirts. So go ahead and sign up and start making preparations for the greatest 5K in the world.
URL:https://arkansasoutside.com/event/pink-tomato-5k-2/
LOCATION:Downtown Warren\, 104 S main\, Warren\, 71671\, United States
CATEGORIES:Running (Trail & Road)
ATTACH;FMTTYPE=image/jpeg:https://arkansasoutside.com/wp-content/uploads/2024/05/race60079-logo-0.jpg
END:VEVENT
BEGIN:VEVENT
DTSTART;TZID=America/Chicago:20240615T073000
DTEND;TZID=America/Chicago:20240615T093000
DTSTAMP:20260424T013155
CREATED:20240524T151353Z
LAST-MODIFIED:20240524T151353Z
UID:10001961-1718436600-1718443800@arkansasoutside.com
SUMMARY:Juneteenth Freedom 5K
DESCRIPTION:We are promoting health and wellness during the Juneteenth holiday. Race proceeds and donations will go towards 2 scholarships (male & female) to graduating high school seniors.
URL:https://arkansasoutside.com/event/juneteenth-freedom-5k-2/
LOCATION:South Arkansas University\, 100 E. University\, Magnolia\, 71753\, United States
CATEGORIES:Running (Trail & Road)
ATTACH;FMTTYPE=image/jpeg:https://arkansasoutside.com/wp-content/uploads/2024/05/race162943-logo-0.jpg
END:VEVENT
BEGIN:VEVENT
DTSTART;TZID=America/Chicago:20240615T073000
DTEND;TZID=America/Chicago:20240615T093000
DTSTAMP:20260424T013155
CREATED:20240524T151353Z
LAST-MODIFIED:20240524T151353Z
UID:10001287-1718436600-1718443800@arkansasoutside.com
SUMMARY:Juneteenth Freedom 5K
DESCRIPTION:We are promoting health and wellness during the Juneteenth holiday. Race proceeds and donations will go towards 2 scholarships (male & female) to graduating high school seniors.
URL:https://arkansasoutside.com/event/juneteenth-freedom-5k/
LOCATION:South Arkansas University\, 100 E. University\, Magnolia\, 71753\, United States
CATEGORIES:Running (Trail & Road)
ATTACH;FMTTYPE=image/jpeg:https://arkansasoutside.com/wp-content/uploads/2024/05/race162943-logo-0.jpg
END:VEVENT
BEGIN:VEVENT
DTSTART;TZID=America/Chicago:20240615T073000
DTEND;TZID=America/Chicago:20240615T100000
DTSTAMP:20260424T013155
CREATED:20240524T150017Z
LAST-MODIFIED:20240524T150017Z
UID:10001283-1718436600-1718445600@arkansasoutside.com
SUMMARY:River City Run/Walk 5K
DESCRIPTION:For 20 years River City Ministry of Pulaski County has been running to support our goal of feeding\, housing\, and providing medical\, dental\, vision\, and spiritual care for the homeless\, marginalized\, uninsured\, and underinsured people of Central Arkansas. Come run our certified course at Burns Park Soccer Complex! If you don’t want to run but would still like to support us\, just sign up as a spirit runner! \nPacket Pickup is available Friday\, June 14th from 10am-6pm at Rock City Running\, 11121 N Rodney Parham Rd\, Ste. 37B\, Little Rock or day of the race at the burns park soccer complex 5K Registration Table in front of the pavilion by field 12.
URL:https://arkansasoutside.com/event/river-city-run-walk-5k/
LOCATION:Burns Park Soccer Complex\, 1 Tournament Drive\, North Little Rock\, 72115\, United States
CATEGORIES:Running (Trail & Road)
ATTACH;FMTTYPE=image/jpeg:https://arkansasoutside.com/wp-content/uploads/2024/05/race111092-logo-0-e1748446362345.jpg
END:VEVENT
BEGIN:VEVENT
DTSTART;TZID=America/Chicago:20240615T073000
DTEND;TZID=America/Chicago:20240615T100000
DTSTAMP:20260424T013155
CREATED:20240524T150017Z
LAST-MODIFIED:20240524T150017Z
UID:10001957-1718436600-1718445600@arkansasoutside.com
SUMMARY:River City Run/Walk 5K
DESCRIPTION:For 20 years River City Ministry of Pulaski County has been running to support our goal of feeding\, housing\, and providing medical\, dental\, vision\, and spiritual care for the homeless\, marginalized\, uninsured\, and underinsured people of Central Arkansas. Come run our certified course at Burns Park Soccer Complex! If you don’t want to run but would still like to support us\, just sign up as a spirit runner! \nPacket Pickup is available Friday\, June 14th from 10am-6pm at Rock City Running\, 11121 N Rodney Parham Rd\, Ste. 37B\, Little Rock or day of the race at the burns park soccer complex 5K Registration Table in front of the pavilion by field 12.
URL:https://arkansasoutside.com/event/river-city-run-walk-5k-2/
LOCATION:Burns Park Soccer Complex\, 1 Tournament Drive\, North Little Rock\, 72115\, United States
CATEGORIES:Running (Trail & Road)
ATTACH;FMTTYPE=image/jpeg:https://arkansasoutside.com/wp-content/uploads/2024/05/race111092-logo-0-e1748446362345.jpg
END:VEVENT
BEGIN:VEVENT
DTSTART;TZID=America/Chicago:20240615T090000
DTEND;TZID=America/Chicago:20240615T110000
DTSTAMP:20260424T013155
CREATED:20240524T150642Z
LAST-MODIFIED:20240524T150642Z
UID:10001285-1718442000-1718449200@arkansasoutside.com
SUMMARY:Run To Win At Ridgerunner
DESCRIPTION:A 5k hosted by the ladies at John 3:16 Women’s Ministry at the Ridgerunner Farm and Chapel.  Trail race followed by blackberry cobbler\, and fresh berries racers can pick! Awards will be given to age groups and overall male and female racers.
URL:https://arkansasoutside.com/event/run-to-win-at-ridgerunner/
LOCATION:Creek Road\, 400 Creek Road\, Floral\, 72534\, United States
CATEGORIES:Running (Trail & Road)
ATTACH;FMTTYPE=image/jpeg:https://arkansasoutside.com/wp-content/uploads/2024/05/running-shoe-300px.jpg
END:VEVENT
BEGIN:VEVENT
DTSTART;TZID=America/Chicago:20240615T090000
DTEND;TZID=America/Chicago:20240615T110000
DTSTAMP:20260424T013155
CREATED:20240524T150642Z
LAST-MODIFIED:20240524T150642Z
UID:10001959-1718442000-1718449200@arkansasoutside.com
SUMMARY:Run To Win At Ridgerunner
DESCRIPTION:A 5k hosted by the ladies at John 3:16 Women’s Ministry at the Ridgerunner Farm and Chapel.  Trail race followed by blackberry cobbler\, and fresh berries racers can pick! Awards will be given to age groups and overall male and female racers.
URL:https://arkansasoutside.com/event/run-to-win-at-ridgerunner-2/
LOCATION:Creek Road\, 400 Creek Road\, Floral\, 72534\, United States
CATEGORIES:Running (Trail & Road)
ATTACH;FMTTYPE=image/jpeg:https://arkansasoutside.com/wp-content/uploads/2024/05/running-shoe-300px.jpg
END:VEVENT
END:VCALENDAR