BEGIN:VCALENDAR
VERSION:2.0
PRODID:-//Arkansas Outside - ECPv6.15.20//NONSGML v1.0//EN
CALSCALE:GREGORIAN
METHOD:PUBLISH
X-ORIGINAL-URL:https://arkansasoutside.com
X-WR-CALDESC:Events for Arkansas Outside
REFRESH-INTERVAL;VALUE=DURATION:PT1H
X-Robots-Tag:noindex
X-PUBLISHED-TTL:PT1H
BEGIN:VTIMEZONE
TZID:America/Chicago
BEGIN:DAYLIGHT
TZOFFSETFROM:-0600
TZOFFSETTO:-0500
TZNAME:CDT
DTSTART:20230312T080000
END:DAYLIGHT
BEGIN:STANDARD
TZOFFSETFROM:-0500
TZOFFSETTO:-0600
TZNAME:CST
DTSTART:20231105T070000
END:STANDARD
BEGIN:DAYLIGHT
TZOFFSETFROM:-0600
TZOFFSETTO:-0500
TZNAME:CDT
DTSTART:20240310T080000
END:DAYLIGHT
BEGIN:STANDARD
TZOFFSETFROM:-0500
TZOFFSETTO:-0600
TZNAME:CST
DTSTART:20241103T070000
END:STANDARD
BEGIN:DAYLIGHT
TZOFFSETFROM:-0600
TZOFFSETTO:-0500
TZNAME:CDT
DTSTART:20250309T080000
END:DAYLIGHT
BEGIN:STANDARD
TZOFFSETFROM:-0500
TZOFFSETTO:-0600
TZNAME:CST
DTSTART:20251102T070000
END:STANDARD
END:VTIMEZONE
BEGIN:VEVENT
DTSTART;TZID=America/Chicago:20240603T190000
DTEND;TZID=America/Chicago:20240603T210000
DTSTAMP:20260424T173707
CREATED:20240524T134456Z
LAST-MODIFIED:20240524T134456Z
UID:10001268-1717441200-1717448400@arkansasoutside.com
SUMMARY:Neon Bubbly Rush 5K
DESCRIPTION:Please join us for a non-timed 5K Neon Glow Run/Walk hosted by the Wynne Farm Fest Committee on Monday\, June 3rd\, 2024. Entry fee will include price to participate\, one Farm Fest shirt\, and glow in the dark accessories! Immediately after\, you and your children can join us for laughter\, foam\, and dancing as NEA Foam Parties brings the perfect soundtrack\, UV additive to make the foam glow\, and black lights. \nFeel free to call the Cross County Chamber of Commerce at 870-238-2601 for any questions!  \nRegistration fee: \nAges 11 & up – $25\nAges 10 & under – $15 \nCheck-in will begin at 6:30 PM. Race will start at 7 PM. NEA Foam Parties will set up at dusk for the neon foam party in the parking lot where the race begins and ends. \nRoute: https://www.mapmywalk.com/routes/view/6005311954/\nBegin at the Technology Center for the Delta\nLemons\nNeighborhoods: Oakdale\, Meadowbrook\, Fox Crossing\nEnd at Technology Center for the Delta \n*NO REFUNDS*
URL:https://arkansasoutside.com/event/neon-bubbly-rush-5k/
LOCATION:East Arkansas Community College\, 1790 North Falls Blvd\, Wynne\, 72396\, United States
CATEGORIES:Running (Trail & Road)
ATTACH;FMTTYPE=image/jpeg:https://arkansasoutside.com/wp-content/uploads/2024/05/race163832-logo-0.jpg
END:VEVENT
BEGIN:VEVENT
DTSTART;TZID=America/Chicago:20240603T190000
DTEND;TZID=America/Chicago:20240603T210000
DTSTAMP:20260424T173707
CREATED:20240524T134456Z
LAST-MODIFIED:20240524T134456Z
UID:10001942-1717441200-1717448400@arkansasoutside.com
SUMMARY:Neon Bubbly Rush 5K
DESCRIPTION:Please join us for a non-timed 5K Neon Glow Run/Walk hosted by the Wynne Farm Fest Committee on Monday\, June 3rd\, 2024. Entry fee will include price to participate\, one Farm Fest shirt\, and glow in the dark accessories! Immediately after\, you and your children can join us for laughter\, foam\, and dancing as NEA Foam Parties brings the perfect soundtrack\, UV additive to make the foam glow\, and black lights. \nFeel free to call the Cross County Chamber of Commerce at 870-238-2601 for any questions!  \nRegistration fee: \nAges 11 & up – $25\nAges 10 & under – $15 \nCheck-in will begin at 6:30 PM. Race will start at 7 PM. NEA Foam Parties will set up at dusk for the neon foam party in the parking lot where the race begins and ends. \nRoute: https://www.mapmywalk.com/routes/view/6005311954/\nBegin at the Technology Center for the Delta\nLemons\nNeighborhoods: Oakdale\, Meadowbrook\, Fox Crossing\nEnd at Technology Center for the Delta \n*NO REFUNDS*
URL:https://arkansasoutside.com/event/neon-bubbly-rush-5k-2/
LOCATION:East Arkansas Community College\, 1790 North Falls Blvd\, Wynne\, 72396\, United States
CATEGORIES:Running (Trail & Road)
ATTACH;FMTTYPE=image/jpeg:https://arkansasoutside.com/wp-content/uploads/2024/05/race163832-logo-0.jpg
END:VEVENT
BEGIN:VEVENT
DTSTART;TZID=America/Chicago:20240608T090000
DTEND;TZID=America/Chicago:20240608T103000
DTSTAMP:20260424T173707
CREATED:20240524T143154Z
LAST-MODIFIED:20240524T143154Z
UID:10001276-1717837200-1717842600@arkansasoutside.com
SUMMARY:Grandma's House Ice Cream Social 5K
DESCRIPTION:Grandma’s House is taking over hosting duties from the Berryville Chamber of Commerce for this 37th annual Ice Cream Social. \nThe race will be held on Saturday\, June 8th with a 9am start time. This race will be timed by Hudson Race Timing and will include a free event t-shirt and scoop of ice cream for all who sign up by midnight on May 27th. \nAll questions can be directed to Kaleigh Soma at 870-517-1681.
URL:https://arkansasoutside.com/event/grandmas-house-ice-cream-social-5k/
LOCATION:Berryville Public Square\, 112 Public Square\, Berryville\, 72616\, United States
CATEGORIES:Running (Trail & Road)
ATTACH;FMTTYPE=image/jpeg:https://arkansasoutside.com/wp-content/uploads/2024/05/race128146-logo-0.jpg
END:VEVENT
BEGIN:VEVENT
DTSTART;TZID=America/Chicago:20240608T090000
DTEND;TZID=America/Chicago:20240608T103000
DTSTAMP:20260424T173707
CREATED:20240524T143154Z
LAST-MODIFIED:20240524T143154Z
UID:10001950-1717837200-1717842600@arkansasoutside.com
SUMMARY:Grandma's House Ice Cream Social 5K
DESCRIPTION:Grandma’s House is taking over hosting duties from the Berryville Chamber of Commerce for this 37th annual Ice Cream Social. \nThe race will be held on Saturday\, June 8th with a 9am start time. This race will be timed by Hudson Race Timing and will include a free event t-shirt and scoop of ice cream for all who sign up by midnight on May 27th. \nAll questions can be directed to Kaleigh Soma at 870-517-1681.
URL:https://arkansasoutside.com/event/grandmas-house-ice-cream-social-5k-2/
LOCATION:Berryville Public Square\, 112 Public Square\, Berryville\, 72616\, United States
CATEGORIES:Running (Trail & Road)
ATTACH;FMTTYPE=image/jpeg:https://arkansasoutside.com/wp-content/uploads/2024/05/race128146-logo-0.jpg
END:VEVENT
END:VCALENDAR