BEGIN:VCALENDAR
VERSION:2.0
PRODID:-//Arkansas Outside - ECPv6.15.20//NONSGML v1.0//EN
CALSCALE:GREGORIAN
METHOD:PUBLISH
X-ORIGINAL-URL:https://arkansasoutside.com
X-WR-CALDESC:Events for Arkansas Outside
REFRESH-INTERVAL;VALUE=DURATION:PT1H
X-Robots-Tag:noindex
X-PUBLISHED-TTL:PT1H
BEGIN:VTIMEZONE
TZID:America/Chicago
BEGIN:DAYLIGHT
TZOFFSETFROM:-0600
TZOFFSETTO:-0500
TZNAME:CDT
DTSTART:20230312T080000
END:DAYLIGHT
BEGIN:STANDARD
TZOFFSETFROM:-0500
TZOFFSETTO:-0600
TZNAME:CST
DTSTART:20231105T070000
END:STANDARD
BEGIN:DAYLIGHT
TZOFFSETFROM:-0600
TZOFFSETTO:-0500
TZNAME:CDT
DTSTART:20240310T080000
END:DAYLIGHT
BEGIN:STANDARD
TZOFFSETFROM:-0500
TZOFFSETTO:-0600
TZNAME:CST
DTSTART:20241103T070000
END:STANDARD
BEGIN:DAYLIGHT
TZOFFSETFROM:-0600
TZOFFSETTO:-0500
TZNAME:CDT
DTSTART:20250309T080000
END:DAYLIGHT
BEGIN:STANDARD
TZOFFSETFROM:-0500
TZOFFSETTO:-0600
TZNAME:CST
DTSTART:20251102T070000
END:STANDARD
END:VTIMEZONE
BEGIN:VEVENT
DTSTART;TZID=America/Chicago:20241123T080000
DTEND;TZID=America/Chicago:20241123T110000
DTSTAMP:20260423T171633
CREATED:20241104T145839Z
LAST-MODIFIED:20241104T180541Z
UID:10002202-1732348800-1732359600@arkansasoutside.com
SUMMARY:2024 BAC TURKEY TROT 5K
DESCRIPTION:Beebe Athletic Club will be hosting the 5th annual 5K Turkey Trot Race on November 23rd\, 2024 @ 8am.  This event will be a chip timed race. This is a fun family event.  Open registration to all Level of racers.  This is a flat well marked course.  Lots of prizes and giveaways at the end of the race.   There will 7 different age divisions for both male and female.  Overall male and female will be awarded a Thanksgiving Turkey.  This will be a fun event for both racers and spectators.  By signing up for the race you are helping feed local families for Thanksgiving.  Proceeds will go towards supplying a Thanksgiving meal to several families in need.  Beebe Athletic Club will also be collecting food items @ the gym.  You are invited to participate in the food drive by bringing canned goods or boxed food items to the gym anytime before or on race day.  Registration fee includes a Race T-shirt\, water\, snacks\, fruit\, and swag from local businesses. Local vendors will be setting up morning of race for racers\, fans\, and volunteers. Free Childcare is also provided for all racers.   Come join the fun November 23rd. Early Packet pick up Friday 5-7pm at the Beebe Athletic Club.  Saturday -Check in begins @ 7:00 and race begins @ 8:00. Sign up early. Race day registration increases to $35.
URL:https://arkansasoutside.com/event/2024-bac-turkey-trot-5k/
LOCATION:Beebe Athletic Club\, 1121 W Dewitt Henry Dr\, Beebe\, 72012\, United States
CATEGORIES:Running (Trail & Road)
ATTACH;FMTTYPE=image/jpeg:https://arkansasoutside.com/wp-content/uploads/2024/05/running-shoe1-300px.jpg
END:VEVENT
END:VCALENDAR