BEGIN:VCALENDAR
VERSION:2.0
PRODID:-//Arkansas Outside - ECPv6.15.20//NONSGML v1.0//EN
CALSCALE:GREGORIAN
METHOD:PUBLISH
X-WR-CALNAME:Arkansas Outside
X-ORIGINAL-URL:https://arkansasoutside.com
X-WR-CALDESC:Events for Arkansas Outside
REFRESH-INTERVAL;VALUE=DURATION:PT1H
X-Robots-Tag:noindex
X-PUBLISHED-TTL:PT1H
BEGIN:VTIMEZONE
TZID:America/Chicago
BEGIN:DAYLIGHT
TZOFFSETFROM:-0600
TZOFFSETTO:-0500
TZNAME:CDT
DTSTART:20220313T080000
END:DAYLIGHT
BEGIN:STANDARD
TZOFFSETFROM:-0500
TZOFFSETTO:-0600
TZNAME:CST
DTSTART:20221106T070000
END:STANDARD
BEGIN:DAYLIGHT
TZOFFSETFROM:-0600
TZOFFSETTO:-0500
TZNAME:CDT
DTSTART:20230312T080000
END:DAYLIGHT
BEGIN:STANDARD
TZOFFSETFROM:-0500
TZOFFSETTO:-0600
TZNAME:CST
DTSTART:20231105T070000
END:STANDARD
BEGIN:DAYLIGHT
TZOFFSETFROM:-0600
TZOFFSETTO:-0500
TZNAME:CDT
DTSTART:20240310T080000
END:DAYLIGHT
BEGIN:STANDARD
TZOFFSETFROM:-0500
TZOFFSETTO:-0600
TZNAME:CST
DTSTART:20241103T070000
END:STANDARD
END:VTIMEZONE
BEGIN:VEVENT
DTSTART;TZID=America/Chicago:20230428T183000
DTEND;TZID=America/Chicago:20230428T203000
DTSTAMP:20260422T092648
CREATED:20230412T183748Z
LAST-MODIFIED:20230412T183748Z
UID:10000138-1682706600-1682713800@arkansasoutside.com
SUMMARY:Gold Rush Fun Run and 5k
DESCRIPTION:The 2023 annual Gold Rush Fun Run and 5k will be held Friday\, April 28th at Old Tiger Stadium on the corner of Bella Vista Rd and Tiger Blvd. The Fun Run will start 6:30pm and the 5k will follow at 7:00pm. Register now to secure your T-Shirt.
URL:https://arkansasoutside.com/event/gold-rush-fun-run-and-5k/
LOCATION:Old Tiger Stadium Park\, 517 Tiger Blvd\, Bentonville\, AR\, 72712\, United States
ATTACH;FMTTYPE=image/webp:https://arkansasoutside.com/wp-content/uploads/2023/04/image001.webp
END:VEVENT
BEGIN:VEVENT
DTSTART;TZID=America/Chicago:20230428T183000
DTEND;TZID=America/Chicago:20230428T203000
DTSTAMP:20260422T092648
CREATED:20230412T183748Z
LAST-MODIFIED:20230412T183748Z
UID:10001568-1682706600-1682713800@arkansasoutside.com
SUMMARY:Gold Rush Fun Run and 5k
DESCRIPTION:The 2023 annual Gold Rush Fun Run and 5k will be held Friday\, April 28th at Old Tiger Stadium on the corner of Bella Vista Rd and Tiger Blvd. The Fun Run will start 6:30pm and the 5k will follow at 7:00pm. Register now to secure your T-Shirt.
URL:https://arkansasoutside.com/event/gold-rush-fun-run-and-5k-2/
LOCATION:Old Tiger Stadium Park\, 517 Tiger Blvd\, Bentonville\, AR\, 72712\, United States
ATTACH;FMTTYPE=image/webp:https://arkansasoutside.com/wp-content/uploads/2023/04/image001.webp
END:VEVENT
END:VCALENDAR