BEGIN:VCALENDAR
VERSION:2.0
PRODID:-//Arkansas Outside - ECPv6.15.20//NONSGML v1.0//EN
CALSCALE:GREGORIAN
METHOD:PUBLISH
X-ORIGINAL-URL:https://arkansasoutside.com
X-WR-CALDESC:Events for Arkansas Outside
REFRESH-INTERVAL;VALUE=DURATION:PT1H
X-Robots-Tag:noindex
X-PUBLISHED-TTL:PT1H
BEGIN:VTIMEZONE
TZID:America/Chicago
BEGIN:DAYLIGHT
TZOFFSETFROM:-0600
TZOFFSETTO:-0500
TZNAME:CDT
DTSTART:20220313T080000
END:DAYLIGHT
BEGIN:STANDARD
TZOFFSETFROM:-0500
TZOFFSETTO:-0600
TZNAME:CST
DTSTART:20221106T070000
END:STANDARD
BEGIN:DAYLIGHT
TZOFFSETFROM:-0600
TZOFFSETTO:-0500
TZNAME:CDT
DTSTART:20230312T080000
END:DAYLIGHT
BEGIN:STANDARD
TZOFFSETFROM:-0500
TZOFFSETTO:-0600
TZNAME:CST
DTSTART:20231105T070000
END:STANDARD
BEGIN:DAYLIGHT
TZOFFSETFROM:-0600
TZOFFSETTO:-0500
TZNAME:CDT
DTSTART:20240310T080000
END:DAYLIGHT
BEGIN:STANDARD
TZOFFSETFROM:-0500
TZOFFSETTO:-0600
TZNAME:CST
DTSTART:20241103T070000
END:STANDARD
END:VTIMEZONE
BEGIN:VEVENT
DTSTART;TZID=America/Chicago:20230415T080000
DTEND;TZID=America/Chicago:20230415T110000
DTSTAMP:20260423T004212
CREATED:20230412T183219Z
LAST-MODIFIED:20230412T183219Z
UID:10000137-1681545600-1681556400@arkansasoutside.com
SUMMARY:Jackrabbit 5K
DESCRIPTION:WHAT IS THE JACKRABBIT?\nHosted by the Flagstone Church of Christ in Bentonville\, this family friendly event includes a 5K Run\, 1/2 mile fun walk\, and silent auction. \nWHAT IS OUR CAUSE?\nAll proceeds are used to purchase quality athletic shoes for local neighbors in need. To date\, the Jackrabbit has put shoes on nearly 2000 people in the NWA area!  We target folks in need and partner with Rush Running ( a local running store and sponsor of the Jackrabbit) to provide shoes!  With your support\, we hope for this to be our best year yet! \nEVENT DETAILS:\nJACKRABBIT 5K RUN:\nTIME: 8:00 AM\nCOST: $25 if registered by 3/18/23\, $35 after \n\n\n\nFlat Course (come and set a personal best!)\nFinisher Medals\nTri-blend race shirt (guaranteed if registered by 3/18/23)\nCASH prizes for overall top 3 male/female finishers\nAge division award medals\nVirtual option available (non-competitive)\n\n\n\nBUNNY HOP 1/2 MILE FUN RUN\nTIME: 9 AM\nCOST: $15 if registered by 3/18/22\, $20 after \n\n\n\nSafe\, well-staffed\, out and back ½ mile course with lots of volunteers\nCotton event shirt (guaranteed if registered by 3/18/22)\n“Race” bib\nFinisher medal\n\n\n\nLOCATION:\nFlagstone Church of Christ:\n3801 SW Eden Brooke St.\nBentonville\, AR 72713 \nREGISTRATION:\nPlease note: ALL REGISTRATIONS ARE NON-REFUNDABLE.\nIf something comes up and you can not attend\, we will save your shirt and race packets for 14 days after the event. Since we are a charity event\, if the race is cancelled due to inclement weather or other unforeseeable circumstances\, we can not give refunds\, but CAN promise you all funds raised will go to buy shoes for local folks in need! Click the button below to register now!
URL:https://arkansasoutside.com/event/jackrabbit-5k/
LOCATION:Flagstone Church of Christ\, 3801 SW Eden Brooke St.\, Bentonville\, AR\, 72713\, United States
CATEGORIES:Running (Trail & Road)
ATTACH;FMTTYPE=image/jpeg:https://arkansasoutside.com/wp-content/uploads/2023/04/logo-1.jpg
END:VEVENT
BEGIN:VEVENT
DTSTART;TZID=America/Chicago:20230415T080000
DTEND;TZID=America/Chicago:20230415T110000
DTSTAMP:20260423T004212
CREATED:20230412T183219Z
LAST-MODIFIED:20230412T183219Z
UID:10001567-1681545600-1681556400@arkansasoutside.com
SUMMARY:Jackrabbit 5K
DESCRIPTION:WHAT IS THE JACKRABBIT?\nHosted by the Flagstone Church of Christ in Bentonville\, this family friendly event includes a 5K Run\, 1/2 mile fun walk\, and silent auction. \nWHAT IS OUR CAUSE?\nAll proceeds are used to purchase quality athletic shoes for local neighbors in need. To date\, the Jackrabbit has put shoes on nearly 2000 people in the NWA area!  We target folks in need and partner with Rush Running ( a local running store and sponsor of the Jackrabbit) to provide shoes!  With your support\, we hope for this to be our best year yet! \nEVENT DETAILS:\nJACKRABBIT 5K RUN:\nTIME: 8:00 AM\nCOST: $25 if registered by 3/18/23\, $35 after \n\n\n\nFlat Course (come and set a personal best!)\nFinisher Medals\nTri-blend race shirt (guaranteed if registered by 3/18/23)\nCASH prizes for overall top 3 male/female finishers\nAge division award medals\nVirtual option available (non-competitive)\n\n\n\nBUNNY HOP 1/2 MILE FUN RUN\nTIME: 9 AM\nCOST: $15 if registered by 3/18/22\, $20 after \n\n\n\nSafe\, well-staffed\, out and back ½ mile course with lots of volunteers\nCotton event shirt (guaranteed if registered by 3/18/22)\n“Race” bib\nFinisher medal\n\n\n\nLOCATION:\nFlagstone Church of Christ:\n3801 SW Eden Brooke St.\nBentonville\, AR 72713 \nREGISTRATION:\nPlease note: ALL REGISTRATIONS ARE NON-REFUNDABLE.\nIf something comes up and you can not attend\, we will save your shirt and race packets for 14 days after the event. Since we are a charity event\, if the race is cancelled due to inclement weather or other unforeseeable circumstances\, we can not give refunds\, but CAN promise you all funds raised will go to buy shoes for local folks in need! Click the button below to register now!
URL:https://arkansasoutside.com/event/jackrabbit-5k-3/
LOCATION:Flagstone Church of Christ\, 3801 SW Eden Brooke St.\, Bentonville\, AR\, 72713\, United States
CATEGORIES:Running (Trail & Road)
ATTACH;FMTTYPE=image/jpeg:https://arkansasoutside.com/wp-content/uploads/2023/04/logo-1.jpg
END:VEVENT
END:VCALENDAR