BEGIN:VCALENDAR
VERSION:2.0
PRODID:-//Arkansas Outside - ECPv6.15.20//NONSGML v1.0//EN
CALSCALE:GREGORIAN
METHOD:PUBLISH
X-ORIGINAL-URL:https://arkansasoutside.com
X-WR-CALDESC:Events for Arkansas Outside
REFRESH-INTERVAL;VALUE=DURATION:PT1H
X-Robots-Tag:noindex
X-PUBLISHED-TTL:PT1H
BEGIN:VTIMEZONE
TZID:America/Chicago
BEGIN:DAYLIGHT
TZOFFSETFROM:-0600
TZOFFSETTO:-0500
TZNAME:CDT
DTSTART:20220313T080000
END:DAYLIGHT
BEGIN:STANDARD
TZOFFSETFROM:-0500
TZOFFSETTO:-0600
TZNAME:CST
DTSTART:20221106T070000
END:STANDARD
BEGIN:DAYLIGHT
TZOFFSETFROM:-0600
TZOFFSETTO:-0500
TZNAME:CDT
DTSTART:20230312T080000
END:DAYLIGHT
BEGIN:STANDARD
TZOFFSETFROM:-0500
TZOFFSETTO:-0600
TZNAME:CST
DTSTART:20231105T070000
END:STANDARD
BEGIN:DAYLIGHT
TZOFFSETFROM:-0600
TZOFFSETTO:-0500
TZNAME:CDT
DTSTART:20240310T080000
END:DAYLIGHT
BEGIN:STANDARD
TZOFFSETFROM:-0500
TZOFFSETTO:-0600
TZNAME:CST
DTSTART:20241103T070000
END:STANDARD
END:VTIMEZONE
BEGIN:VEVENT
DTSTART;VALUE=DATE:20230506
DTEND;VALUE=DATE:20230507
DTSTAMP:20260422T193423
CREATED:20230308T194626Z
LAST-MODIFIED:20230308T194626Z
UID:10001462-1683331200-1683417599@arkansasoutside.com
SUMMARY:Noon2Moon Bike Race 2023
DESCRIPTION:Noon2Moon is the only annual fundraiser race by Coler\, for Coler! Registrations and donations support Coler Mountain Bike Preserve\, which is operated by Peel Compton Foundation (a 501(c)(3) nonprofit). All funds raised go back to the trail development and accessible programming that make Coler a unique destination for visitors from Northwest Arkansas and beyond!
URL:https://arkansasoutside.com/event/noon2moon-bike-race-2023-2/
LOCATION:Coler Mountain Bike Preserve 1\, 2003 NW Homestead Ln\, Bentonville\, AR\, 72712\, United States
CATEGORIES:Cycling (Road & Mountain)
ATTACH;FMTTYPE=image/jpeg:https://arkansasoutside.com/wp-content/uploads/2023/03/332759648_1350252448884312_7961154274646282499_n.jpg
END:VEVENT
BEGIN:VEVENT
DTSTART;VALUE=DATE:20230506
DTEND;VALUE=DATE:20230507
DTSTAMP:20260422T193423
CREATED:20230308T194626Z
LAST-MODIFIED:20230308T194626Z
UID:10000032-1683331200-1683417599@arkansasoutside.com
SUMMARY:Noon2Moon Bike Race 2023
DESCRIPTION:Noon2Moon is the only annual fundraiser race by Coler\, for Coler! Registrations and donations support Coler Mountain Bike Preserve\, which is operated by Peel Compton Foundation (a 501(c)(3) nonprofit). All funds raised go back to the trail development and accessible programming that make Coler a unique destination for visitors from Northwest Arkansas and beyond!
URL:https://arkansasoutside.com/event/noon2moon-bike-race-2023/
LOCATION:Coler Mountain Bike Preserve 1\, 2003 NW Homestead Ln\, Bentonville\, AR\, 72712\, United States
CATEGORIES:Cycling (Road & Mountain)
ATTACH;FMTTYPE=image/jpeg:https://arkansasoutside.com/wp-content/uploads/2023/03/332759648_1350252448884312_7961154274646282499_n.jpg
END:VEVENT
BEGIN:VEVENT
DTSTART;TZID=America/Chicago:20230506T070000
DTEND;TZID=America/Chicago:20230506T140000
DTSTAMP:20260422T193423
CREATED:20230426T183614Z
LAST-MODIFIED:20230426T183614Z
UID:10001582-1683356400-1683381600@arkansasoutside.com
SUMMARY:Square 2 Square Bicycle Ride
DESCRIPTION:Spring Ride Starts in Fayetteville and Finishes in Bentonville. \nStart Times: 7-7:30\, 7:30-8\, 8-8:30\, 8:30-9\, 9-9:30 \nFinishLine Closes at 2 PM! \nHelmets are required to participate!! \nShirt sizes are Not guaranteed after April 6th. \nIf you need to register for a shuttle please copy and paste link: \nhttps://app.regwiz.io/register/s2sshuttle/958
URL:https://arkansasoutside.com/event/square-2-square-bicycle-ride-2/
LOCATION:Fayetteville Square\, 70 East Ave\, Fayetteville\, AR\, 72701\, United States
CATEGORIES:Cycling (Road & Mountain)
ATTACH;FMTTYPE=image/jpeg:https://arkansasoutside.com/wp-content/uploads/2023/01/i-4BzspR3-X3.jpg
END:VEVENT
BEGIN:VEVENT
DTSTART;TZID=America/Chicago:20230506T073000
DTEND;TZID=America/Chicago:20230506T120000
DTSTAMP:20260422T193423
CREATED:20230412T184426Z
LAST-MODIFIED:20230412T184426Z
UID:10001570-1683358200-1683374400@arkansasoutside.com
SUMMARY:Heather Ridley-Fleeman Battle for Hope
DESCRIPTION:ABOUT BATTLE FOR HOPE \nThe Heather Ridley-Fleeman Battle for Hope is a run/walk event held the first Saturday in May each year at the Old Tiger Stadium in Bentonville. The event began in 2005 as a way to honor the life of Heather Ridley-Fleeman and raise awareness of colon cancer. Heather died in 2004 at the young age of 28 after a long battle with colon cancer. \nThe following year\, a close group of Heather’s family and friends partnered with Hope Cancer Resources to help make sure other cancer patients have access to the care they need during treatment and to educate individuals that early detection does save lives. \nDuring her life\, Heather was a member of the Walmart supplier community. She was also dedicated to supporting agencies that work to help cancer patients through treatments and make state-of-the-art cancer research locally accessible. \n By participating in Battle for Hope\, you can help Hope Cancer Resources continue the mission of providing cancer support and education to cancer patients in Northwest Arkansas. Register online today. All proceeds from Battle for Hope go directly to Hope Cancer Resources. Individual runners and walkers\, as well as teams are encouraged to participate. Sponsorships are available as well. \n Click here to view the Battle for Hope policies and restrictions
URL:https://arkansasoutside.com/event/heather-ridley-fleeman-battle-for-hope-2/
LOCATION:Old Tiger Stadium Park\, 517 Tiger Blvd\, Bentonville\, AR\, 72712\, United States
CATEGORIES:Running (Trail & Road)
ATTACH;FMTTYPE=image/jpeg:https://arkansasoutside.com/wp-content/uploads/2023/04/Battle-for-Hope-Logo-2023.jpg
END:VEVENT
BEGIN:VEVENT
DTSTART;TZID=America/Chicago:20230506T073000
DTEND;TZID=America/Chicago:20230506T120000
DTSTAMP:20260422T193423
CREATED:20230412T184426Z
LAST-MODIFIED:20230412T184426Z
UID:10000140-1683358200-1683374400@arkansasoutside.com
SUMMARY:Heather Ridley-Fleeman Battle for Hope
DESCRIPTION:ABOUT BATTLE FOR HOPE \nThe Heather Ridley-Fleeman Battle for Hope is a run/walk event held the first Saturday in May each year at the Old Tiger Stadium in Bentonville. The event began in 2005 as a way to honor the life of Heather Ridley-Fleeman and raise awareness of colon cancer. Heather died in 2004 at the young age of 28 after a long battle with colon cancer. \nThe following year\, a close group of Heather’s family and friends partnered with Hope Cancer Resources to help make sure other cancer patients have access to the care they need during treatment and to educate individuals that early detection does save lives. \nDuring her life\, Heather was a member of the Walmart supplier community. She was also dedicated to supporting agencies that work to help cancer patients through treatments and make state-of-the-art cancer research locally accessible. \n By participating in Battle for Hope\, you can help Hope Cancer Resources continue the mission of providing cancer support and education to cancer patients in Northwest Arkansas. Register online today. All proceeds from Battle for Hope go directly to Hope Cancer Resources. Individual runners and walkers\, as well as teams are encouraged to participate. Sponsorships are available as well. \n Click here to view the Battle for Hope policies and restrictions
URL:https://arkansasoutside.com/event/heather-ridley-fleeman-battle-for-hope/
LOCATION:Old Tiger Stadium Park\, 517 Tiger Blvd\, Bentonville\, AR\, 72712\, United States
CATEGORIES:Running (Trail & Road)
ATTACH;FMTTYPE=image/jpeg:https://arkansasoutside.com/wp-content/uploads/2023/04/Battle-for-Hope-Logo-2023.jpg
END:VEVENT
END:VCALENDAR