BEGIN:VCALENDAR
VERSION:2.0
PRODID:-//Arkansas Outside - ECPv6.15.20//NONSGML v1.0//EN
CALSCALE:GREGORIAN
METHOD:PUBLISH
X-ORIGINAL-URL:https://arkansasoutside.com
X-WR-CALDESC:Events for Arkansas Outside
REFRESH-INTERVAL;VALUE=DURATION:PT1H
X-Robots-Tag:noindex
X-PUBLISHED-TTL:PT1H
BEGIN:VTIMEZONE
TZID:America/Chicago
BEGIN:DAYLIGHT
TZOFFSETFROM:-0600
TZOFFSETTO:-0500
TZNAME:CDT
DTSTART:20230312T080000
END:DAYLIGHT
BEGIN:STANDARD
TZOFFSETFROM:-0500
TZOFFSETTO:-0600
TZNAME:CST
DTSTART:20231105T070000
END:STANDARD
BEGIN:DAYLIGHT
TZOFFSETFROM:-0600
TZOFFSETTO:-0500
TZNAME:CDT
DTSTART:20240310T080000
END:DAYLIGHT
BEGIN:STANDARD
TZOFFSETFROM:-0500
TZOFFSETTO:-0600
TZNAME:CST
DTSTART:20241103T070000
END:STANDARD
BEGIN:DAYLIGHT
TZOFFSETFROM:-0600
TZOFFSETTO:-0500
TZNAME:CDT
DTSTART:20250309T080000
END:DAYLIGHT
BEGIN:STANDARD
TZOFFSETFROM:-0500
TZOFFSETTO:-0600
TZNAME:CST
DTSTART:20251102T070000
END:STANDARD
END:VTIMEZONE
BEGIN:VEVENT
DTSTART;VALUE=DATE:20241109
DTEND;VALUE=DATE:20241111
DTSTAMP:20260422T172353
CREATED:20240909T141440Z
LAST-MODIFIED:20240909T141440Z
UID:10002125-1731110400-1731283199@arkansasoutside.com
SUMMARY:Birdeye Gravel
DESCRIPTION:Discover Birdeye – an Adventure Getaway on Crowley’s Ridge\nAs autumn paints the landscape in vibrant hues\, immerse yourself in the rich cultural tapestry and scenic beauty of Arkansas’ Delta region.  Rolling gravel routes that traverse the ridge\, farmland\, levees\, and historic country roads are the main event. \n\nRewarding Gravel Rides – Explore beautiful terrain with beginner\, intermediate\, and advanced route options.\nLocal Flavors – Savor farm-to-table cuisine and lose yourself in the region’s culinary delights.\nDistinctive – Crowley’s Ridge offers a unique blend of authentic charm and outdoor adventure in a setting that is both a geographical and ecological anomaly.\nWarm Hospitality – Experience the genuine warmth and friendliness of the Arkansas Delta\, house-party style.\nYou Don’t Have to Ride – There are plenty of other things to do: relax\, explore… just be!\nLive Music – Enjoy a vibrant music scene that showcases local talent.\n\nFor those seeking a more leisurely experience\, enjoy a variety of activities including yoga\, bocce\, guided hikes\, hammocking\, cocktail-making\, photo walks\, or simply relaxing in the serene surroundings on the farm. \n—–\nSchedule\nThursday 11/7 (bikepacker’s special) \n\n\nFree dinner for people that ride their bicycles to Birdeye\n\nROUTE COLLECTION\nCome hungry!\n\n\n\n  \nFriday 11/8 \n\n10am – Friday 50 group ride\n4pm – Arrive at the farm in time for happy hour\n5pm – Wood oven pizza – August and Co.\nMusic – Heavy Suga and the Sweetones\n\n  \nSaturday 11/9  \n\n6:30 – 8am Breakfast & to-go lunch\n7am – 80 & 100-mile start\n8am – 50-mile start\n9am – 8 & 23-mile start\n10am – 4pm Farm fun (yard games\, yoga\, & more!)\n5pm – Tacos & tamales – San Judas\nMusic – Curtis Scott & Deion James followed by Amy LaVere & Will Sexton\n\n  \nSunday 11/10  \n\nBreakfast & farewells\nOPTIONAL: Visit the award-winning Arkansas State Veterans Cemetery one mile north and say hello to the state champion Southern red oak tree.\n\n  \n——\nAccommodations\n\nThe festival takes place on a small farm nestled on the eastern slope of Crowley’s Ridge. For on-site accommodations please reserve your spot as soon as possible. \n  \nSpace is limited – RESERVE YOUR SPOT \n  \n9/5 UPDATE \n\nEntire bunk room has been claimed\nBoth bedrooms with shared bath are reserved\nCanvas tents are selling out\nPlenty of DIY camping still available\nLocal home rentals still available\nCamping sites are still available at Village Creek State Park\n\n  \nSpace is limited – RESERVE YOUR SPOT \n  \n—–\nBuilding Community\nstudioDRIFT’s mission aims to help communities in the Delta through placemaking and outdoor recreation. To this end we offer free event participation for marginalized and underprivileged people. If you would like to apply for a scholarship and attend this event for free\, please be in touch. \n\n—–\nAll proceeds benefit the Crowley’s Ridge Gravel Trail\n\n  \nCrowley’s Ridge is a geographic anomaly that runs from southern Missouri all the way down to Helena. \nBorn by windblown dust hitting river fog in the days of the woolly mammoth\, this unique ecoregion is elevated 250 feet above the surrounding Mississippi Alluvial Plain. \n  \nCrowley’s Ridge Gravel Trail spans 250 miles – and 10\,000′ of elevation – connecting Piggott to Helena. \nThis project is symbolic of studioDRIFT’s commitment to the prosperity of rural Arkansas. \n  \nAdventure recreation strengthens both the economy and the ecology of the Natural State. \n  \nQuality of life begins with quality of place. 
URL:https://arkansasoutside.com/event/birdeye-gravel/
LOCATION:Birdeye Farms\, 10 County Road\, Birdeye\, 72324\, United States
CATEGORIES:Cycling (Road & Mountain)
ATTACH;FMTTYPE=image/jpeg:https://arkansasoutside.com/wp-content/uploads/2023/10/music-e1725891192320.jpg
END:VEVENT
END:VCALENDAR