BEGIN:VCALENDAR
VERSION:2.0
PRODID:-//Arkansas Outside - ECPv6.15.20//NONSGML v1.0//EN
CALSCALE:GREGORIAN
METHOD:PUBLISH
X-ORIGINAL-URL:https://arkansasoutside.com
X-WR-CALDESC:Events for Arkansas Outside
REFRESH-INTERVAL;VALUE=DURATION:PT1H
X-Robots-Tag:noindex
X-PUBLISHED-TTL:PT1H
BEGIN:VTIMEZONE
TZID:America/Chicago
BEGIN:DAYLIGHT
TZOFFSETFROM:-0600
TZOFFSETTO:-0500
TZNAME:CDT
DTSTART:20220313T080000
END:DAYLIGHT
BEGIN:STANDARD
TZOFFSETFROM:-0500
TZOFFSETTO:-0600
TZNAME:CST
DTSTART:20221106T070000
END:STANDARD
BEGIN:DAYLIGHT
TZOFFSETFROM:-0600
TZOFFSETTO:-0500
TZNAME:CDT
DTSTART:20230312T080000
END:DAYLIGHT
BEGIN:STANDARD
TZOFFSETFROM:-0500
TZOFFSETTO:-0600
TZNAME:CST
DTSTART:20231105T070000
END:STANDARD
BEGIN:DAYLIGHT
TZOFFSETFROM:-0600
TZOFFSETTO:-0500
TZNAME:CDT
DTSTART:20240310T080000
END:DAYLIGHT
BEGIN:STANDARD
TZOFFSETFROM:-0500
TZOFFSETTO:-0600
TZNAME:CST
DTSTART:20241103T070000
END:STANDARD
END:VTIMEZONE
BEGIN:VEVENT
DTSTART;VALUE=DATE:20230506
DTEND;VALUE=DATE:20230507
DTSTAMP:20260421T103136
CREATED:20230308T214937Z
LAST-MODIFIED:20230308T214937Z
UID:10001477-1683331200-1683417599@arkansasoutside.com
SUMMARY:2023 Tour de Toad Ride for Literacy
DESCRIPTION:Rider registration is underway for the 2023 Tour de Toad Ride for Literacy! This family friendly bicycle event is held in conjunction with Toad Suck Daze in Conway and will take place Saturday morning\, May 6th. You can sign up for a 10\, 20\, or 40 mile ride\, and there’s a family ride\, too. Earn an IronToad medal by participating in both the Toad Suck 5K/10K Run and Tour de Toad! If you’d like to be a sponsor\, serve on the planning committee\, or volunteer at the event please contact Dana Venhaus at dvenhaus@literacyactionar.org. \nRegister at www.bikereg.com/tour-de-toad.
URL:https://arkansasoutside.com/event/2023-tour-de-toad-ride-for-literacy-2/
LOCATION:Conway Municipal Airport\, 3250 Sand Gap Rd\, Conway\, AR\, 72032\, United States
CATEGORIES:Cycling (Road & Mountain)
ATTACH;FMTTYPE=image/jpeg:https://arkansasoutside.com/wp-content/uploads/2023/03/03807d8c-fb11-4594-a5bf-fa34a3d02cf0.jpg
END:VEVENT
BEGIN:VEVENT
DTSTART;VALUE=DATE:20230506
DTEND;VALUE=DATE:20230507
DTSTAMP:20260421T103136
CREATED:20230308T214937Z
LAST-MODIFIED:20230308T214937Z
UID:10000046-1683331200-1683417599@arkansasoutside.com
SUMMARY:2023 Tour de Toad Ride for Literacy
DESCRIPTION:Rider registration is underway for the 2023 Tour de Toad Ride for Literacy! This family friendly bicycle event is held in conjunction with Toad Suck Daze in Conway and will take place Saturday morning\, May 6th. You can sign up for a 10\, 20\, or 40 mile ride\, and there’s a family ride\, too. Earn an IronToad medal by participating in both the Toad Suck 5K/10K Run and Tour de Toad! If you’d like to be a sponsor\, serve on the planning committee\, or volunteer at the event please contact Dana Venhaus at dvenhaus@literacyactionar.org. \nRegister at www.bikereg.com/tour-de-toad.
URL:https://arkansasoutside.com/event/2023-tour-de-toad-ride-for-literacy/
LOCATION:Conway Municipal Airport\, 3250 Sand Gap Rd\, Conway\, AR\, 72032\, United States
CATEGORIES:Cycling (Road & Mountain)
ATTACH;FMTTYPE=image/jpeg:https://arkansasoutside.com/wp-content/uploads/2023/03/03807d8c-fb11-4594-a5bf-fa34a3d02cf0.jpg
END:VEVENT
BEGIN:VEVENT
DTSTART;TZID=America/Chicago:20230506T080000
DTEND;TZID=America/Chicago:20230506T120000
DTSTAMP:20260421T103136
CREATED:20230309T133458Z
LAST-MODIFIED:20230309T133458Z
UID:10001492-1683360000-1683374400@arkansasoutside.com
SUMMARY:Toad Suck Daze 10k/5k Run and Tadpole Trot
DESCRIPTION:We are so excited to announce the 41st Annual Toad Suck Daze 10K and 5K Race for the Kiwanis Club of Conway. We would also like to thank our presenting sponsor for this year’s race\, Conway Regional Health Systems! \nWe are also happy to announce that this year’s race has been designated as a Grand Prix Race by the Road Runners Club of America (RRCA)! \nThe Tad Pole Trot\, Presented by Centennial Bank will take place May 5th at 5:45 pm at the Conway High School track.  This will be a short race and is for kids ages 3-10 years old.  Prizes and t-shirts are available! \nThe Toad Suck Daze 10K Race was started by the Conway Kiwanis Club in 1982 and run in conjunction with the then-new Toad Suck Daze Festival. In 1984\, First National Bank (now Regions) began a race in memory of a fellow employee\, Randy Baker\, who died of cancer. The Randy Baker 8K was conducted for two years\, with proceeds benefiting the American Cancer Society. In 1986\, the Conway Kiwanis Club approached Regions Bank\, and the two races were combined.  The annual Toad Suck Daze Run is held in memory of Randy Baker\, with proceeds benefiting non-profit agencies supporting children in the Faulkner County community.  The 2022 recipients included:  Children’s Advocacy Alliance\, Community Connections\, Community Service Inc\, Compass Academy\, HAVEN\, Main Stage Education Series at Reynolds Performance Hall\, Conway Area Youth Leadership Institute\, and Milestones Services Inc. \nToday\, the Run includes both a 10K and a 5K Run/Walk\, a Wheelchair event\, a Tadpole Trot for children ages 3-10. Since its inception\, the run has contributed over $450\,000 to support local non-profits\, and the Run strives to increase its contributions to the Faulkner County community each year. \nOnline registration will be cut off Thursday\, May 4th at 11:59 pm.  Runners can still register for the race by filling out paper registration forms at: \n-Conway Regional Fitness Center\, May 5\, 2023 – 12 pm – 6 pm \n-Day of Race\, Registration table Conway High School Field House – 6:30 am – 7:30 am \nHope to see you all there!
URL:https://arkansasoutside.com/event/toad-suck-daze-10k-5k-run-and-tadpole-trot-2/
LOCATION:Conway High School\, 2300 Prince Street\, Conway\, AR\, 72034\, United States
CATEGORIES:Running (Trail & Road)
ATTACH;FMTTYPE=image/jpeg:https://arkansasoutside.com/wp-content/uploads/2023/03/race48408-logo.jpg
END:VEVENT
END:VCALENDAR