BEGIN:VCALENDAR
VERSION:2.0
PRODID:-//Arkansas Outside - ECPv6.15.20//NONSGML v1.0//EN
CALSCALE:GREGORIAN
METHOD:PUBLISH
X-WR-CALNAME:Arkansas Outside
X-ORIGINAL-URL:https://arkansasoutside.com
X-WR-CALDESC:Events for Arkansas Outside
REFRESH-INTERVAL;VALUE=DURATION:PT1H
X-Robots-Tag:noindex
X-PUBLISHED-TTL:PT1H
BEGIN:VTIMEZONE
TZID:America/Chicago
BEGIN:DAYLIGHT
TZOFFSETFROM:-0600
TZOFFSETTO:-0500
TZNAME:CDT
DTSTART:20230312T080000
END:DAYLIGHT
BEGIN:STANDARD
TZOFFSETFROM:-0500
TZOFFSETTO:-0600
TZNAME:CST
DTSTART:20231105T070000
END:STANDARD
BEGIN:DAYLIGHT
TZOFFSETFROM:-0600
TZOFFSETTO:-0500
TZNAME:CDT
DTSTART:20240310T080000
END:DAYLIGHT
BEGIN:STANDARD
TZOFFSETFROM:-0500
TZOFFSETTO:-0600
TZNAME:CST
DTSTART:20241103T070000
END:STANDARD
BEGIN:DAYLIGHT
TZOFFSETFROM:-0600
TZOFFSETTO:-0500
TZNAME:CDT
DTSTART:20250309T080000
END:DAYLIGHT
BEGIN:STANDARD
TZOFFSETFROM:-0500
TZOFFSETTO:-0600
TZNAME:CST
DTSTART:20251102T070000
END:STANDARD
END:VTIMEZONE
BEGIN:VEVENT
DTSTART;VALUE=DATE:20240511
DTEND;VALUE=DATE:20240512
DTSTAMP:20260421T184957
CREATED:20240206T132636Z
LAST-MODIFIED:20240206T132636Z
UID:10000437-1715385600-1715471999@arkansasoutside.com
SUMMARY:Day Hike - White Oak Lake State Park
DESCRIPTION:Fern Hollow Trail & Little Grand Canyon (White Oak Lake) – 6.1 miles – Mod. Another new hike! We head south to White Oak Lake State Park to hike the Fern Hollow Trail. We will only do half of the trail and then go over to the Little Grand Canyon area on a branch of White Oak creek. Meet at the Chik-fil-A by Bass Pro at 8am or meet us at the Park Visitor’s center at 10. Bring a lunch
URL:https://arkansasoutside.com/event/day-hike-white-oak-lake-state-park/
LOCATION:Wite Oak Lake State Park
CATEGORIES:Hiking/Backpacking/Camping
ATTACH;FMTTYPE=image/jpeg:https://arkansasoutside.com/wp-content/uploads/2024/02/330341300_1401916397277582_4141577715399672516_n-e1707225798472.jpg
END:VEVENT
BEGIN:VEVENT
DTSTART;VALUE=DATE:20240511
DTEND;VALUE=DATE:20240512
DTSTAMP:20260421T184957
CREATED:20240206T132636Z
LAST-MODIFIED:20240206T132636Z
UID:10001846-1715385600-1715471999@arkansasoutside.com
SUMMARY:Day Hike - White Oak Lake State Park
DESCRIPTION:Fern Hollow Trail & Little Grand Canyon (White Oak Lake) – 6.1 miles – Mod. Another new hike! We head south to White Oak Lake State Park to hike the Fern Hollow Trail. We will only do half of the trail and then go over to the Little Grand Canyon area on a branch of White Oak creek. Meet at the Chik-fil-A by Bass Pro at 8am or meet us at the Park Visitor’s center at 10. Bring a lunch
URL:https://arkansasoutside.com/event/day-hike-white-oak-lake-state-park-2/
LOCATION:Wite Oak Lake State Park
CATEGORIES:Hiking/Backpacking/Camping
ATTACH;FMTTYPE=image/jpeg:https://arkansasoutside.com/wp-content/uploads/2024/02/330341300_1401916397277582_4141577715399672516_n-e1707225798472.jpg
END:VEVENT
END:VCALENDAR