BEGIN:VCALENDAR
VERSION:2.0
PRODID:-//Arkansas Outside - ECPv6.15.20//NONSGML v1.0//EN
CALSCALE:GREGORIAN
METHOD:PUBLISH
X-WR-CALNAME:Arkansas Outside
X-ORIGINAL-URL:https://arkansasoutside.com
X-WR-CALDESC:Events for Arkansas Outside
REFRESH-INTERVAL;VALUE=DURATION:PT1H
X-Robots-Tag:noindex
X-PUBLISHED-TTL:PT1H
BEGIN:VTIMEZONE
TZID:America/Chicago
BEGIN:DAYLIGHT
TZOFFSETFROM:-0600
TZOFFSETTO:-0500
TZNAME:CDT
DTSTART:20230312T080000
END:DAYLIGHT
BEGIN:STANDARD
TZOFFSETFROM:-0500
TZOFFSETTO:-0600
TZNAME:CST
DTSTART:20231105T070000
END:STANDARD
BEGIN:DAYLIGHT
TZOFFSETFROM:-0600
TZOFFSETTO:-0500
TZNAME:CDT
DTSTART:20240310T080000
END:DAYLIGHT
BEGIN:STANDARD
TZOFFSETFROM:-0500
TZOFFSETTO:-0600
TZNAME:CST
DTSTART:20241103T070000
END:STANDARD
BEGIN:DAYLIGHT
TZOFFSETFROM:-0600
TZOFFSETTO:-0500
TZNAME:CDT
DTSTART:20250309T080000
END:DAYLIGHT
BEGIN:STANDARD
TZOFFSETFROM:-0500
TZOFFSETTO:-0600
TZNAME:CST
DTSTART:20251102T070000
END:STANDARD
END:VTIMEZONE
BEGIN:VEVENT
DTSTART;VALUE=DATE:20240210
DTEND;VALUE=DATE:20240211
DTSTAMP:20260422T171213
CREATED:20240206T132441Z
LAST-MODIFIED:20240206T132441Z
UID:10001848-1707523200-1707609599@arkansasoutside.com
SUMMARY:Ozark Society Day Hike - Dale Bumpers White River Refuge
DESCRIPTION:Dale Bumpers White River Refuge at Cooks Lake – 5 miles – easy. A new place for a hike. We will visit the Cook’s lake educational area and hike along the White and an Oxbow lake\, east of Stuttgart. Fairly flat\, we will connect some of the short trails to get at least 5 miles in. Meet at the Commuter lot off Shackleford N.B.\, just before 630 E.B.\, at 8am to carpool. Bring a lunch and water.
URL:https://arkansasoutside.com/event/ozark-society-day-hike-dale-bumpers-white-river-refuge-2/
LOCATION:Dale Bumpers White River Refuge\, Casco
CATEGORIES:Hiking/Backpacking/Camping
ATTACH;FMTTYPE=image/jpeg:https://arkansasoutside.com/wp-content/uploads/2024/02/330341300_1401916397277582_4141577715399672516_n-e1707225798472.jpg
END:VEVENT
BEGIN:VEVENT
DTSTART;VALUE=DATE:20240210
DTEND;VALUE=DATE:20240211
DTSTAMP:20260422T171213
CREATED:20240206T132441Z
LAST-MODIFIED:20240206T132441Z
UID:10000440-1707523200-1707609599@arkansasoutside.com
SUMMARY:Ozark Society Day Hike - Dale Bumpers White River Refuge
DESCRIPTION:Dale Bumpers White River Refuge at Cooks Lake – 5 miles – easy. A new place for a hike. We will visit the Cook’s lake educational area and hike along the White and an Oxbow lake\, east of Stuttgart. Fairly flat\, we will connect some of the short trails to get at least 5 miles in. Meet at the Commuter lot off Shackleford N.B.\, just before 630 E.B.\, at 8am to carpool. Bring a lunch and water.
URL:https://arkansasoutside.com/event/ozark-society-day-hike-dale-bumpers-white-river-refuge/
LOCATION:Dale Bumpers White River Refuge\, Casco
CATEGORIES:Hiking/Backpacking/Camping
ATTACH;FMTTYPE=image/jpeg:https://arkansasoutside.com/wp-content/uploads/2024/02/330341300_1401916397277582_4141577715399672516_n-e1707225798472.jpg
END:VEVENT
END:VCALENDAR