BEGIN:VCALENDAR
VERSION:2.0
PRODID:-//Arkansas Outside - ECPv6.15.20//NONSGML v1.0//EN
CALSCALE:GREGORIAN
METHOD:PUBLISH
X-ORIGINAL-URL:https://arkansasoutside.com
X-WR-CALDESC:Events for Arkansas Outside
REFRESH-INTERVAL;VALUE=DURATION:PT1H
X-Robots-Tag:noindex
X-PUBLISHED-TTL:PT1H
BEGIN:VTIMEZONE
TZID:America/Chicago
BEGIN:DAYLIGHT
TZOFFSETFROM:-0600
TZOFFSETTO:-0500
TZNAME:CDT
DTSTART:20220313T080000
END:DAYLIGHT
BEGIN:STANDARD
TZOFFSETFROM:-0500
TZOFFSETTO:-0600
TZNAME:CST
DTSTART:20221106T070000
END:STANDARD
BEGIN:DAYLIGHT
TZOFFSETFROM:-0600
TZOFFSETTO:-0500
TZNAME:CDT
DTSTART:20230312T080000
END:DAYLIGHT
BEGIN:STANDARD
TZOFFSETFROM:-0500
TZOFFSETTO:-0600
TZNAME:CST
DTSTART:20231105T070000
END:STANDARD
BEGIN:DAYLIGHT
TZOFFSETFROM:-0600
TZOFFSETTO:-0500
TZNAME:CDT
DTSTART:20240310T080000
END:DAYLIGHT
BEGIN:STANDARD
TZOFFSETFROM:-0500
TZOFFSETTO:-0600
TZNAME:CST
DTSTART:20241103T070000
END:STANDARD
END:VTIMEZONE
BEGIN:VEVENT
DTSTART;TZID=America/Chicago:20231021T100000
DTEND;TZID=America/Chicago:20231021T120000
DTSTAMP:20260424T201131
CREATED:20230405T121726Z
LAST-MODIFIED:20230405T121726Z
UID:10000113-1697882400-1697889600@arkansasoutside.com
SUMMARY:Devils Den Trail Race
DESCRIPTION:Description\n\n\n2023 will be the 12th year for the Devils Den Trail Race.  The Devils Den Trail Race is a trail run/race at Devils Den State Park directed by Extreme Events\, LLC.  There are three courses/distances.  The routes go over some of the recently improved mountain bike and hiking trails along Lee Creek.  All races will start in Camping Area A.  These will be updated soon\, but should be close to 3\, 5 and 9 miles. \nParking\nParking is available next to the creek across from the Yellow Rock trail trail head\, across the bridge and a few places in camping area A. \nStart Times\nAll races will start promptly at 10:00am (Notice the time change).  The awards will occur at 12:00\, or whenever all runners have returned.  We ask that runners chose the distance that allows them arrive at the finish within 2 hours. \nLocation\nMore details on Devils Den State Park are available here:  https://www.arkansasstateparks.com/parks/devils-den-state-park \nRegistration\nOnline registration end October 18.  There will be on-site registration.  T-shirts cannot be guaranteed after October 6th.
URL:https://arkansasoutside.com/event/devils-den-trail-race/
LOCATION:Devil’s Den State Park\, 11333 West Arkansas Hwy. 74\, West Fork\, AR\, 72774\, United States
CATEGORIES:Running (Trail & Road)
ATTACH;FMTTYPE=image/jpeg:https://arkansasoutside.com/wp-content/uploads/2023/04/race113179-social1200x630.bGW9Na.jpg
END:VEVENT
BEGIN:VEVENT
DTSTART;TZID=America/Chicago:20231021T100000
DTEND;TZID=America/Chicago:20231021T120000
DTSTAMP:20260424T201131
CREATED:20230405T121726Z
LAST-MODIFIED:20230405T121726Z
UID:10001543-1697882400-1697889600@arkansasoutside.com
SUMMARY:Devils Den Trail Race
DESCRIPTION:Description\n\n\n2023 will be the 12th year for the Devils Den Trail Race.  The Devils Den Trail Race is a trail run/race at Devils Den State Park directed by Extreme Events\, LLC.  There are three courses/distances.  The routes go over some of the recently improved mountain bike and hiking trails along Lee Creek.  All races will start in Camping Area A.  These will be updated soon\, but should be close to 3\, 5 and 9 miles. \nParking\nParking is available next to the creek across from the Yellow Rock trail trail head\, across the bridge and a few places in camping area A. \nStart Times\nAll races will start promptly at 10:00am (Notice the time change).  The awards will occur at 12:00\, or whenever all runners have returned.  We ask that runners chose the distance that allows them arrive at the finish within 2 hours. \nLocation\nMore details on Devils Den State Park are available here:  https://www.arkansasstateparks.com/parks/devils-den-state-park \nRegistration\nOnline registration end October 18.  There will be on-site registration.  T-shirts cannot be guaranteed after October 6th.
URL:https://arkansasoutside.com/event/devils-den-trail-race-2/
LOCATION:Devil’s Den State Park\, 11333 West Arkansas Hwy. 74\, West Fork\, AR\, 72774\, United States
CATEGORIES:Running (Trail & Road)
ATTACH;FMTTYPE=image/jpeg:https://arkansasoutside.com/wp-content/uploads/2023/04/race113179-social1200x630.bGW9Na.jpg
END:VEVENT
END:VCALENDAR