BEGIN:VCALENDAR
VERSION:2.0
PRODID:-//Arkansas Outside - ECPv6.15.20//NONSGML v1.0//EN
CALSCALE:GREGORIAN
METHOD:PUBLISH
X-ORIGINAL-URL:https://arkansasoutside.com
X-WR-CALDESC:Events for Arkansas Outside
REFRESH-INTERVAL;VALUE=DURATION:PT1H
X-Robots-Tag:noindex
X-PUBLISHED-TTL:PT1H
BEGIN:VTIMEZONE
TZID:America/Chicago
BEGIN:DAYLIGHT
TZOFFSETFROM:-0600
TZOFFSETTO:-0500
TZNAME:CDT
DTSTART:20230312T080000
END:DAYLIGHT
BEGIN:STANDARD
TZOFFSETFROM:-0500
TZOFFSETTO:-0600
TZNAME:CST
DTSTART:20231105T070000
END:STANDARD
BEGIN:DAYLIGHT
TZOFFSETFROM:-0600
TZOFFSETTO:-0500
TZNAME:CDT
DTSTART:20240310T080000
END:DAYLIGHT
BEGIN:STANDARD
TZOFFSETFROM:-0500
TZOFFSETTO:-0600
TZNAME:CST
DTSTART:20241103T070000
END:STANDARD
BEGIN:DAYLIGHT
TZOFFSETFROM:-0600
TZOFFSETTO:-0500
TZNAME:CDT
DTSTART:20250309T080000
END:DAYLIGHT
BEGIN:STANDARD
TZOFFSETFROM:-0500
TZOFFSETTO:-0600
TZNAME:CST
DTSTART:20251102T070000
END:STANDARD
BEGIN:DAYLIGHT
TZOFFSETFROM:-0600
TZOFFSETTO:-0500
TZNAME:CDT
DTSTART:20260308T080000
END:DAYLIGHT
BEGIN:STANDARD
TZOFFSETFROM:-0500
TZOFFSETTO:-0600
TZNAME:CST
DTSTART:20261101T070000
END:STANDARD
END:VTIMEZONE
BEGIN:VEVENT
DTSTART;TZID=America/Chicago:20241101T060000
DTEND;TZID=America/Chicago:20241101T170000
DTSTAMP:20260419T140307
CREATED:20240117T154951Z
LAST-MODIFIED:20240117T174250Z
UID:10000409-1730440800-1730480400@arkansasoutside.com
SUMMARY:Hare Mountain 100
DESCRIPTION:100 mile Friday November 1st-7am-Haw Creek Falls\n50 mile Saturday November 2nd-6am-Indian Creek TH\nThis run is extremely difficult.\nThe Ozark Highland’s Trail is a national scenic trail marked with white blazes for the main trail and blue blazes for spurs. Do not count on flagging. It will be minimal if any. We are going to add more blazes and reflective tape to those blazes. Please do not register for this race if you are not comfortable being self sufficient and comfortable with navigation. Sometimes trees with markers fall and sometimes the fog is so thick you cannot see your hands. Gaia is highly recommended.\nNo one finished the full\, original course the inaugural running October 2023. \nThe Hare Mountain 100 is a point-to-point 100 mile run\, that incorporates 2 scenic loops\, along the Ozark Highlands Trail in the Northwestern part of Arkansas across the Boston Mountain segment. Hare Mountain is the highest point on the OHT at nearly 2400 feet. This segment covers 164 miles of rocky\, steep and rugged forest with several creek crossings\, incredible fall colors\, waterfalls\, bluffs and beautiful sandstone outcrops. I’m utilizing 100 miles of the most difficult sections of this segment. I grew up on this trail and it means a lot to me to bring such a rugged and beautiful experience to runners. \nIn 2023 I offered a 100k and 50 mile at the same time as the 100. The 100k will be at a different time of year now. The 50 mile will be the second\, and more difficult\, half of the 100 course. It will start at Indian Creek TH at 6am on Saturday. The cutoff is 16 hours. \nTo run the 100\, it is highly recommended that you have completed at least a 50 mile race on trail with at least 5000 feet of vertical gain. Measurements taken by GPS and topographic mapping have put elevation gain between 20\,000-22\,000 feet. Runners will have 38 hours to complete the 100 mile run.\nRunners must sign a waiver when registering. There is also an option to donate $100 to the Ozark Highlands Trail Association.\nQuestions contact: haremountain100@gmail.com\nWebsite: https://www.haremountain100.com/\nPart of the proceeds of the race will go to local animal shelters.\nFollow:\nhttps://www.facebook.com/groups/216147591049546/\nhttps://www.instagram.com/haremountain100/
URL:https://arkansasoutside.com/event/hare-mountain-100-2/
LOCATION:Haw Creek Falls Recreation Area\, Hagarville\, AR\, 72839\, United States
CATEGORIES:Running (Trail & Road)
ATTACH;FMTTYPE=image/jpeg:https://arkansasoutside.com/wp-content/uploads/2024/01/ce5e1036-c376-477a-ad06-c0838c91c248.jpg
END:VEVENT
BEGIN:VEVENT
DTSTART;TZID=America/Chicago:20251024T050000
DTEND;TZID=America/Chicago:20251026T170000
DTSTAMP:20260419T140307
CREATED:20241203T231019Z
LAST-MODIFIED:20241203T231019Z
UID:10002253-1761282000-1761498000@arkansasoutside.com
SUMMARY:Hare Mountain 100
DESCRIPTION:The Hare Mountain 100 is a graduate level run. It is extremely difficult. Big climbs and relentless smaller\, steep climbs in between.\nThis trail is hiked by thousands of people every year. It’s not a primitive\, unmarked trail by any means. It is a National Scenic Trail.\nBut\, please do not sign up if you are not comfortable with:\n-being self sufficient\n-limited extra marking beyond trail blazes and wooden trail signs\n-navigation\n-carrying a little extra gear for your safety.\n-long distances between major aid stations\nA GPS tracking device with the course GPX downloaded is a requirement. It will be checked during check-in to make sure you have it. While the trail is marked very well with white blazes for the main trail and blue blazes for the spurs\, turns can be missed. Sometimes trees fall where the trail turns. Sometimes the tree with the blaze falls. Sometimes leaves cover the trail. Sometimes it’s foggy. It’s the wilderness. It’s a raw and incredible experience. Be confident you can stay/get back on course.\nThis is a point-to-point 100 mile adventure run that incorporates 2 scenic spur loops along the Ozark Highlands Trail. It is located in the Northwestern part of Arkansas across the Boston Mountain segment.\nHare Mountain is the highest point on the OHT at ~2400 feet. This segment covers 164 miles of rocky\, steep and rugged hardwood and pine forests. There are several creek crossings\, incredible fall colors\, waterfalls\, bluffs and beautiful sandstone outcrops. I’m utilizing 100 miles of the most difficult sections of this segment. I grew up on this trail. It means a lot to me to bring such a wild and challenging experience to runners.\nMeasurements taken by GPS and topographic mapping have put elevation gain between 20\,000-24\,400 feet. It depends on the device/app. Runners will have 38 hours to complete the 100 mile run.\nQuestions contact: haremountain100@gmail.com\nWebsite: https://www.haremountain100.com/\nPart of the proceeds of the race will go to local animal shelters\, a fund to help pay for after hours emergency veterinary care and the OHTA.\nFollow:\nhttps://www.facebook.com/groups/216147591049546/\nhttps://www.instagram.com/haremountain100 \nThe Trail \n\nhttps://www.fs.usda.gov/recarea/osfnf/recreation/hiking/recarea/?recid=43467&actid=50#:~:text=The%20Ozark%20Highlands%20Trail%20(OHT\,into%20the%20Sylamore%20Ranger%20District. \nThe 50 mile\nThe 50 mile is really hard as well but I strongly encourage it if you have not finished a trail 100 before.\nIt covers the second\, more difficult half\, of the 100 course. Elevation gain is between 10\,000 and 12\,000 feet depending on device/app.\nIt starts at 5am Saturday October 25th at Indian Creek TH on HWY 215. \nHare Mountain 200\nNext year\, 2025\, if it all comes together\, we’re expecting to start the Hare Mountain 200 the day before the 100 start. More details soon.
URL:https://arkansasoutside.com/event/hare-mountain-100-4/
LOCATION:Haw Creek Falls Recreation Area\, Hagarville\, AR\, 72839\, United States
CATEGORIES:Running (Trail & Road)
ATTACH;FMTTYPE=image/jpeg:https://arkansasoutside.com/wp-content/uploads/2024/01/ce5e1036-c376-477a-ad06-c0838c91c248.jpg
END:VEVENT
END:VCALENDAR