BEGIN:VCALENDAR
VERSION:2.0
PRODID:-//Arkansas Outside - ECPv6.15.20//NONSGML v1.0//EN
CALSCALE:GREGORIAN
METHOD:PUBLISH
X-WR-CALNAME:Arkansas Outside
X-ORIGINAL-URL:https://arkansasoutside.com
X-WR-CALDESC:Events for Arkansas Outside
REFRESH-INTERVAL;VALUE=DURATION:PT1H
X-Robots-Tag:noindex
X-PUBLISHED-TTL:PT1H
BEGIN:VTIMEZONE
TZID:America/Chicago
BEGIN:DAYLIGHT
TZOFFSETFROM:-0600
TZOFFSETTO:-0500
TZNAME:CDT
DTSTART:20220313T080000
END:DAYLIGHT
BEGIN:STANDARD
TZOFFSETFROM:-0500
TZOFFSETTO:-0600
TZNAME:CST
DTSTART:20221106T070000
END:STANDARD
BEGIN:DAYLIGHT
TZOFFSETFROM:-0600
TZOFFSETTO:-0500
TZNAME:CDT
DTSTART:20230312T080000
END:DAYLIGHT
BEGIN:STANDARD
TZOFFSETFROM:-0500
TZOFFSETTO:-0600
TZNAME:CST
DTSTART:20231105T070000
END:STANDARD
BEGIN:DAYLIGHT
TZOFFSETFROM:-0600
TZOFFSETTO:-0500
TZNAME:CDT
DTSTART:20240310T080000
END:DAYLIGHT
BEGIN:STANDARD
TZOFFSETFROM:-0500
TZOFFSETTO:-0600
TZNAME:CST
DTSTART:20241103T070000
END:STANDARD
END:VTIMEZONE
BEGIN:VEVENT
DTSTART;TZID=America/Chicago:20231123T080000
DTEND;TZID=America/Chicago:20231123T100000
DTSTAMP:20260421T205309
CREATED:20231025T173952Z
LAST-MODIFIED:20231025T173952Z
UID:10001739-1700726400-1700733600@arkansasoutside.com
SUMMARY:Ken Freeman Huff\, Puff\, then Stuff 5K
DESCRIPTION:Earn that Thanksgiving Day stuffing by bringing the whole family out to participate in the Thanksgiving morning turkey trot 5K in scenic and historic Hot Springs National Park\, Arkansas. The race takes place on the Hot Springs Greenway\, starting and ending at the Transportation Depot. All participants will receive a long sleeve tech shirt and a finisher’s medal.
URL:https://arkansasoutside.com/event/ken-freeman-huff-puff-then-stuff-5k-2/
LOCATION:Greyhound Bus Station\, 100 Broadway Terrace\, Hot Springs National Park\, 71901\, United States
CATEGORIES:Running (Trail & Road)
ATTACH;FMTTYPE=image/jpeg:https://arkansasoutside.com/wp-content/uploads/2023/10/race81254-logo.jpg
END:VEVENT
BEGIN:VEVENT
DTSTART;TZID=America/Chicago:20231123T080000
DTEND;TZID=America/Chicago:20231123T100000
DTSTAMP:20260421T205309
CREATED:20231025T173952Z
LAST-MODIFIED:20231025T173952Z
UID:10000319-1700726400-1700733600@arkansasoutside.com
SUMMARY:Ken Freeman Huff\, Puff\, then Stuff 5K
DESCRIPTION:Earn that Thanksgiving Day stuffing by bringing the whole family out to participate in the Thanksgiving morning turkey trot 5K in scenic and historic Hot Springs National Park\, Arkansas. The race takes place on the Hot Springs Greenway\, starting and ending at the Transportation Depot. All participants will receive a long sleeve tech shirt and a finisher’s medal.
URL:https://arkansasoutside.com/event/ken-freeman-huff-puff-then-stuff-5k/
LOCATION:Greyhound Bus Station\, 100 Broadway Terrace\, Hot Springs National Park\, 71901\, United States
CATEGORIES:Running (Trail & Road)
ATTACH;FMTTYPE=image/jpeg:https://arkansasoutside.com/wp-content/uploads/2023/10/race81254-logo.jpg
END:VEVENT
END:VCALENDAR