BEGIN:VCALENDAR
VERSION:2.0
PRODID:-//Arkansas Outside - ECPv6.15.20//NONSGML v1.0//EN
CALSCALE:GREGORIAN
METHOD:PUBLISH
X-WR-CALNAME:Arkansas Outside
X-ORIGINAL-URL:https://arkansasoutside.com
X-WR-CALDESC:Events for Arkansas Outside
REFRESH-INTERVAL;VALUE=DURATION:PT1H
X-Robots-Tag:noindex
X-PUBLISHED-TTL:PT1H
BEGIN:VTIMEZONE
TZID:America/Chicago
BEGIN:DAYLIGHT
TZOFFSETFROM:-0600
TZOFFSETTO:-0500
TZNAME:CDT
DTSTART:20230312T080000
END:DAYLIGHT
BEGIN:STANDARD
TZOFFSETFROM:-0500
TZOFFSETTO:-0600
TZNAME:CST
DTSTART:20231105T070000
END:STANDARD
BEGIN:DAYLIGHT
TZOFFSETFROM:-0600
TZOFFSETTO:-0500
TZNAME:CDT
DTSTART:20240310T080000
END:DAYLIGHT
BEGIN:STANDARD
TZOFFSETFROM:-0500
TZOFFSETTO:-0600
TZNAME:CST
DTSTART:20241103T070000
END:STANDARD
BEGIN:DAYLIGHT
TZOFFSETFROM:-0600
TZOFFSETTO:-0500
TZNAME:CDT
DTSTART:20250309T080000
END:DAYLIGHT
BEGIN:STANDARD
TZOFFSETFROM:-0500
TZOFFSETTO:-0600
TZNAME:CST
DTSTART:20251102T070000
END:STANDARD
END:VTIMEZONE
BEGIN:VEVENT
DTSTART;TZID=America/Chicago:20241005T080000
DTEND;TZID=America/Chicago:20241005T170000
DTSTAMP:20260424T225009
CREATED:20240709T211544Z
LAST-MODIFIED:20240709T211544Z
UID:10001398-1728115200-1728147600@arkansasoutside.com
SUMMARY:Ouachita Gran Fondo for Families
DESCRIPTION:Website: ouachitagranfondoforfamilies.com \nFacebook: https://www.facebook.com/Ouachita-Gran-Fondo-for-Families-101570702291725 \nLong course: https://ridewithgps.com/routes/42051799 \nShort course: https://ridewithgps.com/routes/42000411
URL:https://arkansasoutside.com/event/ouachita-gran-fondo-for-families-2/
LOCATION:Malvern Ave.\, 302 Malvern Ave\, Hot Springs\, 71901\, United States
CATEGORIES:Cycling (Road & Mountain)
ATTACH;FMTTYPE=image/png:https://arkansasoutside.com/wp-content/uploads/2024/07/754a7723-6581-429d-84d9-115954f526f1-1.png
END:VEVENT
END:VCALENDAR