BEGIN:VCALENDAR
VERSION:2.0
PRODID:-//Arkansas Outside - ECPv6.15.20//NONSGML v1.0//EN
CALSCALE:GREGORIAN
METHOD:PUBLISH
X-ORIGINAL-URL:https://arkansasoutside.com
X-WR-CALDESC:Events for Arkansas Outside
REFRESH-INTERVAL;VALUE=DURATION:PT1H
X-Robots-Tag:noindex
X-PUBLISHED-TTL:PT1H
BEGIN:VTIMEZONE
TZID:America/Chicago
BEGIN:DAYLIGHT
TZOFFSETFROM:-0600
TZOFFSETTO:-0500
TZNAME:CDT
DTSTART:20230312T080000
END:DAYLIGHT
BEGIN:STANDARD
TZOFFSETFROM:-0500
TZOFFSETTO:-0600
TZNAME:CST
DTSTART:20231105T070000
END:STANDARD
BEGIN:DAYLIGHT
TZOFFSETFROM:-0600
TZOFFSETTO:-0500
TZNAME:CDT
DTSTART:20240310T080000
END:DAYLIGHT
BEGIN:STANDARD
TZOFFSETFROM:-0500
TZOFFSETTO:-0600
TZNAME:CST
DTSTART:20241103T070000
END:STANDARD
BEGIN:DAYLIGHT
TZOFFSETFROM:-0600
TZOFFSETTO:-0500
TZNAME:CDT
DTSTART:20250309T080000
END:DAYLIGHT
BEGIN:STANDARD
TZOFFSETFROM:-0500
TZOFFSETTO:-0600
TZNAME:CST
DTSTART:20251102T070000
END:STANDARD
END:VTIMEZONE
BEGIN:VEVENT
DTSTART;TZID=America/Chicago:20241123T130000
DTEND;TZID=America/Chicago:20241123T170000
DTSTAMP:20260419T140213
CREATED:20241106T195106Z
LAST-MODIFIED:20241106T195106Z
UID:10002222-1732366800-1732381200@arkansasoutside.com
SUMMARY:OZ Kids™ GRIT Crit at Bentonville Enduro
DESCRIPTION:Introducing the OZ Kids™ GRIT Crit – a bike race carved through the fields off Price Coffee Road for kids ages 2 -10. This event will be a fall fueled fun fest. It will be EPIC! \nRace categories: \n\n\n\n\n\n\n\n\n\n\nBalance Bike Ages 2-3 \n\n\nBalance Bike Ages 4-6 \n\n\nPedal Bike Ages 3-4 \n\n\n\n\n\n\n\n\n\n\n\n\nPedal Bike Ages 5-6\, Girls \n\n\nPedal Bike Ages 5-6\, Boys \n\n\nPedal Bike Ages 7-8\, Girls \n\n\n\n\n\n\n\n\n\n\n\n\nPedal Bike Ages 7-8\, Boys \n\n\nPedal Bike Ages 9-10\, Girls \n\n\nPedal Bike Ages 9-10\, Boys \n\n\nEach racer will get a numbered race plate with a timing chip…because they are LEGIT…and a totally rad medal. The top three times in each category will stand on a podium and collect their prize! \nFestivities will be in the Price Coffee field directly across from the Valley View School House. Registration is required for all racers. Space for the race is limited. Race fee is $20.
URL:https://arkansasoutside.com/event/oz-kids-grit-crit-at-bentonville-enduro/
LOCATION:Price Coffee Field\, 3100 Price Coffee Rd\, Bentonville\, 72712\, United States
CATEGORIES:Cycling (Road & Mountain)
ATTACH;FMTTYPE=image/png:https://arkansasoutside.com/wp-content/uploads/2024/11/e4c4e98b-c3fe-40b9-9297-02d93eeaac42-1.png
END:VEVENT
END:VCALENDAR