BEGIN:VCALENDAR
VERSION:2.0
PRODID:-//Arkansas Outside - ECPv6.15.20//NONSGML v1.0//EN
CALSCALE:GREGORIAN
METHOD:PUBLISH
X-WR-CALNAME:Arkansas Outside
X-ORIGINAL-URL:https://arkansasoutside.com
X-WR-CALDESC:Events for Arkansas Outside
REFRESH-INTERVAL;VALUE=DURATION:PT1H
X-Robots-Tag:noindex
X-PUBLISHED-TTL:PT1H
BEGIN:VTIMEZONE
TZID:America/Chicago
BEGIN:DAYLIGHT
TZOFFSETFROM:-0600
TZOFFSETTO:-0500
TZNAME:CDT
DTSTART:20230312T080000
END:DAYLIGHT
BEGIN:STANDARD
TZOFFSETFROM:-0500
TZOFFSETTO:-0600
TZNAME:CST
DTSTART:20231105T070000
END:STANDARD
BEGIN:DAYLIGHT
TZOFFSETFROM:-0600
TZOFFSETTO:-0500
TZNAME:CDT
DTSTART:20240310T080000
END:DAYLIGHT
BEGIN:STANDARD
TZOFFSETFROM:-0500
TZOFFSETTO:-0600
TZNAME:CST
DTSTART:20241103T070000
END:STANDARD
BEGIN:DAYLIGHT
TZOFFSETFROM:-0600
TZOFFSETTO:-0500
TZNAME:CDT
DTSTART:20250309T080000
END:DAYLIGHT
BEGIN:STANDARD
TZOFFSETFROM:-0500
TZOFFSETTO:-0600
TZNAME:CST
DTSTART:20251102T070000
END:STANDARD
BEGIN:DAYLIGHT
TZOFFSETFROM:-0600
TZOFFSETTO:-0500
TZNAME:CDT
DTSTART:20260308T080000
END:DAYLIGHT
BEGIN:STANDARD
TZOFFSETFROM:-0500
TZOFFSETTO:-0600
TZNAME:CST
DTSTART:20261101T070000
END:STANDARD
END:VTIMEZONE
BEGIN:VEVENT
DTSTART;TZID=America/Chicago:20251018T090000
DTEND;TZID=America/Chicago:20251018T160000
DTSTAMP:20260419T122850
CREATED:20250919T200105Z
LAST-MODIFIED:20250919T200105Z
UID:10002553-1760778000-1760803200@arkansasoutside.com
SUMMARY:Pedestal Rock Road Ride & Lick Fork Gravel Grind
DESCRIPTION:This year’s event is limited to the first 100 riders to ensure that we provide the best experience for every single rider. \nNOTE FOR LICK FORK METRIC CENTURY (62-MILE) GRAVEL RIDE: We will not be able to post signs along the entire route\, so you will need to be able to download the route to your bike computer for directions. If you do not have that capability\, please do NOT register for this particular route. We will have signs along the 30- and 50-mile routes\, and there is some overlap of the courses\, but the roads that are specific to the metric century gravel ride will not be marked. \nNOTE FOR LONGER RIDES (road or gravel): If you want to start early\, you are welcome to do so. Just let us know when you leave so that we know when to expect you back to the community center. \nNOTE FOR SHORTER RIDES: The start time for the 10-mile road ride and the 16-mile gravel ride is 9:30 a.m. instead of 9:00 a.m.
URL:https://arkansasoutside.com/event/pedestal-rock-road-ride-lick-fork-gravel-grind-4/
LOCATION:Witt Springs Visitor Center\, 196 AR-16\, Witt Springs\, 72686\, United States
CATEGORIES:Cycling (Road & Mountain)
ATTACH;FMTTYPE=image/png:https://arkansasoutside.com/wp-content/uploads/2024/07/1cc01438-522a-47ae-892a-08d8fa8feffb-2.png
END:VEVENT
BEGIN:VEVENT
DTSTART;VALUE=DATE:20240406
DTEND;VALUE=DATE:20240409
DTSTAMP:20260419T122850
CREATED:20231006T125639Z
LAST-MODIFIED:20231006T125639Z
UID:10001718-1712361600-1712620799@arkansasoutside.com
SUMMARY:Boston Mountain Eclipse Challenge
DESCRIPTION:This is a gravel cycling event incorporating some fun “challenges” along the 50-mile route. The event includes; entertainment\, free tent camping\, showers\, bathrooms\, 5 or 6 meals (depending on if you arrive Saturday night or Sunday morning)\, support stops\, activities\, and prime eclipse viewing with viewing glasses. \nForm a team of 4 people and cycle to five designated locations where each member of the team is required to complete a challenge before cycling to the next location/challenge. The route is 50 miles of mostly gravel roads. Your team will be responsible for downloading the route map. No signs will be posted. \nSaturday\, 4-6-24: Teams or individual members can arrive and camp the night before the event. Dinner will be provided. \nSunday\, 4-7-24  \n8:00 AM: Breakfast & challenge rules \n9:00 AM: Challenge begins. (A sack lunch will be provided at the Snowball Store for riders to eat or take with them.) \nFollowing finish: Dinner will be provided\, and awards & shirts will be distributed. This event is BYOB\, but we are working on having some iced-down beverages available. Music in the gym will be provided by local artists. \nMonday\, 4-8-24: Breakfast\, a possible trip to see waterfalls (depending on water flow)\, lunch\, and THE ECLIPSE! (Eclipse glasses will be provided.) \nhttps://wittssprings.org/2024-eclipse-event
URL:https://arkansasoutside.com/event/boston-mountain-eclipse-challenge-2/
LOCATION:Witt Springs Visitor Center\, 196 AR-16\, Witt Springs\, 72686\, United States
CATEGORIES:Cycling (Road & Mountain)
ATTACH;FMTTYPE=image/jpeg:https://arkansasoutside.com/wp-content/uploads/2023/10/800_color-vertical-154700-112655-1.jpg
END:VEVENT
BEGIN:VEVENT
DTSTART;VALUE=DATE:20240406
DTEND;VALUE=DATE:20240409
DTSTAMP:20260419T122850
CREATED:20231006T125639Z
LAST-MODIFIED:20240221T160600Z
UID:10000298-1712361600-1712620799@arkansasoutside.com
SUMMARY:Boston Mountain Eclipse Challenge
DESCRIPTION:This is a gravel cycling event incorporating some fun “challenges” along the 50-mile route. The event includes; entertainment\, free tent camping\, showers\, bathrooms\, 5 or 6 meals (depending on if you arrive Saturday night or Sunday morning)\, support stops\, activities\, and prime eclipse viewing with viewing glasses. \nForm a team of 4 people and cycle to five designated locations where each member of the team is required to complete a challenge before cycling to the next location/challenge. The route is 50 miles of mostly gravel roads. Your team will be responsible for downloading the route map. No signs will be posted. \nSaturday\, 4-6-24: Teams or individual members can arrive and camp the night before the event. Dinner will be provided. \nSunday\, 4-7-24  \n8:00 AM: Breakfast & challenge rules \n9:00 AM: Challenge begins. (A sack lunch will be provided at the Snowball Store for riders to eat or take with them.) \nFollowing finish: Dinner will be provided\, and awards & shirts will be distributed. This event is BYOB\, but we are working on having some iced-down beverages available. Music in the gym will be provided by local artists. \nMonday\, 4-8-24: Breakfast\, a possible trip to see waterfalls (depending on water flow)\, lunch\, and THE ECLIPSE! (Eclipse glasses will be provided.) \nhttps://wittssprings.org/2024-eclipse-event
URL:https://arkansasoutside.com/event/boston-mountain-eclipse-challenge/
LOCATION:Witt Springs Visitor Center\, 196 AR-16\, Witt Springs\, 72686\, United States
CATEGORIES:Cycling (Road & Mountain)
ATTACH;FMTTYPE=image/jpeg:https://arkansasoutside.com/wp-content/uploads/2023/10/800_color-vertical-154700-112655-1.jpg
END:VEVENT
END:VCALENDAR